From mboxrd@z Thu Jan  1 00:00:00 1970
Return-Path: <test-report-bounces@dpdk.org>
Received: from mails.dpdk.org (mails.dpdk.org [217.70.189.124])
	by inbox.dpdk.org (Postfix) with ESMTP id 96B6543D56
	for <public@inbox.dpdk.org>; Tue, 26 Mar 2024 17:47:30 +0100 (CET)
Received: from mails.dpdk.org (localhost [127.0.0.1])
	by mails.dpdk.org (Postfix) with ESMTP id 820FF40ED6;
	Tue, 26 Mar 2024 17:47:30 +0100 (CET)
Received: from mail-pl1-f227.google.com (mail-pl1-f227.google.com
 [209.85.214.227])
 by mails.dpdk.org (Postfix) with ESMTP id 34FCA4013F
 for <test-report@dpdk.org>; Tue, 26 Mar 2024 17:47:22 +0100 (CET)
Received: by mail-pl1-f227.google.com with SMTP id
 d9443c01a7336-1e0f0398553so7982765ad.3
 for <test-report@dpdk.org>; Tue, 26 Mar 2024 09:47:22 -0700 (PDT)
DKIM-Signature: v=1; a=rsa-sha256; c=relaxed/relaxed;
 d=iol.unh.edu; s=unh-iol; t=1711471641; x=1712076441; darn=dpdk.org;
 h=references:in-reply-to:cc:to:from:subject:message-id:date:from:to
 :cc:subject:date:message-id:reply-to;
 bh=FQLsdjtekh8llndNm+U9wd4Cn0bHMbFMKKVPxgv0Mw0=;
 b=KMuZyuOLvbesk9brWJGAxk9jPz+QB7aH2ZgMbZME5ssn+HkBkFA9hKzj39nPK+p0Yo
 MBfLBAcHwf4z9zyb2DuqCzNxLA7QrRL/8nSkfRyRkaNIxzWhH0XEtoOBIZuX28XvzAvX
 n03pzlUN3uEQYQSKNEvlPV1LPqWWu2UbPBcKU=
X-Google-DKIM-Signature: v=1; a=rsa-sha256; c=relaxed/relaxed;
 d=1e100.net; s=20230601; t=1711471641; x=1712076441;
 h=references:in-reply-to:cc:to:from:subject:message-id:date
 :x-gm-message-state:from:to:cc:subject:date:message-id:reply-to;
 bh=FQLsdjtekh8llndNm+U9wd4Cn0bHMbFMKKVPxgv0Mw0=;
 b=iet6IUi0Es5ri10t4aXITg+vULu6+Pm/NrYUABZGKhjNpYsy6WMdlJKBjKpcSsXawH
 QVJh16n5NovCyvVaqygHL0zqgyeDn5f+cSlcytI1yMI1G5wq2QTH/HupJiIz6qaO7eAv
 g1CpIH5xX2sZ0MUSFI3N5A781iw9iIWaogDUuEA1xZrqLmBoD4nmFg5gMNoTe1VSc9li
 07voaRdE2P0D3Fs6qqkNZtKinVMGZVAr/BCtT/dJMh6XwBtAYrbkxbjVBM3u+1sga/ev
 wK4XlgB1uCHnxVxamqB4WTchstGQ/p1/KbuuSC3Kap4rpGrprzJ3LA8f2B8RwV6Wc/tL
 pZUA==
X-Gm-Message-State: AOJu0YyXApQiZ39VCozBj3dKwDiZH5NyafiMX1LOG5MGRBqMyGMYtIvC
 zevRlZY0zx9S7CMHKJZXuGj+X6aM/L9TdVMU2deNpclMezV0MsG6RcJq49C6oSREet8FItfCdhw
 5KG4VqZSbeqrM3UlPet6ze/RaqJWJrBrL4uC7uoN2cS2iMYB/G4C+JKP5
X-Google-Smtp-Source: AGHT+IGf98B+l3jejGHQfVUzltF8cRDWeGkBwSh5IniUYk7MHH+T+BZJX3mmg7+UW90zimch/3Z+5hKy8wDx
X-Received: by 2002:a17:902:f70d:b0:1dc:e24a:c4d8 with SMTP id
 h13-20020a170902f70d00b001dce24ac4d8mr14819991plo.32.1711471641467; 
 Tue, 26 Mar 2024 09:47:21 -0700 (PDT)
Received: from postal.iol.unh.edu (postal.iol.unh.edu.
 [2606:4100:3880:1234::84]) by smtp-relay.gmail.com with ESMTPS id
 la13-20020a170902fa0d00b001e0af9963fesm198930plb.111.2024.03.26.09.47.21
 (version=TLS1_2 cipher=ECDHE-ECDSA-AES128-GCM-SHA256 bits=128/128);
 Tue, 26 Mar 2024 09:47:21 -0700 (PDT)
X-Relaying-Domain: iol.unh.edu
Date: Tue, 26 Mar 2024 09:47:21 -0700 (PDT)
Message-ID: <6602fc19.170a0220.4dc0e.1b80SMTPIN_ADDED_MISSING@mx.google.com>
Received: from [172.17.0.7] (unknown [172.18.0.217])
 by postal.iol.unh.edu (Postfix) with ESMTP id 83EDB6052471;
 Tue, 26 Mar 2024 12:47:20 -0400 (EDT)
Subject: |SUCCESS| pw138811 [PATCH] [v2] graph: avoid id collisions
From: dpdklab@iol.unh.edu
To: Test Report <test-report@dpdk.org>
Cc: dpdk-test-reports@iol.unh.edu
In-Reply-To: <20240326154936.1132201-1-rjarry@redhat.com>
References: <20240326154936.1132201-1-rjarry@redhat.com>
Content-Type: text/plain
X-BeenThere: test-report@dpdk.org
X-Mailman-Version: 2.1.29
Precedence: list
List-Id: automatic DPDK test reports <test-report.dpdk.org>
List-Unsubscribe: <https://mails.dpdk.org/options/test-report>,
 <mailto:test-report-request@dpdk.org?subject=unsubscribe>
List-Archive: <http://mails.dpdk.org/archives/test-report/>
List-Post: <mailto:test-report@dpdk.org>
List-Help: <mailto:test-report-request@dpdk.org?subject=help>
List-Subscribe: <https://mails.dpdk.org/listinfo/test-report>,
 <mailto:test-report-request@dpdk.org?subject=subscribe>
Errors-To: test-report-bounces@dpdk.org

Test-Label: iol-compile-amd64-testing
Test-Status: SUCCESS
http://dpdk.org/patch/138811

_Testing PASS_

Submitter: Robin Jarry <rjarry@redhat.com>
Date: Tuesday, March 26 2024 15:49:36 
DPDK git baseline: Repo:dpdk
  Branch: master
  CommitID:ded4d4765171b88470e59307f10625e942f22fca

138811 --> testing pass

Test environment and result as below:

+---------------------+--------------------+----------------------+-------------------+
|     Environment     | dpdk_meson_compile | dpdk_mingw64_compile | dpdk_msvc_compile |
+=====================+====================+======================+===================+
| CentOS Stream 8     | PASS               | SKIPPED              | SKIPPED           |
+---------------------+--------------------+----------------------+-------------------+
| FreeBSD 13.2        | PASS               | SKIPPED              | SKIPPED           |
+---------------------+--------------------+----------------------+-------------------+
| Windows Server 2022 | PASS               | PASS                 | PASS              |
+---------------------+--------------------+----------------------+-------------------+
| CentOS Stream 9     | PASS               | SKIPPED              | SKIPPED           |
+---------------------+--------------------+----------------------+-------------------+
| Debian Bullseye     | PASS               | SKIPPED              | SKIPPED           |
+---------------------+--------------------+----------------------+-------------------+
| Debian 11 (arm)     | PASS               | SKIPPED              | SKIPPED           |
+---------------------+--------------------+----------------------+-------------------+
| Windows Server 2019 | PASS               | PASS                 | SKIPPED           |
+---------------------+--------------------+----------------------+-------------------+
| Fedora 37           | PASS               | SKIPPED              | SKIPPED           |
+---------------------+--------------------+----------------------+-------------------+
| Ubuntu 20.04        | PASS               | SKIPPED              | SKIPPED           |
+---------------------+--------------------+----------------------+-------------------+
| Ubuntu 22.04        | PASS               | SKIPPED              | SKIPPED           |
+---------------------+--------------------+----------------------+-------------------+
| RHEL8               | PASS               | SKIPPED              | SKIPPED           |
+---------------------+--------------------+----------------------+-------------------+
| Fedora 38           | PASS               | SKIPPED              | SKIPPED           |
+---------------------+--------------------+----------------------+-------------------+


CentOS Stream 8
	Kernel: 5.4.0-167-generic
	Compiler: gcc 8.5.0 20210514

FreeBSD 13.2
	Kernel: 13.2
	Compiler: clang 14.0.5

Windows Server 2022
	Kernel: 10.0.20348.2031
	Compiler: clang 15.0.7, gcc 8.1.0 (MinGW), and MSVC VS 17.9

CentOS Stream 9
	Kernel: 5.4.0-167-generic
	Compiler: gcc 11.4.1 20230605

Debian Bullseye
	Kernel: 5.4.0-167-generic
	Compiler: gcc 10.2.1-6

Debian 11 (arm)
	Kernel: Container Host Kernel
	Compiler: gcc 10.2.1

Windows Server 2019
	Kernel: 10.0.17763
	Compiler: clang 14.0 and gcc 8.1.0 (MinGW)

Fedora 37
	Kernel: Depends on container host system
	Compiler: gcc 12.3.1

Ubuntu 20.04
	Kernel: 5.4.0-167-generic
	Compiler: gcc 9.4.0-1ubuntu1~20.04.1

Ubuntu 22.04
	Kernel: 5.4.0-167-generic
	Compiler: gcc 11.4.0

RHEL8
	Kernel: 5.4.0-167-generic
	Compiler: gcc 8.5.0 20210514 (Red Hat 8.5.0-20)

Fedora 38
	Kernel: Depends on container host
	Compiler: gcc 13.2.1

To view detailed results, visit:
https://lab.dpdk.org/results/dashboard/patchsets/29657/

UNH-IOL DPDK Community Lab

To manage your email subscriptions, visit: 
https://lab.dpdk.org/results/dashboard/preferences/subscriptions/