From mboxrd@z Thu Jan  1 00:00:00 1970
Return-Path: <test-report-bounces@dpdk.org>
Received: from mails.dpdk.org (mails.dpdk.org [217.70.189.124])
	by inbox.dpdk.org (Postfix) with ESMTP id A009C43D56
	for <public@inbox.dpdk.org>; Tue, 26 Mar 2024 17:50:13 +0100 (CET)
Received: from mails.dpdk.org (localhost [127.0.0.1])
	by mails.dpdk.org (Postfix) with ESMTP id 94FE840E72;
	Tue, 26 Mar 2024 17:50:13 +0100 (CET)
Received: from mail-qt1-f228.google.com (mail-qt1-f228.google.com
 [209.85.160.228])
 by mails.dpdk.org (Postfix) with ESMTP id CF2A44013F
 for <test-report@dpdk.org>; Tue, 26 Mar 2024 17:50:00 +0100 (CET)
Received: by mail-qt1-f228.google.com with SMTP id
 d75a77b69052e-430b74c17aaso42181151cf.3
 for <test-report@dpdk.org>; Tue, 26 Mar 2024 09:50:00 -0700 (PDT)
DKIM-Signature: v=1; a=rsa-sha256; c=relaxed/relaxed;
 d=iol.unh.edu; s=unh-iol; t=1711471800; x=1712076600; darn=dpdk.org;
 h=references:in-reply-to:cc:to:from:subject:message-id:date:from:to
 :cc:subject:date:message-id:reply-to;
 bh=etM/H4/tPS5LQjq9zjI0gA6VpbzH1AgOc8KRcPsGf08=;
 b=CVQszrxJ3VnDpPvSW6U6IRZOpfqayxU/j+b6VQrBVFTnO8iV23+ajBAtQvAXrHf5D/
 1QlHTXILWLmTsa5xJYO+xUrR6vpxrjC8myvDbmXHLNEf0BG3V2jz6wjikqeaoUQIU76j
 nA438imRB1Z5T/kzqiOInY/WBf6KviFKQWxWo=
X-Google-DKIM-Signature: v=1; a=rsa-sha256; c=relaxed/relaxed;
 d=1e100.net; s=20230601; t=1711471800; x=1712076600;
 h=references:in-reply-to:cc:to:from:subject:message-id:date
 :x-gm-message-state:from:to:cc:subject:date:message-id:reply-to;
 bh=etM/H4/tPS5LQjq9zjI0gA6VpbzH1AgOc8KRcPsGf08=;
 b=u3PHs+04a+5a4XQ180rkkrHeCM/AiMY+8L4RwIuy0Pjeml5kc0nYgaRFJP2bSezrmB
 km96DioQEnyaPE993jti8cXFrmGuvB2ZAFn5PZSEFrQnLDN0FSAhqLN3LopiN4g+TZj1
 yeN35mVC+X1dj2+S3NhjJGj5OvfmSPCPOztX/BbmhgqHcbJpnI26sh+41T8LhpMG7Q4D
 Znz104b74uSDsWiqSOQy7+ZaTXcN/dy1elO8Y4u9VLeC1DOl0azB2pdonbmcWHZvWLzQ
 J0HsZ1X0W/j97f655CDiUUvfka36nOLPmma2mSN7lbvLuilWVJgjO2YqSjEEeuwCCKGW
 +9ZQ==
X-Gm-Message-State: AOJu0YwHuRKFCLzSaCZaBXBw1CW7FqRZqyJIBX1ECK3ZdRnVUpLFI7OP
 NxcC+Dis1+kBGkNpdZRcYrot49a68Be33rwZiPmNIt63Yr5sH80kXwMzD1nNCvn9I/kWI/M4SBx
 7hboTrpAwywtygWKwyxj2f4MDdXSjAkqh79SHy4QO
X-Google-Smtp-Source: AGHT+IErqcJcGJaPiwvxCNfnQ6WlqfL4odTCcW1/JqlsiKdfav+iXIdvYE06NmhwoN/z/XGDbyxAY6agKZBy
X-Received: by 2002:a05:6214:19c7:b0:692:fa66:9d5d with SMTP id
 j7-20020a05621419c700b00692fa669d5dmr186070qvc.18.1711471800310; 
 Tue, 26 Mar 2024 09:50:00 -0700 (PDT)
Received: from postal.iol.unh.edu (postal.iol.unh.edu. [132.177.123.84])
 by smtp-relay.gmail.com with ESMTPS id
 r6-20020a056214124600b00690b663a1c7sm683589qvv.28.2024.03.26.09.50.00
 (version=TLS1_2 cipher=ECDHE-ECDSA-AES128-GCM-SHA256 bits=128/128);
 Tue, 26 Mar 2024 09:50:00 -0700 (PDT)
X-Relaying-Domain: iol.unh.edu
Date: Tue, 26 Mar 2024 09:50:00 -0700 (PDT)
Message-ID: <6602fcb8.050a0220.0ce4.c674SMTPIN_ADDED_MISSING@mx.google.com>
Received: from [172.17.0.6] (unknown [172.18.0.217])
 by postal.iol.unh.edu (Postfix) with ESMTP id 0EAC96052471;
 Tue, 26 Mar 2024 12:50:00 -0400 (EDT)
Subject: |SUCCESS| pw138811 [PATCH] [v2] graph: avoid id collisions
From: dpdklab@iol.unh.edu
To: Test Report <test-report@dpdk.org>
Cc: dpdk-test-reports@iol.unh.edu
In-Reply-To: <20240326154936.1132201-1-rjarry@redhat.com>
References: <20240326154936.1132201-1-rjarry@redhat.com>
Content-Type: text/plain
X-BeenThere: test-report@dpdk.org
X-Mailman-Version: 2.1.29
Precedence: list
List-Id: automatic DPDK test reports <test-report.dpdk.org>
List-Unsubscribe: <https://mails.dpdk.org/options/test-report>,
 <mailto:test-report-request@dpdk.org?subject=unsubscribe>
List-Archive: <http://mails.dpdk.org/archives/test-report/>
List-Post: <mailto:test-report@dpdk.org>
List-Help: <mailto:test-report-request@dpdk.org?subject=help>
List-Subscribe: <https://mails.dpdk.org/listinfo/test-report>,
 <mailto:test-report-request@dpdk.org?subject=subscribe>
Errors-To: test-report-bounces@dpdk.org

Test-Label: iol-compile-arm64-testing
Test-Status: SUCCESS
http://dpdk.org/patch/138811

_Testing PASS_

Submitter: Robin Jarry <rjarry@redhat.com>
Date: Tuesday, March 26 2024 15:49:36 
DPDK git baseline: Repo:dpdk
  Branch: master
  CommitID:ded4d4765171b88470e59307f10625e942f22fca

138811 --> testing pass

Test environment and result as below:

+----------------------------------------+--------------------+
|              Environment               | dpdk_meson_compile |
+========================================+====================+
| Debian 12 with MUSDK                   | PASS               |
+----------------------------------------+--------------------+
| Ubuntu 20.04 ARM SVE                   | PASS               |
+----------------------------------------+--------------------+
| CentOS Stream 9 (ARM)                  | PASS               |
+----------------------------------------+--------------------+
| Fedora 37 (ARM)                        | PASS               |
+----------------------------------------+--------------------+
| Ubuntu 20.04 (ARM)                     | PASS               |
+----------------------------------------+--------------------+
| Debian 11 (Buster) (ARM)               | PASS               |
+----------------------------------------+--------------------+
| Debian 12 (arm)                        | PASS               |
+----------------------------------------+--------------------+
| Fedora 38 (ARM)                        | PASS               |
+----------------------------------------+--------------------+
| Ubuntu 20.04 ARM GCC Cross Compile     | PASS               |
+----------------------------------------+--------------------+
| Ubuntu 20.04 aarch32 GCC Cross Compile | PASS               |
+----------------------------------------+--------------------+


Debian 12 with MUSDK
	Kernel: Container Host Kernel
	Compiler: gcc 12.2.0

Ubuntu 20.04 ARM SVE
	Kernel: 5.4.0-167-generic
	Compiler: gcc (Ubuntu 10.5.0-1ubuntu1~20.04) 10.5.0

CentOS Stream 9 (ARM)
	Kernel: Container Host Kernel
	Compiler: gcc 11.4.1

Fedora 37 (ARM)
	Kernel: Depends on container host
	Compiler: gcc 12.3.1

Ubuntu 20.04 (ARM)
	Kernel: Container Host Kernel
	Compiler: gcc 9.4.0

Debian 11 (Buster) (ARM)
	Kernel: Container Host Kernel
	Compiler: gcc 10.2.1

Debian 12 (arm)
	Kernel: Container Host Kernel
	Compiler: gcc 12.2.0

Fedora 38 (ARM)
	Kernel: Depends on container host
	Compiler: gcc 13.2.1

Ubuntu 20.04 ARM GCC Cross Compile
	Kernel: 5.4.0-167-generic
	Compiler: aarch64-linux-gnu-gcc (Ubuntu 9.4.0-1ubuntu1~20.04.2) 9.4.0

Ubuntu 20.04 aarch32 GCC Cross Compile
	Kernel: 5.4.0-167-generic
	Compiler: gcc 9.4.0

To view detailed results, visit:
https://lab.dpdk.org/results/dashboard/patchsets/29657/

UNH-IOL DPDK Community Lab

To manage your email subscriptions, visit: 
https://lab.dpdk.org/results/dashboard/preferences/subscriptions/