From mboxrd@z Thu Jan  1 00:00:00 1970
Return-Path: <test-report-bounces@dpdk.org>
Received: from mails.dpdk.org (mails.dpdk.org [217.70.189.124])
	by inbox.dpdk.org (Postfix) with ESMTP id E6CA243D57
	for <public@inbox.dpdk.org>; Tue, 26 Mar 2024 19:24:17 +0100 (CET)
Received: from mails.dpdk.org (localhost [127.0.0.1])
	by mails.dpdk.org (Postfix) with ESMTP id DD49140E72;
	Tue, 26 Mar 2024 19:24:17 +0100 (CET)
Received: from mail-pf1-f228.google.com (mail-pf1-f228.google.com
 [209.85.210.228])
 by mails.dpdk.org (Postfix) with ESMTP id 04A4C402DA
 for <test-report@dpdk.org>; Tue, 26 Mar 2024 19:24:17 +0100 (CET)
Received: by mail-pf1-f228.google.com with SMTP id
 d2e1a72fcca58-6ea8ee55812so3480814b3a.0
 for <test-report@dpdk.org>; Tue, 26 Mar 2024 11:24:16 -0700 (PDT)
DKIM-Signature: v=1; a=rsa-sha256; c=relaxed/relaxed;
 d=iol.unh.edu; s=unh-iol; t=1711477456; x=1712082256; darn=dpdk.org;
 h=references:in-reply-to:cc:to:from:subject:message-id:date:from:to
 :cc:subject:date:message-id:reply-to;
 bh=5dyBDgo0ulcEYHqzogAIyJ/O2mubdOAIZW1ZAKT7khM=;
 b=UzlFXNGlw9aurPzS+i1WsLkZe7+9Ky3ZAyIf3eFS4A/fR72EIrg/yyW795haapBdgc
 +KSfAe/HNHyIC4k/I2Rre1QGL2ThDdlSad2paS30jlMgGkQGOdUAk/PrZDPceZrpkbW4
 hHccvRT+jfvUZECqRdu7EqX/ITfQdv0Q66Bd4=
X-Google-DKIM-Signature: v=1; a=rsa-sha256; c=relaxed/relaxed;
 d=1e100.net; s=20230601; t=1711477456; x=1712082256;
 h=references:in-reply-to:cc:to:from:subject:message-id:date
 :x-gm-message-state:from:to:cc:subject:date:message-id:reply-to;
 bh=5dyBDgo0ulcEYHqzogAIyJ/O2mubdOAIZW1ZAKT7khM=;
 b=t3wh1ltwb+7kvuv5qLdCKvrkokBFsTKmP5JL1KaLMRG47zoxZbU/Be35ZdDuNFfvc0
 i2oihopcS+2cbujsBER44Y5+2RWn4O/z/KzLJ9lxYPKP4QcUydkSOIma/WOupBVY93a3
 L6OwfsSwBg0iqUmSTSKUpiX5u4gQZFYmVs4WYbJ3Fnax/uqnrrhlH7aar9AjpWiGihx0
 Qs/zPfwvZgLx2DwGTdgxXlZ/umLGasAzeUEZKnRceOpesRVgq7umGPir3axMCG1Urt/s
 Ei6uYvU3nymCaNm0cw34hoQ65nnmzC2FTbflPTIe8M+vIZaeG5Mteh/2HNxOYp4iroel
 XhAw==
X-Gm-Message-State: AOJu0YyMEYZ0LkZ02I+U39EoXXAyvkWqUpV8+M6Nw/Ew+nCEcvY4v9ZH
 z8TJIytCL5xpGdu0uXOqgNfWeKXSMNi/bpIzk207lYhHR+RZaorptFXN/myxXyQP2TAIPIBLIdq
 nExIlNDbFzVORMQBlM3VfLtjN7DX0AHki8TLrU46y
X-Google-Smtp-Source: AGHT+IEBs/H+A39gsBi8r8xqtWp8BhWnvEYLgcUZIk8q+e2qeYX0pKz964Au8S28dHsj8goMCDl00OMHD93p
X-Received: by 2002:a05:6a20:3d25:b0:1a3:c503:8e78 with SMTP id
 y37-20020a056a203d2500b001a3c5038e78mr9000524pzi.8.1711477456192; 
 Tue, 26 Mar 2024 11:24:16 -0700 (PDT)
Received: from postal.iol.unh.edu (postal.iol.unh.edu. [132.177.123.84])
 by smtp-relay.gmail.com with ESMTPS id
 t33-20020a056a0013a100b006e8f8db204fsm499105pfg.2.2024.03.26.11.24.16
 (version=TLS1_2 cipher=ECDHE-ECDSA-AES128-GCM-SHA256 bits=128/128);
 Tue, 26 Mar 2024 11:24:16 -0700 (PDT)
X-Relaying-Domain: iol.unh.edu
Date: Tue, 26 Mar 2024 11:24:16 -0700 (PDT)
Message-ID: <660312d0.050a0220.2bee6.52ecSMTPIN_ADDED_MISSING@mx.google.com>
Received: from [172.21.0.7] (unknown [172.18.0.240])
 by postal.iol.unh.edu (Postfix) with ESMTP id 4B0F76052471;
 Tue, 26 Mar 2024 14:24:15 -0400 (EDT)
Subject: |SUCCESS| pw138812-138826 [PATCH] [v14,15/15] log: colorize log outp
From: dpdklab@iol.unh.edu
To: Test Report <test-report@dpdk.org>
Cc: dpdk-test-reports@iol.unh.edu
In-Reply-To: <20240326173552.97249-16-stephen@networkplumber.org>
References: <20240326173552.97249-16-stephen@networkplumber.org>
Content-Type: text/plain
X-BeenThere: test-report@dpdk.org
X-Mailman-Version: 2.1.29
Precedence: list
List-Id: automatic DPDK test reports <test-report.dpdk.org>
List-Unsubscribe: <https://mails.dpdk.org/options/test-report>,
 <mailto:test-report-request@dpdk.org?subject=unsubscribe>
List-Archive: <http://mails.dpdk.org/archives/test-report/>
List-Post: <mailto:test-report@dpdk.org>
List-Help: <mailto:test-report-request@dpdk.org?subject=help>
List-Subscribe: <https://mails.dpdk.org/listinfo/test-report>,
 <mailto:test-report-request@dpdk.org?subject=subscribe>
Errors-To: test-report-bounces@dpdk.org

Test-Label: iol-compile-arm64-testing
Test-Status: SUCCESS
http://dpdk.org/patch/138826

_Testing PASS_

Submitter: Stephen Hemminger <stephen@networkplumber.org>
Date: Tuesday, March 26 2024 17:34:35 
DPDK git baseline: Repo:dpdk
  Branch: master
  CommitID:ded4d4765171b88470e59307f10625e942f22fca

138812-138826 --> testing pass

Test environment and result as below:

+----------------------+--------------------+
|     Environment      | dpdk_meson_compile |
+======================+====================+
| Ubuntu 20.04 ARM SVE | PASS               |
+----------------------+--------------------+
| Debian 12 with MUSDK | PASS               |
+----------------------+--------------------+
| Ubuntu 20.04 (ARM)   | PASS               |
+----------------------+--------------------+


Ubuntu 20.04 ARM SVE
	Kernel: 5.4.0-167-generic
	Compiler: gcc (Ubuntu 10.5.0-1ubuntu1~20.04) 10.5.0

Debian 12 with MUSDK
	Kernel: Container Host Kernel
	Compiler: gcc 12.2.0

Ubuntu 20.04 (ARM)
	Kernel: Container Host Kernel
	Compiler: gcc 9.4.0

To view detailed results, visit:
https://lab.dpdk.org/results/dashboard/patchsets/29658/

UNH-IOL DPDK Community Lab

To manage your email subscriptions, visit: 
https://lab.dpdk.org/results/dashboard/preferences/subscriptions/