From mboxrd@z Thu Jan  1 00:00:00 1970
Return-Path: <test-report-bounces@dpdk.org>
Received: from mails.dpdk.org (mails.dpdk.org [217.70.189.124])
	by inbox.dpdk.org (Postfix) with ESMTP id 067E343D57
	for <public@inbox.dpdk.org>; Tue, 26 Mar 2024 19:49:54 +0100 (CET)
Received: from mails.dpdk.org (localhost [127.0.0.1])
	by mails.dpdk.org (Postfix) with ESMTP id 02B2B40E8A;
	Tue, 26 Mar 2024 19:49:54 +0100 (CET)
Received: from mail-pf1-f228.google.com (mail-pf1-f228.google.com
 [209.85.210.228])
 by mails.dpdk.org (Postfix) with ESMTP id E9EC840E72
 for <test-report@dpdk.org>; Tue, 26 Mar 2024 19:49:52 +0100 (CET)
Received: by mail-pf1-f228.google.com with SMTP id
 d2e1a72fcca58-6e74bd85f26so4692168b3a.1
 for <test-report@dpdk.org>; Tue, 26 Mar 2024 11:49:52 -0700 (PDT)
DKIM-Signature: v=1; a=rsa-sha256; c=relaxed/relaxed;
 d=iol.unh.edu; s=unh-iol; t=1711478992; x=1712083792; darn=dpdk.org;
 h=references:in-reply-to:cc:to:from:subject:message-id:date:from:to
 :cc:subject:date:message-id:reply-to;
 bh=gRDngsHg4SM/2D6yzoWPJ1iFmcaZf0WHbWHwwpDq3HY=;
 b=UmIvqE0SB64EQwy9ls0JwvH5quUBtBnWk4VdS7dKl6fKJTjnYm+oEEkHB5fblh6eo3
 V/gkSVIAAQWs71XPOsLa95Ge7ohbezm7TvFqSxoXBSv1y/SqkF9kOamRhjYlta6m/ebB
 3m4f6td8EeXvMT0BlIvYRJhRA8FTkBu4ZgQWk=
X-Google-DKIM-Signature: v=1; a=rsa-sha256; c=relaxed/relaxed;
 d=1e100.net; s=20230601; t=1711478992; x=1712083792;
 h=references:in-reply-to:cc:to:from:subject:message-id:date
 :x-gm-message-state:from:to:cc:subject:date:message-id:reply-to;
 bh=gRDngsHg4SM/2D6yzoWPJ1iFmcaZf0WHbWHwwpDq3HY=;
 b=kMIe+HQ5Bx/A1Dn4DBAfHJGrL0KA2BU8ycGm+6Tc5F5Gr47Dz2BOkqgCX9Y7Nq+iPQ
 NblVEi1RZkkvju7tsfhx2uLaBrhNPXe6g56/srP+TSvJRxWGdqdRRX/kHEw1/tNcfbq+
 GI6Q8L9jb7huMnRjdxjz+ARMW8b7BEvmINDVyEMeshJYWvMhCr/Ku44b69UbCXUiKmQb
 ygZxwxbK0oMP8cURb29u5cpUJedlavQGQxBD6cCeaVu4GWHayZGQHB6GIRA4xxMRSXmT
 zFrMCznYxhCOVBJLYLNgBsJXoclobuQgZV4ik4A6xITU6AIH74yhL/gC2IWRdMZ6H8WA
 TMAw==
X-Gm-Message-State: AOJu0YyNY+PVO2XXvyFAKewm9NiZzFC5muJw51noos4uS3nNUrHK4FFq
 AjtVEkDHwwin5YRHxhqZkSOfkgMzPJqtgi2M3Tdl1qSxXvSfLOAgLv2pk4zLKbBL87XWMOqBMZf
 Phr4mLU2a6meOywtvJi2cOTmFKUhcU1rXRd1MB3jc
X-Google-Smtp-Source: AGHT+IHqAJcnGwiBLMlTHWh6/m+JxIK1UwBCsBlO3N6OvdJHBgkXPH/5gY/35vfTO9+Xu/b/J/l2+hmxPR1A
X-Received: by 2002:a05:6a21:3a82:b0:1a1:6b78:d70 with SMTP id
 zv2-20020a056a213a8200b001a16b780d70mr723570pzb.61.1711478992063; 
 Tue, 26 Mar 2024 11:49:52 -0700 (PDT)
Received: from postal.iol.unh.edu (postal.iol.unh.edu. [132.177.123.84])
 by smtp-relay.gmail.com with ESMTPS id
 hw17-20020a056a00891100b006ea96b43fe8sm522195pfb.23.2024.03.26.11.49.51
 (version=TLS1_2 cipher=ECDHE-ECDSA-AES128-GCM-SHA256 bits=128/128);
 Tue, 26 Mar 2024 11:49:52 -0700 (PDT)
X-Relaying-Domain: iol.unh.edu
Date: Tue, 26 Mar 2024 11:49:52 -0700 (PDT)
Message-ID: <660318d0.050a0220.310c.6e68SMTPIN_ADDED_MISSING@mx.google.com>
Received: from [172.17.0.6] (unknown [172.18.0.217])
 by postal.iol.unh.edu (Postfix) with ESMTP id 269636052471;
 Tue, 26 Mar 2024 14:49:51 -0400 (EDT)
Subject: |SUCCESS| pw138812-138826 [PATCH] [v14,15/15] log: colorize log outp
From: dpdklab@iol.unh.edu
To: Test Report <test-report@dpdk.org>
Cc: dpdk-test-reports@iol.unh.edu
In-Reply-To: <20240326173552.97249-16-stephen@networkplumber.org>
References: <20240326173552.97249-16-stephen@networkplumber.org>
Content-Type: text/plain
X-BeenThere: test-report@dpdk.org
X-Mailman-Version: 2.1.29
Precedence: list
List-Id: automatic DPDK test reports <test-report.dpdk.org>
List-Unsubscribe: <https://mails.dpdk.org/options/test-report>,
 <mailto:test-report-request@dpdk.org?subject=unsubscribe>
List-Archive: <http://mails.dpdk.org/archives/test-report/>
List-Post: <mailto:test-report@dpdk.org>
List-Help: <mailto:test-report-request@dpdk.org?subject=help>
List-Subscribe: <https://mails.dpdk.org/listinfo/test-report>,
 <mailto:test-report-request@dpdk.org?subject=subscribe>
Errors-To: test-report-bounces@dpdk.org

Test-Label: iol-compile-arm64-testing
Test-Status: SUCCESS
http://dpdk.org/patch/138826

_Testing PASS_

Submitter: Stephen Hemminger <stephen@networkplumber.org>
Date: Tuesday, March 26 2024 17:34:35 
DPDK git baseline: Repo:dpdk
  Branch: master
  CommitID:ded4d4765171b88470e59307f10625e942f22fca

138812-138826 --> testing pass

Test environment and result as below:

+----------------------------------------+--------------------+
|              Environment               | dpdk_meson_compile |
+========================================+====================+
| Ubuntu 20.04 ARM SVE                   | PASS               |
+----------------------------------------+--------------------+
| Debian 12 with MUSDK                   | PASS               |
+----------------------------------------+--------------------+
| Ubuntu 20.04 (ARM)                     | PASS               |
+----------------------------------------+--------------------+
| Fedora 37 (ARM)                        | PASS               |
+----------------------------------------+--------------------+
| CentOS Stream 9 (ARM)                  | PASS               |
+----------------------------------------+--------------------+
| Debian 12 (arm)                        | PASS               |
+----------------------------------------+--------------------+
| Debian 11 (Buster) (ARM)               | PASS               |
+----------------------------------------+--------------------+
| Ubuntu 20.04 aarch32 GCC Cross Compile | PASS               |
+----------------------------------------+--------------------+
| Ubuntu 20.04 ARM Clang Cross Compile   | PASS               |
+----------------------------------------+--------------------+
| Fedora 39 (ARM)                        | PASS               |
+----------------------------------------+--------------------+


Ubuntu 20.04 ARM SVE
	Kernel: 5.4.0-167-generic
	Compiler: gcc (Ubuntu 10.5.0-1ubuntu1~20.04) 10.5.0

Debian 12 with MUSDK
	Kernel: Container Host Kernel
	Compiler: gcc 12.2.0

Ubuntu 20.04 (ARM)
	Kernel: Container Host Kernel
	Compiler: gcc 9.4.0

Fedora 37 (ARM)
	Kernel: Depends on container host
	Compiler: gcc 12.3.1

CentOS Stream 9 (ARM)
	Kernel: Container Host Kernel
	Compiler: gcc 11.4.1

Debian 12 (arm)
	Kernel: Container Host Kernel
	Compiler: gcc 12.2.0

Debian 11 (Buster) (ARM)
	Kernel: Container Host Kernel
	Compiler: gcc 10.2.1

Ubuntu 20.04 aarch32 GCC Cross Compile
	Kernel: 5.4.0-167-generic
	Compiler: gcc 9.4.0

Ubuntu 20.04 ARM Clang Cross Compile
	Kernel: 5.4.0-72-generic
	Compiler: clang 10.0.0-4ubuntu1

Fedora 39 (ARM)
	Kernel: Depends on container host
	Compiler: gcc 13.2.1

To view detailed results, visit:
https://lab.dpdk.org/results/dashboard/patchsets/29658/

UNH-IOL DPDK Community Lab

To manage your email subscriptions, visit: 
https://lab.dpdk.org/results/dashboard/preferences/subscriptions/