From mboxrd@z Thu Jan  1 00:00:00 1970
Return-Path: <test-report-bounces@dpdk.org>
Received: from mails.dpdk.org (mails.dpdk.org [217.70.189.124])
	by inbox.dpdk.org (Postfix) with ESMTP id 2886D43D5B
	for <public@inbox.dpdk.org>; Tue, 26 Mar 2024 20:53:03 +0100 (CET)
Received: from mails.dpdk.org (localhost [127.0.0.1])
	by mails.dpdk.org (Postfix) with ESMTP id 20DE940E6E;
	Tue, 26 Mar 2024 20:53:03 +0100 (CET)
Received: from mail-pg1-f226.google.com (mail-pg1-f226.google.com
 [209.85.215.226])
 by mails.dpdk.org (Postfix) with ESMTP id 7EBBB40E4A
 for <test-report@dpdk.org>; Tue, 26 Mar 2024 20:53:01 +0100 (CET)
Received: by mail-pg1-f226.google.com with SMTP id
 41be03b00d2f7-5e152c757a5so3046098a12.2
 for <test-report@dpdk.org>; Tue, 26 Mar 2024 12:53:01 -0700 (PDT)
DKIM-Signature: v=1; a=rsa-sha256; c=relaxed/relaxed;
 d=iol.unh.edu; s=unh-iol; t=1711482780; x=1712087580; darn=dpdk.org;
 h=references:in-reply-to:cc:to:from:subject:message-id:date:from:to
 :cc:subject:date:message-id:reply-to;
 bh=OY3mq3S0EK2o5ctGb09uZqaP3L/kvNlfvXtfSLVs6eg=;
 b=icK6WgxQxA0fMuv5xOk41rwdx6feF89Jf47g6FRyKTO4QAmuBf15lTbxs764Q/lGYT
 6k8XceOEonnQDYXE/K1ZtBT0gZxKFRg0EYqQEoL0GjWqc/FfRB3Z7y0La48MQg6cPwyk
 BaLbaoqFBX4bkPcn6S/D2qHorW0vbO4W3fHGI=
X-Google-DKIM-Signature: v=1; a=rsa-sha256; c=relaxed/relaxed;
 d=1e100.net; s=20230601; t=1711482780; x=1712087580;
 h=references:in-reply-to:cc:to:from:subject:message-id:date
 :x-gm-message-state:from:to:cc:subject:date:message-id:reply-to;
 bh=OY3mq3S0EK2o5ctGb09uZqaP3L/kvNlfvXtfSLVs6eg=;
 b=fFMwwQyoAGdGj5p/75y4RhV7ItwqaUlimG9udUalnmIeaIi7c2fmpgpHJgR16Sl6XJ
 Ef6Ev4lqTxLsWnOAbuAsUJU6T76XujSIXEfw6PK4u5EcI18FDqMLRnDuppcgIVnitkHx
 pfygjk4fnure33HfmewZzbGek/lfarKbaGTlgWWlQn4rMqEWaAdAmGSyIwb5BShADzOC
 h5sOOgNEka4pqZhNKSaZ9FI/OYwVc9TCPidY39Jl3uda7NeNLOvx8VOutAMh2wQAbQj2
 BzZa8yRdHwPaD+YGgH5mofsN5SmeEnxys+L/E4eOjo/JPXsA020OglfWDVhWp5XBVaS9
 J5Yw==
X-Gm-Message-State: AOJu0Yzh2kQvt4FzspFarLxrGTHgjQfkNWRUKZkhP9ojmL0ztD0mVt6O
 U35N8Ojoqt3vuiHR3o6FuM4hMTBUYk/H5K2Q/RPbA/XYX8gn4my8ZWlncCxG6f6Dy5TBUNLu3YX
 q1dVoLXpnzQcoOt3HGMWz85YdKXffPjeaP8sDFPYJ
X-Google-Smtp-Source: AGHT+IGfX32Hppx05Vp/qUU8AmvI6MS4MAEQP5kud4ButYWlxBdYvIwQnO/jo7tEH3C3EbOJ+gus0jkp3lIs
X-Received: by 2002:a17:90b:3bce:b0:29b:aee2:cc8f with SMTP id
 ph14-20020a17090b3bce00b0029baee2cc8fmr954724pjb.9.1711482780617; 
 Tue, 26 Mar 2024 12:53:00 -0700 (PDT)
Received: from postal.iol.unh.edu (postal.iol.unh.edu. [132.177.123.84])
 by smtp-relay.gmail.com with ESMTPS id
 w6-20020a17090a8a0600b0029f723e321esm475343pjn.13.2024.03.26.12.53.00
 (version=TLS1_2 cipher=ECDHE-ECDSA-AES128-GCM-SHA256 bits=128/128);
 Tue, 26 Mar 2024 12:53:00 -0700 (PDT)
X-Relaying-Domain: iol.unh.edu
Date: Tue, 26 Mar 2024 12:53:00 -0700 (PDT)
Message-ID: <6603279c.170a0220.0c27.facbSMTPIN_ADDED_MISSING@mx.google.com>
Received: from [172.21.0.6] (unknown [172.18.0.240])
 by postal.iol.unh.edu (Postfix) with ESMTP id B9B516052471;
 Tue, 26 Mar 2024 15:52:59 -0400 (EDT)
Subject: |SUCCESS| pw138827-138832 [PATCH] [6/6] dts: add statefulness to Tes
From: dpdklab@iol.unh.edu
To: Test Report <test-report@dpdk.org>
Cc: dpdk-test-reports@iol.unh.edu
In-Reply-To: <20240326190422.577028-7-luca.vizzarro@arm.com>
References: <20240326190422.577028-7-luca.vizzarro@arm.com>
Content-Type: text/plain
X-BeenThere: test-report@dpdk.org
X-Mailman-Version: 2.1.29
Precedence: list
List-Id: automatic DPDK test reports <test-report.dpdk.org>
List-Unsubscribe: <https://mails.dpdk.org/options/test-report>,
 <mailto:test-report-request@dpdk.org?subject=unsubscribe>
List-Archive: <http://mails.dpdk.org/archives/test-report/>
List-Post: <mailto:test-report@dpdk.org>
List-Help: <mailto:test-report-request@dpdk.org?subject=help>
List-Subscribe: <https://mails.dpdk.org/listinfo/test-report>,
 <mailto:test-report-request@dpdk.org?subject=subscribe>
Errors-To: test-report-bounces@dpdk.org

Test-Label: iol-compile-amd64-testing
Test-Status: SUCCESS
http://dpdk.org/patch/138832

_Testing PASS_

Submitter: Luca Vizzarro <luca.vizzarro@arm.com>
Date: Tuesday, March 26 2024 19:04:22 
DPDK git baseline: Repo:dpdk
  Branch: master
  CommitID:ded4d4765171b88470e59307f10625e942f22fca

138827-138832 --> testing pass

Test environment and result as below:

+---------------------+--------------------+----------------------+-------------------+
|     Environment     | dpdk_meson_compile | dpdk_mingw64_compile | dpdk_msvc_compile |
+=====================+====================+======================+===================+
| FreeBSD 13.2        | PASS               | SKIPPED              | SKIPPED           |
+---------------------+--------------------+----------------------+-------------------+
| Windows Server 2019 | PASS               | PASS                 | SKIPPED           |
+---------------------+--------------------+----------------------+-------------------+
| Windows Server 2022 | PASS               | PASS                 | PASS              |
+---------------------+--------------------+----------------------+-------------------+
| CentOS Stream 8     | PASS               | SKIPPED              | SKIPPED           |
+---------------------+--------------------+----------------------+-------------------+
| Debian Bullseye     | PASS               | SKIPPED              | SKIPPED           |
+---------------------+--------------------+----------------------+-------------------+
| Debian 11 (arm)     | PASS               | SKIPPED              | SKIPPED           |
+---------------------+--------------------+----------------------+-------------------+
| Fedora 38           | PASS               | SKIPPED              | SKIPPED           |
+---------------------+--------------------+----------------------+-------------------+


FreeBSD 13.2
	Kernel: 13.2
	Compiler: clang 14.0.5

Windows Server 2019
	Kernel: 10.0.17763
	Compiler: clang 14.0 and gcc 8.1.0 (MinGW)

Windows Server 2022
	Kernel: 10.0.20348.2031
	Compiler: clang 15.0.7, gcc 8.1.0 (MinGW), and MSVC VS 17.9

CentOS Stream 8
	Kernel: 5.4.0-167-generic
	Compiler: gcc 8.5.0 20210514

Debian Bullseye
	Kernel: 5.4.0-167-generic
	Compiler: gcc 10.2.1-6

Debian 11 (arm)
	Kernel: Container Host Kernel
	Compiler: gcc 10.2.1

Fedora 38
	Kernel: Depends on container host
	Compiler: gcc 13.2.1

To view detailed results, visit:
https://lab.dpdk.org/results/dashboard/patchsets/29659/

UNH-IOL DPDK Community Lab

To manage your email subscriptions, visit: 
https://lab.dpdk.org/results/dashboard/preferences/subscriptions/