From mboxrd@z Thu Jan  1 00:00:00 1970
Return-Path: <test-report-bounces@dpdk.org>
Received: from mails.dpdk.org (mails.dpdk.org [217.70.189.124])
	by inbox.dpdk.org (Postfix) with ESMTP id 6D3BE43D5B
	for <public@inbox.dpdk.org>; Tue, 26 Mar 2024 20:53:43 +0100 (CET)
Received: from mails.dpdk.org (localhost [127.0.0.1])
	by mails.dpdk.org (Postfix) with ESMTP id 6758E40E6E;
	Tue, 26 Mar 2024 20:53:43 +0100 (CET)
Received: from mail-il1-f225.google.com (mail-il1-f225.google.com
 [209.85.166.225])
 by mails.dpdk.org (Postfix) with ESMTP id 173E540E4A
 for <test-report@dpdk.org>; Tue, 26 Mar 2024 20:53:40 +0100 (CET)
Received: by mail-il1-f225.google.com with SMTP id
 e9e14a558f8ab-368a02d28baso4574345ab.3
 for <test-report@dpdk.org>; Tue, 26 Mar 2024 12:53:40 -0700 (PDT)
DKIM-Signature: v=1; a=rsa-sha256; c=relaxed/relaxed;
 d=iol.unh.edu; s=unh-iol; t=1711482819; x=1712087619; darn=dpdk.org;
 h=references:in-reply-to:cc:to:from:subject:message-id:date:from:to
 :cc:subject:date:message-id:reply-to;
 bh=OY3mq3S0EK2o5ctGb09uZqaP3L/kvNlfvXtfSLVs6eg=;
 b=Y20GMDsXuUM1x+FUdv64FeDKi0U1hj0tE3TqzWIJtnn1kn95Ae4MHX/ozF6aCyNens
 rY1M3T6nQ1b4D5/St0jtoUCIWz0c9omYiJCFOR6WbUSEck4LZ8Su4vdJIwpP8UkddpBp
 gE2xZfrHaulHp+voyQbCJs2fgNy/T1dRtUQPM=
X-Google-DKIM-Signature: v=1; a=rsa-sha256; c=relaxed/relaxed;
 d=1e100.net; s=20230601; t=1711482819; x=1712087619;
 h=references:in-reply-to:cc:to:from:subject:message-id:date
 :x-gm-message-state:from:to:cc:subject:date:message-id:reply-to;
 bh=OY3mq3S0EK2o5ctGb09uZqaP3L/kvNlfvXtfSLVs6eg=;
 b=tbJE6zUs9FimOuyfO9YAnsbAm7IJiYQ0n3gOPZZRK95eybBq0WqzvVsXPSOWXpo5pg
 Cm90zcw3IuP1T+0ECqrogtktjSJqsbngzWxFZMyu0F9iVCOGaS6TFK4EuXaVATp7UeHc
 MrrZscB4nyEj4hQPGITk2Mhykj/RDrN6u+HhGWpadOPHRkZ2h2M7w6rPSg7jDnYn3kE7
 KIeBJN6+QcHvOYpu0QU9CIA8RRFuWya43uls9P+DZqUlJ7+naKHXvFaNP2QPRUWiCHCv
 Da53AiGmdlpipz7NUSmufL1W8Qq4Zwqm/cdAqVyx9TZueiYJVOiwG3VOJNUn33Gfdm8p
 2O3w==
X-Gm-Message-State: AOJu0YwoVQHjr9kwOXsGMowolvM783akVdXyPgjhDAM3F7PAj/iyIhGA
 4cB9g4FQSJYfPwTcyC9qLH96cuhXbLm+MRw0hLCxi1JkQhwTRlA0IIlYuB7Lxf1kGpFDm9CQcqm
 IIfFYsnq2I6VwD9fJ9CGLOLj3wkkCZfZ+uZhzvJ97
X-Google-Smtp-Source: AGHT+IENzQrQU72TX26CFWJ+eGya/2koz44lmLIlQME/UQr1c0vtcAAiRK1xp4RGXtO/bP1AuYfGBaoNuC0+
X-Received: by 2002:a05:6e02:1526:b0:368:99d1:1a46 with SMTP id
 i6-20020a056e02152600b0036899d11a46mr1107567ilu.19.1711482819255; 
 Tue, 26 Mar 2024 12:53:39 -0700 (PDT)
Received: from postal.iol.unh.edu (postal.iol.unh.edu. [132.177.123.84])
 by smtp-relay.gmail.com with ESMTPS id
 r9-20020a92cd89000000b003664cc429cfsm72291ilb.62.2024.03.26.12.53.39
 (version=TLS1_2 cipher=ECDHE-ECDSA-AES128-GCM-SHA256 bits=128/128);
 Tue, 26 Mar 2024 12:53:39 -0700 (PDT)
X-Relaying-Domain: iol.unh.edu
Date: Tue, 26 Mar 2024 12:53:39 -0700 (PDT)
Message-ID: <660327c3.920a0220.6fc07.54e7SMTPIN_ADDED_MISSING@mx.google.com>
Received: from [172.21.0.6] (unknown [172.18.0.240])
 by postal.iol.unh.edu (Postfix) with ESMTP id B3BCB6052471;
 Tue, 26 Mar 2024 15:53:38 -0400 (EDT)
Subject: |SUCCESS| pw138827-138832 [PATCH] [6/6] dts: add statefulness to Tes
From: dpdklab@iol.unh.edu
To: Test Report <test-report@dpdk.org>
Cc: dpdk-test-reports@iol.unh.edu
In-Reply-To: <20240326190422.577028-7-luca.vizzarro@arm.com>
References: <20240326190422.577028-7-luca.vizzarro@arm.com>
Content-Type: text/plain
X-BeenThere: test-report@dpdk.org
X-Mailman-Version: 2.1.29
Precedence: list
List-Id: automatic DPDK test reports <test-report.dpdk.org>
List-Unsubscribe: <https://mails.dpdk.org/options/test-report>,
 <mailto:test-report-request@dpdk.org?subject=unsubscribe>
List-Archive: <http://mails.dpdk.org/archives/test-report/>
List-Post: <mailto:test-report@dpdk.org>
List-Help: <mailto:test-report-request@dpdk.org?subject=help>
List-Subscribe: <https://mails.dpdk.org/listinfo/test-report>,
 <mailto:test-report-request@dpdk.org?subject=subscribe>
Errors-To: test-report-bounces@dpdk.org

Test-Label: iol-compile-amd64-testing
Test-Status: SUCCESS
http://dpdk.org/patch/138832

_Testing PASS_

Submitter: Luca Vizzarro <luca.vizzarro@arm.com>
Date: Tuesday, March 26 2024 19:04:22 
DPDK git baseline: Repo:dpdk
  Branch: master
  CommitID:ded4d4765171b88470e59307f10625e942f22fca

138827-138832 --> testing pass

Test environment and result as below:

+---------------------+--------------------+----------------------+-------------------+
|     Environment     | dpdk_meson_compile | dpdk_mingw64_compile | dpdk_msvc_compile |
+=====================+====================+======================+===================+
| FreeBSD 13.2        | PASS               | SKIPPED              | SKIPPED           |
+---------------------+--------------------+----------------------+-------------------+
| Windows Server 2019 | PASS               | PASS                 | SKIPPED           |
+---------------------+--------------------+----------------------+-------------------+
| Windows Server 2022 | PASS               | PASS                 | PASS              |
+---------------------+--------------------+----------------------+-------------------+
| CentOS Stream 8     | PASS               | SKIPPED              | SKIPPED           |
+---------------------+--------------------+----------------------+-------------------+
| Debian Bullseye     | PASS               | SKIPPED              | SKIPPED           |
+---------------------+--------------------+----------------------+-------------------+
| Debian 11 (arm)     | PASS               | SKIPPED              | SKIPPED           |
+---------------------+--------------------+----------------------+-------------------+
| Fedora 38           | PASS               | SKIPPED              | SKIPPED           |
+---------------------+--------------------+----------------------+-------------------+


FreeBSD 13.2
	Kernel: 13.2
	Compiler: clang 14.0.5

Windows Server 2019
	Kernel: 10.0.17763
	Compiler: clang 14.0 and gcc 8.1.0 (MinGW)

Windows Server 2022
	Kernel: 10.0.20348.2031
	Compiler: clang 15.0.7, gcc 8.1.0 (MinGW), and MSVC VS 17.9

CentOS Stream 8
	Kernel: 5.4.0-167-generic
	Compiler: gcc 8.5.0 20210514

Debian Bullseye
	Kernel: 5.4.0-167-generic
	Compiler: gcc 10.2.1-6

Debian 11 (arm)
	Kernel: Container Host Kernel
	Compiler: gcc 10.2.1

Fedora 38
	Kernel: Depends on container host
	Compiler: gcc 13.2.1

To view detailed results, visit:
https://lab.dpdk.org/results/dashboard/patchsets/29659/

UNH-IOL DPDK Community Lab

To manage your email subscriptions, visit: 
https://lab.dpdk.org/results/dashboard/preferences/subscriptions/