From mboxrd@z Thu Jan  1 00:00:00 1970
Return-Path: <test-report-bounces@dpdk.org>
Received: from mails.dpdk.org (mails.dpdk.org [217.70.189.124])
	by inbox.dpdk.org (Postfix) with ESMTP id 2BDA243D5B
	for <public@inbox.dpdk.org>; Tue, 26 Mar 2024 20:55:43 +0100 (CET)
Received: from mails.dpdk.org (localhost [127.0.0.1])
	by mails.dpdk.org (Postfix) with ESMTP id 27A6C40E4A;
	Tue, 26 Mar 2024 20:55:43 +0100 (CET)
Received: from mail-qv1-f98.google.com (mail-qv1-f98.google.com
 [209.85.219.98]) by mails.dpdk.org (Postfix) with ESMTP id 28DAA40E4A
 for <test-report@dpdk.org>; Tue, 26 Mar 2024 20:55:42 +0100 (CET)
Received: by mail-qv1-f98.google.com with SMTP id
 6a1803df08f44-696147fb5a7so54953806d6.0
 for <test-report@dpdk.org>; Tue, 26 Mar 2024 12:55:42 -0700 (PDT)
DKIM-Signature: v=1; a=rsa-sha256; c=relaxed/relaxed;
 d=iol.unh.edu; s=unh-iol; t=1711482941; x=1712087741; darn=dpdk.org;
 h=references:in-reply-to:cc:to:from:subject:message-id:date:from:to
 :cc:subject:date:message-id:reply-to;
 bh=GW1ivz1VzUZ1dhSJDsZTvP7ozNUpX0M0yrtwwACKcz4=;
 b=IsELrhWL7HJqFdnVvKpGxTR65MVpcufAlEPS3cwnIBru9CHadrp5upnq3btsgS/rQ1
 /QjSGAxO6muj/Falf8OCm9TXGuRrWNqNxZsGZnherN3iwE676aDMXkcc/nwwFwPbkFRw
 M9mH7IPj+OBgn+layw93FBgTnPDHo2f8XCEG4=
X-Google-DKIM-Signature: v=1; a=rsa-sha256; c=relaxed/relaxed;
 d=1e100.net; s=20230601; t=1711482941; x=1712087741;
 h=references:in-reply-to:cc:to:from:subject:message-id:date
 :x-gm-message-state:from:to:cc:subject:date:message-id:reply-to;
 bh=GW1ivz1VzUZ1dhSJDsZTvP7ozNUpX0M0yrtwwACKcz4=;
 b=SG0LJg/dmRYXPQWdvoX7UUuZvutTIBhKFItHC2ZoBtGf/v7+hVvXi9ycfpMDzamBFT
 4xOk7xUNq7feLJMPZxhdCl7QgDQF7gaLVgYcYTbdOx2TfvoHcjbXIX1qhjVvH4wWzCrh
 kUWNrG6s5ur7yLc4HXiWsHnVlR8g4N+s0T9TQrrJhXdg7s/OXzQrKLEqVchtNvpWBlRr
 2zf+odB3hjz+dr1c21Jx4XpqzVPPUA4g+fPiThwqVOISHIyN/uD5PHWYoJWjKQ03QSTn
 //mcejx62if3TvoqPftqwx8UpEr0J09oyGN5aFume5e1aMaDEJB28VjNa23mWz4xqKCH
 ak+A==
X-Gm-Message-State: AOJu0Yxdfmeluj8i9eexl8kHTbrD7u9fo6AGEYX/pRj313fomNpBScoV
 zT1Uz8o+hxjH1apyIlsWfdg29xvzKl9MD70ZxW+ZMHbpbaG7PhRKXyR4BpJxCEi4dC9Q89B/Waa
 qkFdrQBMcDOvXkO2i65xUtOPBOmFlhNZiZ39FhuOz
X-Google-Smtp-Source: AGHT+IEiMDqqQPuvlKYKRmIXEsO/8eEBwX0CXAE2BE3EfvDAgGRQTninoZJN4I78J44Log5VsqVlosXnWoF/
X-Received: by 2002:a05:6214:f0d:b0:690:ca82:55f7 with SMTP id
 gw13-20020a0562140f0d00b00690ca8255f7mr846982qvb.19.1711482941625; 
 Tue, 26 Mar 2024 12:55:41 -0700 (PDT)
Received: from postal.iol.unh.edu (postal.iol.unh.edu. [132.177.123.84])
 by smtp-relay.gmail.com with ESMTPS id
 fw10-20020a056214238a00b0069641955c34sm680834qvb.64.2024.03.26.12.55.41
 (version=TLS1_2 cipher=ECDHE-ECDSA-AES128-GCM-SHA256 bits=128/128);
 Tue, 26 Mar 2024 12:55:41 -0700 (PDT)
X-Relaying-Domain: iol.unh.edu
Date: Tue, 26 Mar 2024 12:55:41 -0700 (PDT)
Message-ID: <6603283d.050a0220.d71fe.d7ffSMTPIN_ADDED_MISSING@mx.google.com>
Received: from [172.21.0.6] (unknown [172.18.0.240])
 by postal.iol.unh.edu (Postfix) with ESMTP id 522B26052471;
 Tue, 26 Mar 2024 15:55:41 -0400 (EDT)
Subject: |SUCCESS| pw138812-138826 [PATCH] [v14,15/15] log: colorize log outp
From: dpdklab@iol.unh.edu
To: Test Report <test-report@dpdk.org>
Cc: dpdk-test-reports@iol.unh.edu
In-Reply-To: <20240326173552.97249-16-stephen@networkplumber.org>
References: <20240326173552.97249-16-stephen@networkplumber.org>
Content-Type: text/plain
X-BeenThere: test-report@dpdk.org
X-Mailman-Version: 2.1.29
Precedence: list
List-Id: automatic DPDK test reports <test-report.dpdk.org>
List-Unsubscribe: <https://mails.dpdk.org/options/test-report>,
 <mailto:test-report-request@dpdk.org?subject=unsubscribe>
List-Archive: <http://mails.dpdk.org/archives/test-report/>
List-Post: <mailto:test-report@dpdk.org>
List-Help: <mailto:test-report-request@dpdk.org?subject=help>
List-Subscribe: <https://mails.dpdk.org/listinfo/test-report>,
 <mailto:test-report-request@dpdk.org?subject=subscribe>
Errors-To: test-report-bounces@dpdk.org

Test-Label: iol-compile-arm64-testing
Test-Status: SUCCESS
http://dpdk.org/patch/138826

_Testing PASS_

Submitter: Stephen Hemminger <stephen@networkplumber.org>
Date: Tuesday, March 26 2024 17:34:35 
DPDK git baseline: Repo:dpdk
  Branch: master
  CommitID:ded4d4765171b88470e59307f10625e942f22fca

138812-138826 --> testing pass

Test environment and result as below:

+----------------------------------------+--------------------+
|              Environment               | dpdk_meson_compile |
+========================================+====================+
| Ubuntu 20.04 ARM SVE                   | PASS               |
+----------------------------------------+--------------------+
| Debian 12 with MUSDK                   | PASS               |
+----------------------------------------+--------------------+
| Ubuntu 20.04 (ARM)                     | PASS               |
+----------------------------------------+--------------------+
| Fedora 37 (ARM)                        | PASS               |
+----------------------------------------+--------------------+
| CentOS Stream 9 (ARM)                  | PASS               |
+----------------------------------------+--------------------+
| Debian 12 (arm)                        | PASS               |
+----------------------------------------+--------------------+
| Debian 11 (Buster) (ARM)               | PASS               |
+----------------------------------------+--------------------+
| Ubuntu 20.04 aarch32 GCC Cross Compile | PASS               |
+----------------------------------------+--------------------+
| Ubuntu 20.04 ARM Clang Cross Compile   | PASS               |
+----------------------------------------+--------------------+
| Fedora 39 (ARM)                        | PASS               |
+----------------------------------------+--------------------+
| Ubuntu 20.04 ARM GCC Cross Compile     | PASS               |
+----------------------------------------+--------------------+
| Fedora 38 (ARM Clang)                  | PASS               |
+----------------------------------------+--------------------+
| Fedora 39 (ARM Clang)                  | PASS               |
+----------------------------------------+--------------------+
| Fedora 38 (ARM)                        | PASS               |
+----------------------------------------+--------------------+


Ubuntu 20.04 ARM SVE
	Kernel: 5.4.0-167-generic
	Compiler: gcc (Ubuntu 10.5.0-1ubuntu1~20.04) 10.5.0

Debian 12 with MUSDK
	Kernel: Container Host Kernel
	Compiler: gcc 12.2.0

Ubuntu 20.04 (ARM)
	Kernel: Container Host Kernel
	Compiler: gcc 9.4.0

Fedora 37 (ARM)
	Kernel: Depends on container host
	Compiler: gcc 12.3.1

CentOS Stream 9 (ARM)
	Kernel: Container Host Kernel
	Compiler: gcc 11.4.1

Debian 12 (arm)
	Kernel: Container Host Kernel
	Compiler: gcc 12.2.0

Debian 11 (Buster) (ARM)
	Kernel: Container Host Kernel
	Compiler: gcc 10.2.1

Ubuntu 20.04 aarch32 GCC Cross Compile
	Kernel: 5.4.0-167-generic
	Compiler: gcc 9.4.0

Ubuntu 20.04 ARM Clang Cross Compile
	Kernel: 5.4.0-72-generic
	Compiler: clang 10.0.0-4ubuntu1

Fedora 39 (ARM)
	Kernel: Depends on container host
	Compiler: gcc 13.2.1

Ubuntu 20.04 ARM GCC Cross Compile
	Kernel: 5.4.0-167-generic
	Compiler: aarch64-linux-gnu-gcc (Ubuntu 9.4.0-1ubuntu1~20.04.2) 9.4.0

Fedora 38 (ARM Clang)
	Kernel: Depends on container host
	Compiler: clang 16.0.6

Fedora 39 (ARM Clang)
	Kernel: Depends on container host
	Compiler: clang 17.0.6

Fedora 38 (ARM)
	Kernel: Depends on container host
	Compiler: gcc 13.2.1

To view detailed results, visit:
https://lab.dpdk.org/results/dashboard/patchsets/29658/

UNH-IOL DPDK Community Lab

To manage your email subscriptions, visit: 
https://lab.dpdk.org/results/dashboard/preferences/subscriptions/