From mboxrd@z Thu Jan  1 00:00:00 1970
Return-Path: <test-report-bounces@dpdk.org>
Received: from mails.dpdk.org (mails.dpdk.org [217.70.189.124])
	by inbox.dpdk.org (Postfix) with ESMTP id 4044E43D58
	for <public@inbox.dpdk.org>; Tue, 26 Mar 2024 21:03:39 +0100 (CET)
Received: from mails.dpdk.org (localhost [127.0.0.1])
	by mails.dpdk.org (Postfix) with ESMTP id 3B40340E6E;
	Tue, 26 Mar 2024 21:03:39 +0100 (CET)
Received: from mail-pg1-f226.google.com (mail-pg1-f226.google.com
 [209.85.215.226])
 by mails.dpdk.org (Postfix) with ESMTP id 26A8A40E4A
 for <test-report@dpdk.org>; Tue, 26 Mar 2024 21:03:38 +0100 (CET)
Received: by mail-pg1-f226.google.com with SMTP id
 41be03b00d2f7-5e4613f2b56so3936791a12.1
 for <test-report@dpdk.org>; Tue, 26 Mar 2024 13:03:38 -0700 (PDT)
DKIM-Signature: v=1; a=rsa-sha256; c=relaxed/relaxed;
 d=iol.unh.edu; s=unh-iol; t=1711483417; x=1712088217; darn=dpdk.org;
 h=references:in-reply-to:cc:to:from:subject:message-id:date:from:to
 :cc:subject:date:message-id:reply-to;
 bh=HTeBtpRVeo3YPZ42T1yzidI/Qtq+rJcpmOFC894POGQ=;
 b=UUpHKU2WA2zRp7+Pjyx6d1vHKBc8vEoupuCky6dhBJflIEmrxHXj3KH4l9AAxF+0wx
 zAeC5jnG56/bXK9RHaK0Cv425uNmbHjrsBCiB5gi2ilbA/5NsT8eUDlz5r+b+s4GdiiN
 eE37Woi9Scu5zRx3IbOD/E8nzl72b6LwRTUf8=
X-Google-DKIM-Signature: v=1; a=rsa-sha256; c=relaxed/relaxed;
 d=1e100.net; s=20230601; t=1711483417; x=1712088217;
 h=references:in-reply-to:cc:to:from:subject:message-id:date
 :x-gm-message-state:from:to:cc:subject:date:message-id:reply-to;
 bh=HTeBtpRVeo3YPZ42T1yzidI/Qtq+rJcpmOFC894POGQ=;
 b=wSUb6Nl47UewkOvQeNG17etCGJxwVMUTcGwkUHaKAz8w+kL1G/fOq3hDyf/d0IvoDc
 a7gz/TP3WWRgAj+wRpP631hMbb9FqOOnaloI9D064G4Um6DXxu4i3wKL15Xo9lcYgtOJ
 XSS8T5pIP/kj1gcex6so7Wb+0Q4E/KbU51H3tj/Af42+6KlUEtg81nTfJp4nuNdV6cMy
 AS6Gzn6hTJ/MVNIVgoJIWvlMsIix1feNPQfYiXA07K8+OCZJwX0c01J5rHO9x7xx5rwO
 +cxA+MampBiTvdEgFQLz562fF3u2uQbFCAIk69INtUFJXMJm96CCAj2MquaAWSwZHV25
 Na7Q==
X-Gm-Message-State: AOJu0YxDepcigmNZI8iZnf1xFFEsEfVDu9RUbX0u3VPILc0/J5yKoQ8F
 U/cACqa0ExG1WYkEKr4LkPgx1wLK5guraLKZsPNpkgbGlz+/ERVL1hOaLT4gHuaby0dT6+PXe9d
 WnorsPnMO3W/vG1Y0lfJJcDK9/HNxI43rgtLGQOYZKZwdz0h+V3etRSun
X-Google-Smtp-Source: AGHT+IFEDHkN1c7UuwWOj1UvPv+By0yUjgJJ39+A/ZnA/SY82J7/DiISxLL6Wgdfz1ip819lLIAM9EJDarsA
X-Received: by 2002:a17:90b:5110:b0:29b:c4a0:c8bc with SMTP id
 sc16-20020a17090b511000b0029bc4a0c8bcmr1060473pjb.34.1711483417203; 
 Tue, 26 Mar 2024 13:03:37 -0700 (PDT)
Received: from postal.iol.unh.edu (postal.iol.unh.edu.
 [2606:4100:3880:1234::84]) by smtp-relay.gmail.com with ESMTPS id
 fr15-20020a17090ae2cf00b0029705f5197dsm485742pjb.11.2024.03.26.13.03.37
 (version=TLS1_2 cipher=ECDHE-ECDSA-AES128-GCM-SHA256 bits=128/128);
 Tue, 26 Mar 2024 13:03:37 -0700 (PDT)
X-Relaying-Domain: iol.unh.edu
Date: Tue, 26 Mar 2024 13:03:37 -0700 (PDT)
Message-ID: <66032a19.170a0220.b1ce0.fde1SMTPIN_ADDED_MISSING@mx.google.com>
Received: from [172.21.0.8] (unknown [172.18.0.240])
 by postal.iol.unh.edu (Postfix) with ESMTP id 5C9D36052471;
 Tue, 26 Mar 2024 16:03:36 -0400 (EDT)
Subject: |SUCCESS| pw138827-138832 [PATCH] [6/6] dts: add statefulness to Tes
From: dpdklab@iol.unh.edu
To: Test Report <test-report@dpdk.org>
Cc: dpdk-test-reports@iol.unh.edu
In-Reply-To: <20240326190422.577028-7-luca.vizzarro@arm.com>
References: <20240326190422.577028-7-luca.vizzarro@arm.com>
Content-Type: text/plain
X-BeenThere: test-report@dpdk.org
X-Mailman-Version: 2.1.29
Precedence: list
List-Id: automatic DPDK test reports <test-report.dpdk.org>
List-Unsubscribe: <https://mails.dpdk.org/options/test-report>,
 <mailto:test-report-request@dpdk.org?subject=unsubscribe>
List-Archive: <http://mails.dpdk.org/archives/test-report/>
List-Post: <mailto:test-report@dpdk.org>
List-Help: <mailto:test-report-request@dpdk.org?subject=help>
List-Subscribe: <https://mails.dpdk.org/listinfo/test-report>,
 <mailto:test-report-request@dpdk.org?subject=subscribe>
Errors-To: test-report-bounces@dpdk.org

Test-Label: iol-compile-amd64-testing
Test-Status: SUCCESS
http://dpdk.org/patch/138832

_Testing PASS_

Submitter: Luca Vizzarro <luca.vizzarro@arm.com>
Date: Tuesday, March 26 2024 19:04:22 
DPDK git baseline: Repo:dpdk
  Branch: master
  CommitID:ded4d4765171b88470e59307f10625e942f22fca

138827-138832 --> testing pass

Test environment and result as below:

+---------------------+--------------------+----------------------+-------------------+
|     Environment     | dpdk_meson_compile | dpdk_mingw64_compile | dpdk_msvc_compile |
+=====================+====================+======================+===================+
| FreeBSD 13.2        | PASS               | SKIPPED              | SKIPPED           |
+---------------------+--------------------+----------------------+-------------------+
| Windows Server 2019 | PASS               | PASS                 | SKIPPED           |
+---------------------+--------------------+----------------------+-------------------+
| Windows Server 2022 | PASS               | PASS                 | PASS              |
+---------------------+--------------------+----------------------+-------------------+
| CentOS Stream 8     | PASS               | SKIPPED              | SKIPPED           |
+---------------------+--------------------+----------------------+-------------------+
| Debian Bullseye     | PASS               | SKIPPED              | SKIPPED           |
+---------------------+--------------------+----------------------+-------------------+
| Debian 11 (arm)     | PASS               | SKIPPED              | SKIPPED           |
+---------------------+--------------------+----------------------+-------------------+
| Fedora 38           | PASS               | SKIPPED              | SKIPPED           |
+---------------------+--------------------+----------------------+-------------------+
| openSUSE Leap 15    | PASS               | SKIPPED              | SKIPPED           |
+---------------------+--------------------+----------------------+-------------------+
| CentOS Stream 9     | PASS               | SKIPPED              | SKIPPED           |
+---------------------+--------------------+----------------------+-------------------+
| Ubuntu 20.04        | PASS               | SKIPPED              | SKIPPED           |
+---------------------+--------------------+----------------------+-------------------+
| Ubuntu 22.04        | PASS               | SKIPPED              | SKIPPED           |
+---------------------+--------------------+----------------------+-------------------+


FreeBSD 13.2
	Kernel: 13.2
	Compiler: clang 14.0.5

Windows Server 2019
	Kernel: 10.0.17763
	Compiler: clang 14.0 and gcc 8.1.0 (MinGW)

Windows Server 2022
	Kernel: 10.0.20348.2031
	Compiler: clang 15.0.7, gcc 8.1.0 (MinGW), and MSVC VS 17.9

CentOS Stream 8
	Kernel: 5.4.0-167-generic
	Compiler: gcc 8.5.0 20210514

Debian Bullseye
	Kernel: 5.4.0-167-generic
	Compiler: gcc 10.2.1-6

Debian 11 (arm)
	Kernel: Container Host Kernel
	Compiler: gcc 10.2.1

Fedora 38
	Kernel: Depends on container host
	Compiler: gcc 13.2.1

openSUSE Leap 15
	Kernel: 5.4.0-167-generic
	Compiler: gcc 7.5.0

CentOS Stream 9
	Kernel: 5.4.0-167-generic
	Compiler: gcc 11.4.1 20230605

Ubuntu 20.04
	Kernel: 5.4.0-167-generic
	Compiler: gcc 9.4.0-1ubuntu1~20.04.1

Ubuntu 22.04
	Kernel: 5.4.0-167-generic
	Compiler: gcc 11.4.0

To view detailed results, visit:
https://lab.dpdk.org/results/dashboard/patchsets/29659/

UNH-IOL DPDK Community Lab

To manage your email subscriptions, visit: 
https://lab.dpdk.org/results/dashboard/preferences/subscriptions/