From mboxrd@z Thu Jan  1 00:00:00 1970
Return-Path: <test-report-bounces@dpdk.org>
Received: from mails.dpdk.org (mails.dpdk.org [217.70.189.124])
	by inbox.dpdk.org (Postfix) with ESMTP id 0C14343D5B
	for <public@inbox.dpdk.org>; Tue, 26 Mar 2024 21:07:37 +0100 (CET)
Received: from mails.dpdk.org (localhost [127.0.0.1])
	by mails.dpdk.org (Postfix) with ESMTP id 08AC440E6E;
	Tue, 26 Mar 2024 21:07:37 +0100 (CET)
Received: from mail-pl1-f227.google.com (mail-pl1-f227.google.com
 [209.85.214.227])
 by mails.dpdk.org (Postfix) with ESMTP id 94DD840E4A
 for <test-report@dpdk.org>; Tue, 26 Mar 2024 21:07:33 +0100 (CET)
Received: by mail-pl1-f227.google.com with SMTP id
 d9443c01a7336-1e0878b76f3so1585125ad.0
 for <test-report@dpdk.org>; Tue, 26 Mar 2024 13:07:33 -0700 (PDT)
DKIM-Signature: v=1; a=rsa-sha256; c=relaxed/relaxed;
 d=iol.unh.edu; s=unh-iol; t=1711483653; x=1712088453; darn=dpdk.org;
 h=references:in-reply-to:cc:to:from:subject:message-id:date:from:to
 :cc:subject:date:message-id:reply-to;
 bh=pT8OzmAGKm6SdtCMRK9scs6YGt7xGmZ097L/MzVYHXI=;
 b=bgEsnK+hDNnNVktnVagipl6YkLm1cJ9nPpm+sWFaVKNHqCw5m45IHsbMe6YTPmnVit
 HQk9VsYP9wuduwd0b1DaSlDJ9WtK7XsoHuHRdgmnOG3+7Zp0QhhZ3o13n23X7ey5huSy
 uRDOrZVWPFEm6vZk9r4vWh2T3RnIwHJPIuxic=
X-Google-DKIM-Signature: v=1; a=rsa-sha256; c=relaxed/relaxed;
 d=1e100.net; s=20230601; t=1711483653; x=1712088453;
 h=references:in-reply-to:cc:to:from:subject:message-id:date
 :x-gm-message-state:from:to:cc:subject:date:message-id:reply-to;
 bh=pT8OzmAGKm6SdtCMRK9scs6YGt7xGmZ097L/MzVYHXI=;
 b=IlHI1HYy4Am8NVITs/MudrYNqX/2c/IgG0oET1qTD0xh7+JvUKlzS2tawDA9T9MoYI
 owJ2YU/Xfmr8Gz7uANvW7LG0PVdtSa1qf9aPHQ+gfz3PSkGJ5OqIQwTdiwRetIVq+0q8
 iS2fLfNm5+TEFvRQJi4iOuyAaWfUAYHFVJTwJLxp8VqLWBz482PpoZlTCSnP52citUER
 1HI8u/+fwjYhDnXRZ6F1RySte9ytJvE7bS1ANyeo+H6JuxZ12CrUCFURJut7Fx0LicPp
 sCXf24v+QcifJqphLQuscKTmOXEQJ1JZguQzF/RpHDFIBoYjTkq1tG8hzbv1NMhS/sJw
 K0KA==
X-Gm-Message-State: AOJu0YwoKItA10j0Ck3qCWhmR5MEUXvshGysoRxWbSesS5miwC48Edc+
 8nMyZuKD+UTMfwN3vb7tavQuADSFajFuQ2Cd9CfYw/SWb9L+hpxobz0PmhcJLvaxOSzvoHw+vPU
 HS0i+6EvAR46nMzQKTJmp5KJ7ClQZW4Dbw2/eAQtShGFCcayiAZ57QwVp
X-Google-Smtp-Source: AGHT+IHlFQdA3Dboso93yXWz4jZI3jr92nfOy+OvQntSjsIlMiWZf1lG9SobehghygXhc7OwBr495Q06VapK
X-Received: by 2002:a17:902:e842:b0:1e0:378c:43e1 with SMTP id
 t2-20020a170902e84200b001e0378c43e1mr3326694plg.27.1711483652761; 
 Tue, 26 Mar 2024 13:07:32 -0700 (PDT)
Received: from postal.iol.unh.edu (postal.iol.unh.edu.
 [2606:4100:3880:1234::84]) by smtp-relay.gmail.com with ESMTPS id
 b21-20020a170902ed1500b001e0295e089csm253250pld.109.2024.03.26.13.07.32
 (version=TLS1_2 cipher=ECDHE-ECDSA-AES128-GCM-SHA256 bits=128/128);
 Tue, 26 Mar 2024 13:07:32 -0700 (PDT)
X-Relaying-Domain: iol.unh.edu
Date: Tue, 26 Mar 2024 13:07:32 -0700 (PDT)
Message-ID: <66032b04.170a0220.f2851.5463SMTPIN_ADDED_MISSING@mx.google.com>
Received: from [172.17.0.6] (unknown [172.18.0.217])
 by postal.iol.unh.edu (Postfix) with ESMTP id E34156052471;
 Tue, 26 Mar 2024 16:07:31 -0400 (EDT)
Subject: |SUCCESS| pw138827-138832 [PATCH] [6/6] dts: add statefulness to Tes
From: dpdklab@iol.unh.edu
To: Test Report <test-report@dpdk.org>
Cc: dpdk-test-reports@iol.unh.edu
In-Reply-To: <20240326190422.577028-7-luca.vizzarro@arm.com>
References: <20240326190422.577028-7-luca.vizzarro@arm.com>
Content-Type: text/plain
X-BeenThere: test-report@dpdk.org
X-Mailman-Version: 2.1.29
Precedence: list
List-Id: automatic DPDK test reports <test-report.dpdk.org>
List-Unsubscribe: <https://mails.dpdk.org/options/test-report>,
 <mailto:test-report-request@dpdk.org?subject=unsubscribe>
List-Archive: <http://mails.dpdk.org/archives/test-report/>
List-Post: <mailto:test-report@dpdk.org>
List-Help: <mailto:test-report-request@dpdk.org?subject=help>
List-Subscribe: <https://mails.dpdk.org/listinfo/test-report>,
 <mailto:test-report-request@dpdk.org?subject=subscribe>
Errors-To: test-report-bounces@dpdk.org

Test-Label: iol-unit-amd64-testing
Test-Status: SUCCESS
http://dpdk.org/patch/138832

_Testing PASS_

Submitter: Luca Vizzarro <luca.vizzarro@arm.com>
Date: Tuesday, March 26 2024 19:04:22 
DPDK git baseline: Repo:dpdk
  Branch: master
  CommitID:ded4d4765171b88470e59307f10625e942f22fca

138827-138832 --> testing pass

Test environment and result as below:

+---------------------+----------------+
|     Environment     | dpdk_unit_test |
+=====================+================+
| Windows Server 2019 | PASS           |
+---------------------+----------------+
| CentOS Stream 8     | PASS           |
+---------------------+----------------+
| CentOS Stream 9     | PASS           |
+---------------------+----------------+


Windows Server 2019
	Kernel: 10.0.17763
	Compiler: clang 14.0 and gcc 8.1.0 (MinGW)

CentOS Stream 8
	Kernel: 5.4.0-167-generic
	Compiler: gcc 8.5.0 20210514

CentOS Stream 9
	Kernel: 5.4.0-167-generic
	Compiler: gcc 11.4.1 20230605

To view detailed results, visit:
https://lab.dpdk.org/results/dashboard/patchsets/29659/

UNH-IOL DPDK Community Lab

To manage your email subscriptions, visit: 
https://lab.dpdk.org/results/dashboard/preferences/subscriptions/