From mboxrd@z Thu Jan  1 00:00:00 1970
Return-Path: <test-report-bounces@dpdk.org>
Received: from mails.dpdk.org (mails.dpdk.org [217.70.189.124])
	by inbox.dpdk.org (Postfix) with ESMTP id BB96143D5B
	for <public@inbox.dpdk.org>; Tue, 26 Mar 2024 21:12:20 +0100 (CET)
Received: from mails.dpdk.org (localhost [127.0.0.1])
	by mails.dpdk.org (Postfix) with ESMTP id B586340E6E;
	Tue, 26 Mar 2024 21:12:20 +0100 (CET)
Received: from mail-io1-f100.google.com (mail-io1-f100.google.com
 [209.85.166.100])
 by mails.dpdk.org (Postfix) with ESMTP id 8A8AD40E4A
 for <test-report@dpdk.org>; Tue, 26 Mar 2024 21:12:04 +0100 (CET)
Received: by mail-io1-f100.google.com with SMTP id
 ca18e2360f4ac-7cc77c19a19so220676939f.2
 for <test-report@dpdk.org>; Tue, 26 Mar 2024 13:12:04 -0700 (PDT)
DKIM-Signature: v=1; a=rsa-sha256; c=relaxed/relaxed;
 d=iol.unh.edu; s=unh-iol; t=1711483923; x=1712088723; darn=dpdk.org;
 h=references:in-reply-to:cc:to:from:subject:message-id:date:from:to
 :cc:subject:date:message-id:reply-to;
 bh=ISfopPq9Qv5cBP7AP/DglYFZKeUH72DPX59BVgqoauY=;
 b=MOvHObE+hdAs0rGJ2Ygar17GG4gx8ZXotL0R99kruZue33Z7YLbzh8VeP3+XkFrv0D
 +GHTDlZ6tYRLwtzBlrzUPUkWs5rMrpcqHk+csLpY9yaSmcqaQ75G+HrkxKbPekXulN4p
 A1YbwBqGZVHGMwS7Fg5Ut9mI8QHIBFZvMAhHs=
X-Google-DKIM-Signature: v=1; a=rsa-sha256; c=relaxed/relaxed;
 d=1e100.net; s=20230601; t=1711483923; x=1712088723;
 h=references:in-reply-to:cc:to:from:subject:message-id:date
 :x-gm-message-state:from:to:cc:subject:date:message-id:reply-to;
 bh=ISfopPq9Qv5cBP7AP/DglYFZKeUH72DPX59BVgqoauY=;
 b=uTd5xzdgJ6vZFTyzAJF4YUkg2XwyhrGwI8eU5TLIKtXLQAPnBQ2Be/wHbsFjd3gPfa
 o1QIZkbUOZNiG870zKzx/p7IyZVjinYNwEDiH1n2NpiKDAyuGgH0qgu14Fy24ITVSdJQ
 lwcwse9fsVAVp5ORU84IsTZq5FdT38f0SDfGDcm9tTXd2JFDkAAk4reZl52PoBMu+Vxs
 uu8FqsZdeTqr0/LDE/EWDVXLer/36m32bqVzi2OIgs8jd8IYlcmobXXOjRLgx0gfpSTi
 ZrPj9RDokPR8QPhOAIqOdyuvyge/e3C8rEu7QQGJGUhYXMUFAljdHN4trj2m8uAVIsD3
 CW9g==
X-Gm-Message-State: AOJu0Yw/cs31TV01c8t9hqhQIF95DKQaL3K9m+dyUDQaOHM60MCsMOuy
 HL6yQjXTo+vAsii3UOubXkfFBE1iWnvTa1KTOmuyRzy+gU3HIvaCMgIUjil9gKh1mifLJvjjygI
 k2iDBZAgNHQZeJpYgdf4zyyF81GriBNXhS9u9uDCN88qEZbq46z0sm8A3
X-Google-Smtp-Source: AGHT+IGcGknkZ+09FX+gofIJrm0kbHZkFRhmnESXD96epnQk0qDPge9fDE1BXjjMQnwCXLJAlwdjeE7chgeJ
X-Received: by 2002:a5d:8719:0:b0:7c8:6303:1bd4 with SMTP id
 u25-20020a5d8719000000b007c863031bd4mr910714iom.6.1711483922840; 
 Tue, 26 Mar 2024 13:12:02 -0700 (PDT)
Received: from postal.iol.unh.edu (postal.iol.unh.edu.
 [2606:4100:3880:1234::84]) by smtp-relay.gmail.com with ESMTPS id
 e15-20020a02a78f000000b00476d123a4c7sm377659jaj.4.2024.03.26.13.12.02
 (version=TLS1_2 cipher=ECDHE-ECDSA-AES128-GCM-SHA256 bits=128/128);
 Tue, 26 Mar 2024 13:12:02 -0700 (PDT)
X-Relaying-Domain: iol.unh.edu
Date: Tue, 26 Mar 2024 13:12:02 -0700 (PDT)
Message-ID: <66032c12.020a0220.69a0.6ce4SMTPIN_ADDED_MISSING@mx.google.com>
Received: from [172.17.0.9] (unknown [172.18.0.217])
 by postal.iol.unh.edu (Postfix) with ESMTP id 5DE5C6052472;
 Tue, 26 Mar 2024 16:12:02 -0400 (EDT)
Subject: |SUCCESS| pw138827-138832 [PATCH] [6/6] dts: add statefulness to Tes
From: dpdklab@iol.unh.edu
To: Test Report <test-report@dpdk.org>
Cc: dpdk-test-reports@iol.unh.edu
In-Reply-To: <20240326190422.577028-7-luca.vizzarro@arm.com>
References: <20240326190422.577028-7-luca.vizzarro@arm.com>
Content-Type: text/plain
X-BeenThere: test-report@dpdk.org
X-Mailman-Version: 2.1.29
Precedence: list
List-Id: automatic DPDK test reports <test-report.dpdk.org>
List-Unsubscribe: <https://mails.dpdk.org/options/test-report>,
 <mailto:test-report-request@dpdk.org?subject=unsubscribe>
List-Archive: <http://mails.dpdk.org/archives/test-report/>
List-Post: <mailto:test-report@dpdk.org>
List-Help: <mailto:test-report-request@dpdk.org?subject=help>
List-Subscribe: <https://mails.dpdk.org/listinfo/test-report>,
 <mailto:test-report-request@dpdk.org?subject=subscribe>
Errors-To: test-report-bounces@dpdk.org

Test-Label: iol-compile-arm64-testing
Test-Status: SUCCESS
http://dpdk.org/patch/138832

_Testing PASS_

Submitter: Luca Vizzarro <luca.vizzarro@arm.com>
Date: Tuesday, March 26 2024 19:04:22 
DPDK git baseline: Repo:dpdk
  Branch: master
  CommitID:ded4d4765171b88470e59307f10625e942f22fca

138827-138832 --> testing pass

Test environment and result as below:

+----------------------------------------+--------------------+
|              Environment               | dpdk_meson_compile |
+========================================+====================+
| Ubuntu 20.04 ARM SVE                   | PASS               |
+----------------------------------------+--------------------+
| Debian 12 with MUSDK                   | PASS               |
+----------------------------------------+--------------------+
| Fedora 37 (ARM)                        | PASS               |
+----------------------------------------+--------------------+
| Fedora 38 (ARM)                        | PASS               |
+----------------------------------------+--------------------+
| Ubuntu 20.04 (ARM)                     | PASS               |
+----------------------------------------+--------------------+
| CentOS Stream 9 (ARM)                  | PASS               |
+----------------------------------------+--------------------+
| Debian 11 (Buster) (ARM)               | PASS               |
+----------------------------------------+--------------------+
| Debian 12 (arm)                        | PASS               |
+----------------------------------------+--------------------+
| Ubuntu 20.04 ARM GCC Cross Compile     | PASS               |
+----------------------------------------+--------------------+
| Ubuntu 20.04 aarch32 GCC Cross Compile | PASS               |
+----------------------------------------+--------------------+
| Ubuntu 20.04 ARM Clang Cross Compile   | PASS               |
+----------------------------------------+--------------------+


Ubuntu 20.04 ARM SVE
	Kernel: 5.4.0-167-generic
	Compiler: gcc (Ubuntu 10.5.0-1ubuntu1~20.04) 10.5.0

Debian 12 with MUSDK
	Kernel: Container Host Kernel
	Compiler: gcc 12.2.0

Fedora 37 (ARM)
	Kernel: Depends on container host
	Compiler: gcc 12.3.1

Fedora 38 (ARM)
	Kernel: Depends on container host
	Compiler: gcc 13.2.1

Ubuntu 20.04 (ARM)
	Kernel: Container Host Kernel
	Compiler: gcc 9.4.0

CentOS Stream 9 (ARM)
	Kernel: Container Host Kernel
	Compiler: gcc 11.4.1

Debian 11 (Buster) (ARM)
	Kernel: Container Host Kernel
	Compiler: gcc 10.2.1

Debian 12 (arm)
	Kernel: Container Host Kernel
	Compiler: gcc 12.2.0

Ubuntu 20.04 ARM GCC Cross Compile
	Kernel: 5.4.0-167-generic
	Compiler: aarch64-linux-gnu-gcc (Ubuntu 9.4.0-1ubuntu1~20.04.2) 9.4.0

Ubuntu 20.04 aarch32 GCC Cross Compile
	Kernel: 5.4.0-167-generic
	Compiler: gcc 9.4.0

Ubuntu 20.04 ARM Clang Cross Compile
	Kernel: 5.4.0-72-generic
	Compiler: clang 10.0.0-4ubuntu1

To view detailed results, visit:
https://lab.dpdk.org/results/dashboard/patchsets/29659/

UNH-IOL DPDK Community Lab

To manage your email subscriptions, visit: 
https://lab.dpdk.org/results/dashboard/preferences/subscriptions/