From mboxrd@z Thu Jan  1 00:00:00 1970
Return-Path: <test-report-bounces@dpdk.org>
Received: from mails.dpdk.org (mails.dpdk.org [217.70.189.124])
	by inbox.dpdk.org (Postfix) with ESMTP id 1E1E843D5B
	for <public@inbox.dpdk.org>; Tue, 26 Mar 2024 21:12:49 +0100 (CET)
Received: from mails.dpdk.org (localhost [127.0.0.1])
	by mails.dpdk.org (Postfix) with ESMTP id 1095740ED6;
	Tue, 26 Mar 2024 21:12:49 +0100 (CET)
Received: from mail-io1-f98.google.com (mail-io1-f98.google.com
 [209.85.166.98]) by mails.dpdk.org (Postfix) with ESMTP id 5159C40E4A
 for <test-report@dpdk.org>; Tue, 26 Mar 2024 21:12:36 +0100 (CET)
Received: by mail-io1-f98.google.com with SMTP id
 ca18e2360f4ac-7d074bd708bso22954939f.2
 for <test-report@dpdk.org>; Tue, 26 Mar 2024 13:12:36 -0700 (PDT)
DKIM-Signature: v=1; a=rsa-sha256; c=relaxed/relaxed;
 d=iol.unh.edu; s=unh-iol; t=1711483955; x=1712088755; darn=dpdk.org;
 h=references:in-reply-to:cc:to:from:subject:message-id:date:from:to
 :cc:subject:date:message-id:reply-to;
 bh=ztbdxkb9MyUKw38rlUJYFlW1YOG6E3NGbfvp7tOLask=;
 b=RpDvJ61tpP365rgzFEO5vcxxr1z12uorXQCd+Ee1u7HILoVmhancCVK1uxnbThDrHP
 4MTzxjqyv25L+jD+JkQICYmvM+UtOkidaUaNaA28gn5b3RiYIyzHcNleqgJzULUV8pu7
 rHXpg8xtc15HkOgWuKKecLdLCdZqVcTYtkHS8=
X-Google-DKIM-Signature: v=1; a=rsa-sha256; c=relaxed/relaxed;
 d=1e100.net; s=20230601; t=1711483955; x=1712088755;
 h=references:in-reply-to:cc:to:from:subject:message-id:date
 :x-gm-message-state:from:to:cc:subject:date:message-id:reply-to;
 bh=ztbdxkb9MyUKw38rlUJYFlW1YOG6E3NGbfvp7tOLask=;
 b=Z6sqdvhA1vUiV9fzOzXzbreshR0n3RLL1xdazimVuK49xsPiIQxVoMASI24yIEF6TG
 oISCQATlCg81pfaYiOYBRQ88qsP4YH26mVo0TaC9SEQu9Zx3NXCBX1I9oxuseXiA0VeA
 m3LA9/iYadexmRkP+cEDZbd+xyIkGdOwiSwsMlPDnUiGVWjoUEr3R7l6uy6mVf8P0Qkc
 czwYnHKcvnOj0Vi/c2s7ggoCkybh2VYdWZ6SpCaLP6wmnT8PKTPkArUufbg7d8tHV+4r
 xvIrqXEx1/Wn6xo/fo8Gxm9TA6VcubficfJ8EQMlZFUy9O0N0RrveEw0IdVqQGGDTMLo
 FTwQ==
X-Gm-Message-State: AOJu0YyQpqPj5ICBF1nwDaWjhIycDBc6+ib5GkKIG7Fh6unj6am5/PD3
 VrmT4L51ufDiIoRLRBVY4Rm8bttO4HsLRhsptiKNdslbbeKF27CU2MRxqA2I1LuWGmHOhZxm4sa
 rxQdvCnY0ew4C5MMMbpjqk1Fu/lMU/ctDg8tXYrYey7ZdTlf5ur4cLS8o
X-Google-Smtp-Source: AGHT+IEZTdDADiiHdjWKzU6WyPdo533xw4bWvwds9U9HOGvzDLzDrdAQjCIA0dvsGrpG+2mjp+bmogVnbuu3
X-Received: by 2002:a6b:c38b:0:b0:7d0:3a6c:c58 with SMTP id
 t133-20020a6bc38b000000b007d03a6c0c58mr802523iof.18.1711483955400; 
 Tue, 26 Mar 2024 13:12:35 -0700 (PDT)
Received: from postal.iol.unh.edu (postal.iol.unh.edu.
 [2606:4100:3880:1234::84]) by smtp-relay.gmail.com with ESMTPS id
 y21-20020a056602165500b007d063e30800sm133928iow.11.2024.03.26.13.12.35
 (version=TLS1_2 cipher=ECDHE-ECDSA-AES128-GCM-SHA256 bits=128/128);
 Tue, 26 Mar 2024 13:12:35 -0700 (PDT)
X-Relaying-Domain: iol.unh.edu
Date: Tue, 26 Mar 2024 13:12:35 -0700 (PDT)
Message-ID: <66032c33.050a0220.69694.8a0fSMTPIN_ADDED_MISSING@mx.google.com>
Received: from [172.17.0.9] (unknown [172.18.0.217])
 by postal.iol.unh.edu (Postfix) with ESMTP id CFBC16052471;
 Tue, 26 Mar 2024 16:12:34 -0400 (EDT)
Subject: |SUCCESS| pw138827-138832 [PATCH] [6/6] dts: add statefulness to Tes
From: dpdklab@iol.unh.edu
To: Test Report <test-report@dpdk.org>
Cc: dpdk-test-reports@iol.unh.edu
In-Reply-To: <20240326190422.577028-7-luca.vizzarro@arm.com>
References: <20240326190422.577028-7-luca.vizzarro@arm.com>
Content-Type: text/plain
X-BeenThere: test-report@dpdk.org
X-Mailman-Version: 2.1.29
Precedence: list
List-Id: automatic DPDK test reports <test-report.dpdk.org>
List-Unsubscribe: <https://mails.dpdk.org/options/test-report>,
 <mailto:test-report-request@dpdk.org?subject=unsubscribe>
List-Archive: <http://mails.dpdk.org/archives/test-report/>
List-Post: <mailto:test-report@dpdk.org>
List-Help: <mailto:test-report-request@dpdk.org?subject=help>
List-Subscribe: <https://mails.dpdk.org/listinfo/test-report>,
 <mailto:test-report-request@dpdk.org?subject=subscribe>
Errors-To: test-report-bounces@dpdk.org

Test-Label: iol-unit-arm64-testing
Test-Status: SUCCESS
http://dpdk.org/patch/138832

_Testing PASS_

Submitter: Luca Vizzarro <luca.vizzarro@arm.com>
Date: Tuesday, March 26 2024 19:04:22 
DPDK git baseline: Repo:dpdk
  Branch: master
  CommitID:ded4d4765171b88470e59307f10625e942f22fca

138827-138832 --> testing pass

Test environment and result as below:

+--------------------------+---------------------------+----------------+------------------------------+
|       Environment        | cryptodev_sw_zuc_autotest | dpdk_unit_test | cryptodev_sw_snow3g_autotest |
+==========================+===========================+================+==============================+
| Debian 12 (arm)          | PASS                      | PASS           | PASS                         |
+--------------------------+---------------------------+----------------+------------------------------+
| CentOS Stream 9 (ARM)    | SKIPPED                   | PASS           | SKIPPED                      |
+--------------------------+---------------------------+----------------+------------------------------+
| Debian 11 (Buster) (ARM) | SKIPPED                   | PASS           | SKIPPED                      |
+--------------------------+---------------------------+----------------+------------------------------+
| Fedora 37 (ARM)          | SKIPPED                   | PASS           | SKIPPED                      |
+--------------------------+---------------------------+----------------+------------------------------+
| Fedora 38 (ARM)          | SKIPPED                   | PASS           | SKIPPED                      |
+--------------------------+---------------------------+----------------+------------------------------+
| Fedora 39 (ARM)          | SKIPPED                   | PASS           | SKIPPED                      |
+--------------------------+---------------------------+----------------+------------------------------+


Debian 12 (arm)
	Kernel: Container Host Kernel
	Compiler: gcc 12.2.0

CentOS Stream 9 (ARM)
	Kernel: Container Host Kernel
	Compiler: gcc 11.4.1

Debian 11 (Buster) (ARM)
	Kernel: Container Host Kernel
	Compiler: gcc 10.2.1

Fedora 37 (ARM)
	Kernel: Depends on container host
	Compiler: gcc 12.3.1

Fedora 38 (ARM)
	Kernel: Depends on container host
	Compiler: gcc 13.2.1

Fedora 39 (ARM)
	Kernel: Depends on container host
	Compiler: gcc 13.2.1

To view detailed results, visit:
https://lab.dpdk.org/results/dashboard/patchsets/29659/

UNH-IOL DPDK Community Lab

To manage your email subscriptions, visit: 
https://lab.dpdk.org/results/dashboard/preferences/subscriptions/