From mboxrd@z Thu Jan  1 00:00:00 1970
Return-Path: <test-report-bounces@dpdk.org>
Received: from mails.dpdk.org (mails.dpdk.org [217.70.189.124])
	by inbox.dpdk.org (Postfix) with ESMTP id 1185A43D5D
	for <public@inbox.dpdk.org>; Tue, 26 Mar 2024 21:26:55 +0100 (CET)
Received: from mails.dpdk.org (localhost [127.0.0.1])
	by mails.dpdk.org (Postfix) with ESMTP id 08B2340E6E;
	Tue, 26 Mar 2024 21:26:55 +0100 (CET)
Received: from mail-ot1-f99.google.com (mail-ot1-f99.google.com
 [209.85.210.99]) by mails.dpdk.org (Postfix) with ESMTP id 7798540E4A
 for <test-report@dpdk.org>; Tue, 26 Mar 2024 21:26:53 +0100 (CET)
Received: by mail-ot1-f99.google.com with SMTP id
 46e09a7af769-6e677008501so3605607a34.1
 for <test-report@dpdk.org>; Tue, 26 Mar 2024 13:26:53 -0700 (PDT)
DKIM-Signature: v=1; a=rsa-sha256; c=relaxed/relaxed;
 d=iol.unh.edu; s=unh-iol; t=1711484812; x=1712089612; darn=dpdk.org;
 h=references:in-reply-to:cc:to:from:subject:message-id:date:from:to
 :cc:subject:date:message-id:reply-to;
 bh=wTjyzN7bcznPffr3Hjd/Sw5nxRBmuYVlFTM+JkDIMYc=;
 b=ZPcu9p8PQhjHMcKeg5XXJxG2qmaOagM5wvfn8Sx52G7Bz66LDe912SmtEXZSUYA1PE
 LsBcDX/CoEywtNtb1cT+frifm/Jat0QScNR+J+kpwQgTz5r+QLL9X8zr5ucZTJoPAnOv
 TGcZly9s5D7RhBBVvY1Ei3CvUo0fAILzau4z0=
X-Google-DKIM-Signature: v=1; a=rsa-sha256; c=relaxed/relaxed;
 d=1e100.net; s=20230601; t=1711484812; x=1712089612;
 h=references:in-reply-to:cc:to:from:subject:message-id:date
 :x-gm-message-state:from:to:cc:subject:date:message-id:reply-to;
 bh=wTjyzN7bcznPffr3Hjd/Sw5nxRBmuYVlFTM+JkDIMYc=;
 b=anPNjNqyWHHdYI5jL6HMDZgxq8GcLbUsnOrqbWWNw7q4V3sInd85xQMA/R3q36tz2L
 rcJ/A98UTC1qO0Zk++XJCgZSIWQe5r3AmBQOqmZwzcmNiBUAVgGP7ZiDGABDByXuDSQP
 wLwlfiSk8uMkXMThi+TwyfNWMQH1UvenK4oOGyD8QEfTtscp6ZUl5+vuohIG4A4XcdSo
 li5XGRA6/sIEMrrzLEDLI1rQp+Yhbu2wQGHh/NdaYdWJBc98solex2pTQomM2kkzmvts
 TFWzZ/3659x0jfaQWSGaZQczh8wvhgKYiDD887ww9XOsrSihygynn7h2Ar6k6v0mq8sD
 9MTQ==
X-Gm-Message-State: AOJu0YzrtSScnItQrX4l+WpvBavkzr7roPzvWu7+MrNxJlX1vlXvwRDv
 KVfVptNTcl1NoVPNevGTSB4AVMBNcPJ82R2oarZzPc/BK1cUbDQ2u44dXTpvNMH9tYgZrE3GnM8
 OhlE1Avl1mlYhVT/YdYMEk6dgAbvRVIXBBIKQDDHtKrC2uPXtNkjfQEp8
X-Google-Smtp-Source: AGHT+IH2COpMMKeO9L0rC99GllbJ6Q0n9kR5wLzq/FFvhJC/mK6f+TAEkOey+x6WxHwApevci7EHaLVGRAqi
X-Received: by 2002:a05:6870:910a:b0:221:442d:254b with SMTP id
 o10-20020a056870910a00b00221442d254bmr12470943oae.26.1711484812718; 
 Tue, 26 Mar 2024 13:26:52 -0700 (PDT)
Received: from postal.iol.unh.edu (postal.iol.unh.edu.
 [2606:4100:3880:1234::84]) by smtp-relay.gmail.com with ESMTPS id
 g1-20020a056870a70100b002202b511a05sm261907oam.16.2024.03.26.13.26.52
 (version=TLS1_2 cipher=ECDHE-ECDSA-AES128-GCM-SHA256 bits=128/128);
 Tue, 26 Mar 2024 13:26:52 -0700 (PDT)
X-Relaying-Domain: iol.unh.edu
Date: Tue, 26 Mar 2024 13:26:52 -0700 (PDT)
Message-ID: <66032f8c.050a0220.a54ac.0ea3SMTPIN_ADDED_MISSING@mx.google.com>
Received: from [172.17.0.7] (unknown [172.18.0.217])
 by postal.iol.unh.edu (Postfix) with ESMTP id 537526052471;
 Tue, 26 Mar 2024 16:26:52 -0400 (EDT)
Subject: |SUCCESS| pw138827-138832 [PATCH] [6/6] dts: add statefulness to Tes
From: dpdklab@iol.unh.edu
To: Test Report <test-report@dpdk.org>
Cc: dpdk-test-reports@iol.unh.edu
In-Reply-To: <20240326190422.577028-7-luca.vizzarro@arm.com>
References: <20240326190422.577028-7-luca.vizzarro@arm.com>
Content-Type: text/plain
X-BeenThere: test-report@dpdk.org
X-Mailman-Version: 2.1.29
Precedence: list
List-Id: automatic DPDK test reports <test-report.dpdk.org>
List-Unsubscribe: <https://mails.dpdk.org/options/test-report>,
 <mailto:test-report-request@dpdk.org?subject=unsubscribe>
List-Archive: <http://mails.dpdk.org/archives/test-report/>
List-Post: <mailto:test-report@dpdk.org>
List-Help: <mailto:test-report-request@dpdk.org?subject=help>
List-Subscribe: <https://mails.dpdk.org/listinfo/test-report>,
 <mailto:test-report-request@dpdk.org?subject=subscribe>
Errors-To: test-report-bounces@dpdk.org

Test-Label: iol-unit-amd64-testing
Test-Status: SUCCESS
http://dpdk.org/patch/138832

_Testing PASS_

Submitter: Luca Vizzarro <luca.vizzarro@arm.com>
Date: Tuesday, March 26 2024 19:04:22 
DPDK git baseline: Repo:dpdk
  Branch: master
  CommitID:ded4d4765171b88470e59307f10625e942f22fca

138827-138832 --> testing pass

Test environment and result as below:

+---------------------+----------------+
|     Environment     | dpdk_unit_test |
+=====================+================+
| Windows Server 2019 | PASS           |
+---------------------+----------------+
| CentOS Stream 8     | PASS           |
+---------------------+----------------+
| CentOS Stream 9     | PASS           |
+---------------------+----------------+
| Debian Bullseye     | PASS           |
+---------------------+----------------+
| Windows Server 2022 | PASS           |
+---------------------+----------------+
| Debian 11 (arm)     | PASS           |
+---------------------+----------------+
| Fedora 38           | PASS           |
+---------------------+----------------+
| Fedora 37           | PASS           |
+---------------------+----------------+
| openSUSE Leap 15    | PASS           |
+---------------------+----------------+


Windows Server 2019
	Kernel: 10.0.17763
	Compiler: clang 14.0 and gcc 8.1.0 (MinGW)

CentOS Stream 8
	Kernel: 5.4.0-167-generic
	Compiler: gcc 8.5.0 20210514

CentOS Stream 9
	Kernel: 5.4.0-167-generic
	Compiler: gcc 11.4.1 20230605

Debian Bullseye
	Kernel: 5.4.0-167-generic
	Compiler: gcc 10.2.1-6

Windows Server 2022
	Kernel: 10.0.20348.2031
	Compiler: clang 15.0.7, gcc 8.1.0 (MinGW), and MSVC VS 17.9

Debian 11 (arm)
	Kernel: Container Host Kernel
	Compiler: gcc 10.2.1

Fedora 38
	Kernel: Depends on container host
	Compiler: gcc 13.2.1

Fedora 37
	Kernel: Depends on container host system
	Compiler: gcc 12.3.1

openSUSE Leap 15
	Kernel: 5.4.0-167-generic
	Compiler: gcc 7.5.0

To view detailed results, visit:
https://lab.dpdk.org/results/dashboard/patchsets/29659/

UNH-IOL DPDK Community Lab

To manage your email subscriptions, visit: 
https://lab.dpdk.org/results/dashboard/preferences/subscriptions/