From mboxrd@z Thu Jan  1 00:00:00 1970
Return-Path: <test-report-bounces@dpdk.org>
Received: from mails.dpdk.org (mails.dpdk.org [217.70.189.124])
	by inbox.dpdk.org (Postfix) with ESMTP id 4CB9E43D64
	for <public@inbox.dpdk.org>; Wed, 27 Mar 2024 02:15:57 +0100 (CET)
Received: from mails.dpdk.org (localhost [127.0.0.1])
	by mails.dpdk.org (Postfix) with ESMTP id 47F11402B2;
	Wed, 27 Mar 2024 02:15:57 +0100 (CET)
Received: from mail-qt1-f228.google.com (mail-qt1-f228.google.com
 [209.85.160.228])
 by mails.dpdk.org (Postfix) with ESMTP id 55DF3402A3
 for <test-report@dpdk.org>; Wed, 27 Mar 2024 02:15:47 +0100 (CET)
Received: by mail-qt1-f228.google.com with SMTP id
 d75a77b69052e-43107ccd7b9so39499731cf.3
 for <test-report@dpdk.org>; Tue, 26 Mar 2024 18:15:47 -0700 (PDT)
DKIM-Signature: v=1; a=rsa-sha256; c=relaxed/relaxed;
 d=iol.unh.edu; s=unh-iol; t=1711502146; x=1712106946; darn=dpdk.org;
 h=references:in-reply-to:cc:to:from:subject:message-id:date:from:to
 :cc:subject:date:message-id:reply-to;
 bh=4/3ghlXOiXLXbfTVDfvhiIBUt1wN+UjZZjCFIDuz+Ao=;
 b=LXETvqC16sadWWXU2m2MrPqPkGxpdYoXNWlt3KsdH0Kxz0P6H5VhcBXvhRtBweXZrT
 kFF0zX3YgCsEKp4Yh4SkVmoWIOZ++thIjORUJSblwFYIlti/WU0HQ/19Z15Kl2cnX5Z/
 lsym9wX0MxZyjitLjyzBODFOlfZMVH1ZMg9CI=
X-Google-DKIM-Signature: v=1; a=rsa-sha256; c=relaxed/relaxed;
 d=1e100.net; s=20230601; t=1711502146; x=1712106946;
 h=references:in-reply-to:cc:to:from:subject:message-id:date
 :x-gm-message-state:from:to:cc:subject:date:message-id:reply-to;
 bh=4/3ghlXOiXLXbfTVDfvhiIBUt1wN+UjZZjCFIDuz+Ao=;
 b=InCzjg8WUaLcxszwjjwlNk9jgIttnQOVNnFj0/VgA/ExUWnPjznaMrFWtYUe//Ly/E
 whmoV53gRRDLzN8MaUr82PlHku2atQzbXGpzY9BTsJ27E2stG+m/HnElVx6aFr1v4rxJ
 r0aOhTE78HpnD26vbkC3kV8YUa4uyPIXthKuuGU8UhFr6fUXM4yNB+3U7mdUppwOMTpT
 fL+l0P5vGNSnm3va73uowd2tx/YamDBy7FuhuJRhThfyhCKeu4O3hw8cJj+o9P94c5Tf
 uKD3FAYxwisyuOa1gaTwiaPNG5vrCIX6Lmc+HU3bk0aQDNYhyndGAwBDx3DikZYJLNPn
 P3zA==
X-Gm-Message-State: AOJu0YyAcM6HNKXMg04nCWFesmPejc8OLdcCqMyHiFJXLcD29SOckA0w
 gj/5CXaOin8NCnYQ62w7ZdnGRCNS/9RHPDsuxz3C/SjrqWL65EbGVyI4KbeCUg+xoCgtmIG5CW1
 g6lj4kvQLQigXCDh9Dlc3G+dGfJ2kQIvS7mxyRoMp
X-Google-Smtp-Source: AGHT+IGdmuM9Yjvak4MZS2Xpn3ccwbhDKUNvglqZcUfMBrVA8RXkGbzuY1yE+rh9ZJX6BS2HV+6YaTfHrLKb
X-Received: by 2002:a05:622a:113:b0:431:3d2c:de18 with SMTP id
 u19-20020a05622a011300b004313d2cde18mr4730778qtw.5.1711502146601; 
 Tue, 26 Mar 2024 18:15:46 -0700 (PDT)
Received: from postal.iol.unh.edu (postal.iol.unh.edu. [132.177.123.84])
 by smtp-relay.gmail.com with ESMTPS id
 er11-20020a05622a5e8b00b004317c4ffcf9sm76547qtb.2.2024.03.26.18.15.46
 (version=TLS1_2 cipher=ECDHE-ECDSA-AES128-GCM-SHA256 bits=128/128);
 Tue, 26 Mar 2024 18:15:46 -0700 (PDT)
X-Relaying-Domain: iol.unh.edu
Date: Tue, 26 Mar 2024 18:15:46 -0700 (PDT)
Message-ID: <66037342.050a0220.8cfae.422bSMTPIN_ADDED_MISSING@mx.google.com>
Received: from [172.21.0.7] (unknown [172.18.0.240])
 by postal.iol.unh.edu (Postfix) with ESMTP id 483EE6052471;
 Tue, 26 Mar 2024 21:15:46 -0400 (EDT)
Subject: |SUCCESS| pw138833-138847 [PATCH] [v15,15/15] log: colorize log outp
From: dpdklab@iol.unh.edu
To: Test Report <test-report@dpdk.org>
Cc: dpdk-test-reports@iol.unh.edu
In-Reply-To: <20240327002859.203006-16-stephen@networkplumber.org>
References: <20240327002859.203006-16-stephen@networkplumber.org>
Content-Type: text/plain
X-BeenThere: test-report@dpdk.org
X-Mailman-Version: 2.1.29
Precedence: list
List-Id: automatic DPDK test reports <test-report.dpdk.org>
List-Unsubscribe: <https://mails.dpdk.org/options/test-report>,
 <mailto:test-report-request@dpdk.org?subject=unsubscribe>
List-Archive: <http://mails.dpdk.org/archives/test-report/>
List-Post: <mailto:test-report@dpdk.org>
List-Help: <mailto:test-report-request@dpdk.org?subject=help>
List-Subscribe: <https://mails.dpdk.org/listinfo/test-report>,
 <mailto:test-report-request@dpdk.org?subject=subscribe>
Errors-To: test-report-bounces@dpdk.org

Test-Label: iol-abi-testing
Test-Status: SUCCESS
http://dpdk.org/patch/138847

_Testing PASS_

Submitter: Stephen Hemminger <stephen@networkplumber.org>
Date: Wednesday, March 27 2024 00:27:14 
DPDK git baseline: Repo:dpdk
  Branch: master
  CommitID:ded4d4765171b88470e59307f10625e942f22fca

138833-138847 --> testing pass

Test environment and result as below:

+-----------------+----------+
|   Environment   | abi_test |
+=================+==========+
| Debian Bullseye | PASS     |
+-----------------+----------+
| CentOS Stream 9 | PASS     |
+-----------------+----------+
| Fedora 38       | PASS     |
+-----------------+----------+
| Fedora 37       | PASS     |
+-----------------+----------+
| Ubuntu 22.04    | PASS     |
+-----------------+----------+
| RHEL8           | PASS     |
+-----------------+----------+
| Fedora 39       | PASS     |
+-----------------+----------+


Debian Bullseye
	Kernel: 5.4.0-167-generic
	Compiler: gcc 10.2.1-6

CentOS Stream 9
	Kernel: 5.4.0-167-generic
	Compiler: gcc 11.4.1 20230605

Fedora 38
	Kernel: Depends on container host
	Compiler: gcc 13.2.1

Fedora 37
	Kernel: Depends on container host system
	Compiler: gcc 12.3.1

Ubuntu 22.04
	Kernel: 5.4.0-167-generic
	Compiler: gcc 11.4.0

RHEL8
	Kernel: 5.4.0-167-generic
	Compiler: gcc 8.5.0 20210514 (Red Hat 8.5.0-20)

Fedora 39
	Kernel: Depends on container host
	Compiler: clang 17.0.6

To view detailed results, visit:
https://lab.dpdk.org/results/dashboard/patchsets/29660/

UNH-IOL DPDK Community Lab

To manage your email subscriptions, visit: 
https://lab.dpdk.org/results/dashboard/preferences/subscriptions/