From mboxrd@z Thu Jan  1 00:00:00 1970
Return-Path: <test-report-bounces@dpdk.org>
Received: from mails.dpdk.org (mails.dpdk.org [217.70.189.124])
	by inbox.dpdk.org (Postfix) with ESMTP id 3497F43D64
	for <public@inbox.dpdk.org>; Wed, 27 Mar 2024 02:17:09 +0100 (CET)
Received: from mails.dpdk.org (localhost [127.0.0.1])
	by mails.dpdk.org (Postfix) with ESMTP id 29B25402B2;
	Wed, 27 Mar 2024 02:17:09 +0100 (CET)
Received: from mail-yw1-f228.google.com (mail-yw1-f228.google.com
 [209.85.128.228])
 by mails.dpdk.org (Postfix) with ESMTP id E3DDD402A3
 for <test-report@dpdk.org>; Wed, 27 Mar 2024 02:16:56 +0100 (CET)
Received: by mail-yw1-f228.google.com with SMTP id
 00721157ae682-607c5679842so58343197b3.2
 for <test-report@dpdk.org>; Tue, 26 Mar 2024 18:16:56 -0700 (PDT)
DKIM-Signature: v=1; a=rsa-sha256; c=relaxed/relaxed;
 d=iol.unh.edu; s=unh-iol; t=1711502216; x=1712107016; darn=dpdk.org;
 h=references:in-reply-to:cc:to:from:subject:message-id:date:from:to
 :cc:subject:date:message-id:reply-to;
 bh=4/3ghlXOiXLXbfTVDfvhiIBUt1wN+UjZZjCFIDuz+Ao=;
 b=DD9HH7qcGHgJCLL/Vn+igXtvRMK6LY2zX/XyAMmxISCh2we1HOVMLIm9tonaZWcTOJ
 keOeq1CFoGeoU5HS/oFFOOlGEswsZdmu7CQqS1xlJCasvvJXa10xbBRETxVPrj+EQEOX
 6BJwbHqjUxDmMWn+rQVKvA6NISM8LjVjkPnEk=
X-Google-DKIM-Signature: v=1; a=rsa-sha256; c=relaxed/relaxed;
 d=1e100.net; s=20230601; t=1711502216; x=1712107016;
 h=references:in-reply-to:cc:to:from:subject:message-id:date
 :x-gm-message-state:from:to:cc:subject:date:message-id:reply-to;
 bh=4/3ghlXOiXLXbfTVDfvhiIBUt1wN+UjZZjCFIDuz+Ao=;
 b=YitupGWGVIm4M70BcUC7Q4txF16byP7myBKdaja81aWe3YYmBbtgij1FNiUWd08o0A
 op4/vir0sO0EcZy8GlRipqk2Utwbo3XrMMekUHo6k/zavLUOEnY2DgHQmTTMMpHpy+Jx
 Hhy/HoXd7AiJ53TlVEwbu7nqu2BLorcrXDTfXt2em+I/qHWpOOGfThPvgJ1NzSy2E3bH
 fSFQJiQQYLlpAqdOQpzEFMrW9rRAGWx9OuyBjq09BzTwoi0K272m0B0G53qL/gPBDqto
 SnciLzt6/f3mvlRr3f/58lLeUOPgQzxalAIo6a1bkRgyuHy8mB0PqBBeUpUaw75todff
 RSWw==
X-Gm-Message-State: AOJu0Yy9apA/2SGoWQnrPKV3eI+rZkFQt81AGcANYytA4Q7aK/55ZtIQ
 RG8OkUGzSn6wc4UFBxQL8rGrQpeamBLi8un+bIDGq8RjYe2sSyZdJcgfIacFD5GZGJ3TNKZ5vkD
 Cv2i9/Sxp+Xkf0lacqg+3E2Lbti9oiGI1maz0TF6P3jCKiUKzAsEUmbVA
X-Google-Smtp-Source: AGHT+IEaMGf+/Hfyca8Y7ewJaqHK/NWsY84VeOI6KAMyDoj/2EWEtvl5mKGccsVxBGwFd8n8F8jRv932At5z
X-Received: by 2002:a25:b120:0:b0:dcd:b034:b500 with SMTP id
 g32-20020a25b120000000b00dcdb034b500mr1260575ybj.43.1711502216253; 
 Tue, 26 Mar 2024 18:16:56 -0700 (PDT)
Received: from postal.iol.unh.edu (postal.iol.unh.edu.
 [2606:4100:3880:1234::84]) by smtp-relay.gmail.com with ESMTPS id
 z6-20020a5b0b06000000b00dc26f94f84csm246126ybp.25.2024.03.26.18.16.56
 (version=TLS1_2 cipher=ECDHE-ECDSA-AES128-GCM-SHA256 bits=128/128);
 Tue, 26 Mar 2024 18:16:56 -0700 (PDT)
X-Relaying-Domain: iol.unh.edu
Date: Tue, 26 Mar 2024 18:16:56 -0700 (PDT)
Message-ID: <66037388.5b0a0220.61c94.d427SMTPIN_ADDED_MISSING@mx.google.com>
Received: from [172.21.0.6] (unknown [172.18.0.240])
 by postal.iol.unh.edu (Postfix) with ESMTP id A9B776052471;
 Tue, 26 Mar 2024 21:16:55 -0400 (EDT)
Subject: |SUCCESS| pw138833-138847 [PATCH] [v15,15/15] log: colorize log outp
From: dpdklab@iol.unh.edu
To: Test Report <test-report@dpdk.org>
Cc: dpdk-test-reports@iol.unh.edu
In-Reply-To: <20240327002859.203006-16-stephen@networkplumber.org>
References: <20240327002859.203006-16-stephen@networkplumber.org>
Content-Type: text/plain
X-BeenThere: test-report@dpdk.org
X-Mailman-Version: 2.1.29
Precedence: list
List-Id: automatic DPDK test reports <test-report.dpdk.org>
List-Unsubscribe: <https://mails.dpdk.org/options/test-report>,
 <mailto:test-report-request@dpdk.org?subject=unsubscribe>
List-Archive: <http://mails.dpdk.org/archives/test-report/>
List-Post: <mailto:test-report@dpdk.org>
List-Help: <mailto:test-report-request@dpdk.org?subject=help>
List-Subscribe: <https://mails.dpdk.org/listinfo/test-report>,
 <mailto:test-report-request@dpdk.org?subject=subscribe>
Errors-To: test-report-bounces@dpdk.org

Test-Label: iol-abi-testing
Test-Status: SUCCESS
http://dpdk.org/patch/138847

_Testing PASS_

Submitter: Stephen Hemminger <stephen@networkplumber.org>
Date: Wednesday, March 27 2024 00:27:14 
DPDK git baseline: Repo:dpdk
  Branch: master
  CommitID:ded4d4765171b88470e59307f10625e942f22fca

138833-138847 --> testing pass

Test environment and result as below:

+-----------------+----------+
|   Environment   | abi_test |
+=================+==========+
| Debian Bullseye | PASS     |
+-----------------+----------+
| CentOS Stream 9 | PASS     |
+-----------------+----------+
| Fedora 38       | PASS     |
+-----------------+----------+
| Fedora 37       | PASS     |
+-----------------+----------+
| Ubuntu 22.04    | PASS     |
+-----------------+----------+
| RHEL8           | PASS     |
+-----------------+----------+
| Fedora 39       | PASS     |
+-----------------+----------+


Debian Bullseye
	Kernel: 5.4.0-167-generic
	Compiler: gcc 10.2.1-6

CentOS Stream 9
	Kernel: 5.4.0-167-generic
	Compiler: gcc 11.4.1 20230605

Fedora 38
	Kernel: Depends on container host
	Compiler: gcc 13.2.1

Fedora 37
	Kernel: Depends on container host system
	Compiler: gcc 12.3.1

Ubuntu 22.04
	Kernel: 5.4.0-167-generic
	Compiler: gcc 11.4.0

RHEL8
	Kernel: 5.4.0-167-generic
	Compiler: gcc 8.5.0 20210514 (Red Hat 8.5.0-20)

Fedora 39
	Kernel: Depends on container host
	Compiler: clang 17.0.6

To view detailed results, visit:
https://lab.dpdk.org/results/dashboard/patchsets/29660/

UNH-IOL DPDK Community Lab

To manage your email subscriptions, visit: 
https://lab.dpdk.org/results/dashboard/preferences/subscriptions/