From mboxrd@z Thu Jan  1 00:00:00 1970
Return-Path: <test-report-bounces@dpdk.org>
Received: from mails.dpdk.org (mails.dpdk.org [217.70.189.124])
	by inbox.dpdk.org (Postfix) with ESMTP id A6E3D43D64
	for <public@inbox.dpdk.org>; Wed, 27 Mar 2024 02:23:15 +0100 (CET)
Received: from mails.dpdk.org (localhost [127.0.0.1])
	by mails.dpdk.org (Postfix) with ESMTP id A2460410EE;
	Wed, 27 Mar 2024 02:23:15 +0100 (CET)
Received: from mail-pj1-f99.google.com (mail-pj1-f99.google.com
 [209.85.216.99]) by mails.dpdk.org (Postfix) with ESMTP id 7F9214029F
 for <test-report@dpdk.org>; Wed, 27 Mar 2024 02:22:33 +0100 (CET)
Received: by mail-pj1-f99.google.com with SMTP id
 98e67ed59e1d1-29ddfd859eeso5146796a91.1
 for <test-report@dpdk.org>; Tue, 26 Mar 2024 18:22:33 -0700 (PDT)
DKIM-Signature: v=1; a=rsa-sha256; c=relaxed/relaxed;
 d=iol.unh.edu; s=unh-iol; t=1711502553; x=1712107353; darn=dpdk.org;
 h=references:in-reply-to:cc:to:from:subject:message-id:date:from:to
 :cc:subject:date:message-id:reply-to;
 bh=aUNm4BfIKcO64PGG3iICctggzzKapLxVqT+tc2EfOqM=;
 b=T4udbSxGoqSNZ87FhbtgaFBIrww68KZova8Rhw51FsM3Fn1oWQqHklf4Y3Ej+VcAVl
 PPdpIcHrbh1K08NRMZNIsi+OUIV5gpEx7BPWdoPVftDEenPncl7G5HxQxn2XBk8E9q9K
 To876vLwbObSvCAROUCNcMIEOtCyjmM/S5D8g=
X-Google-DKIM-Signature: v=1; a=rsa-sha256; c=relaxed/relaxed;
 d=1e100.net; s=20230601; t=1711502553; x=1712107353;
 h=references:in-reply-to:cc:to:from:subject:message-id:date
 :x-gm-message-state:from:to:cc:subject:date:message-id:reply-to;
 bh=aUNm4BfIKcO64PGG3iICctggzzKapLxVqT+tc2EfOqM=;
 b=djLc6G8wGi4yx/PcpaistVAf0NnWxRGSyjTd/3zAMmw1lpehvinEaYSUQAVftW0THt
 RKFK9hHaoRQvHvLko4LMijMsu1ArdYtFgOieZpT9xNLQjz9dY4qh0etlS3iogICwON6Q
 PnPKOp6Yr2cEo6LVdA4VTOqoekoY8H4g6PFT+1mu/2fY7PTzrvlLUYlhTfX4RJMq/TuV
 FNv5MUrhdBrHD1ESlKnoOG9MzzmnCBqtsfllH82mBEhCl+aa+7OxKS111wxt8NhmjKvt
 T4bsiAdissc1OSehfPh6naDNbZ74IjArkEoSC49ILdv4MIIaN/EWJTi73Mx8aHY38xf4
 1tVQ==
X-Gm-Message-State: AOJu0Ywr3NMup08im1B6FgF0DB8rJRhF8rhDUINnvmmnGe5tJIuxPWb7
 kp5e/UETai6z6PAWT/Tr8BCnabiPkyaXVCB+sQyk+0cjm4wu8lGMJ//lbPBh/jIdhp4SZ2r6xZK
 NpB1bk9cEewyGiVByKTh5ZpsMzpouQTNUwl9btx76
X-Google-Smtp-Source: AGHT+IG9G3vzWyJbSvlwoiXK1Blqy3SFzXtAdQYzbxicjAohXK93ldWCnRdWictUwMKcaFpEWD84pwTqX61E
X-Received: by 2002:a17:90a:9cf:b0:2a0:27e1:8901 with SMTP id
 73-20020a17090a09cf00b002a027e18901mr1527507pjo.1.1711502552768; 
 Tue, 26 Mar 2024 18:22:32 -0700 (PDT)
Received: from postal.iol.unh.edu (postal.iol.unh.edu. [132.177.123.84])
 by smtp-relay.gmail.com with ESMTPS id
 ds17-20020a17090b08d100b0029bcc79b12asm15606pjb.12.2024.03.26.18.22.32
 (version=TLS1_2 cipher=ECDHE-ECDSA-AES128-GCM-SHA256 bits=128/128);
 Tue, 26 Mar 2024 18:22:32 -0700 (PDT)
X-Relaying-Domain: iol.unh.edu
Date: Tue, 26 Mar 2024 18:22:32 -0700 (PDT)
Message-ID: <660374d8.170a0220.5529d.0e21SMTPIN_ADDED_MISSING@mx.google.com>
Received: from [172.21.0.6] (unknown [172.18.0.240])
 by postal.iol.unh.edu (Postfix) with ESMTP id D5B406052471;
 Tue, 26 Mar 2024 21:22:31 -0400 (EDT)
Subject: |SUCCESS| pw138833-138847 [PATCH] [v15,15/15] log: colorize log outp
From: dpdklab@iol.unh.edu
To: Test Report <test-report@dpdk.org>
Cc: dpdk-test-reports@iol.unh.edu
In-Reply-To: <20240327002859.203006-16-stephen@networkplumber.org>
References: <20240327002859.203006-16-stephen@networkplumber.org>
Content-Type: text/plain
X-BeenThere: test-report@dpdk.org
X-Mailman-Version: 2.1.29
Precedence: list
List-Id: automatic DPDK test reports <test-report.dpdk.org>
List-Unsubscribe: <https://mails.dpdk.org/options/test-report>,
 <mailto:test-report-request@dpdk.org?subject=unsubscribe>
List-Archive: <http://mails.dpdk.org/archives/test-report/>
List-Post: <mailto:test-report@dpdk.org>
List-Help: <mailto:test-report-request@dpdk.org?subject=help>
List-Subscribe: <https://mails.dpdk.org/listinfo/test-report>,
 <mailto:test-report-request@dpdk.org?subject=subscribe>
Errors-To: test-report-bounces@dpdk.org

Test-Label: iol-unit-arm64-testing
Test-Status: SUCCESS
http://dpdk.org/patch/138847

_Testing PASS_

Submitter: Stephen Hemminger <stephen@networkplumber.org>
Date: Wednesday, March 27 2024 00:27:14 
DPDK git baseline: Repo:dpdk
  Branch: master
  CommitID:ded4d4765171b88470e59307f10625e942f22fca

138833-138847 --> testing pass

Test environment and result as below:

+--------------------------+------------------------------+---------------------------+----------------+
|       Environment        | cryptodev_sw_snow3g_autotest | cryptodev_sw_zuc_autotest | dpdk_unit_test |
+==========================+==============================+===========================+================+
| Debian 12 (arm)          | PASS                         | PASS                      | PASS           |
+--------------------------+------------------------------+---------------------------+----------------+
| CentOS Stream 9 (ARM)    | SKIPPED                      | SKIPPED                   | PASS           |
+--------------------------+------------------------------+---------------------------+----------------+
| Debian 11 (Buster) (ARM) | SKIPPED                      | SKIPPED                   | PASS           |
+--------------------------+------------------------------+---------------------------+----------------+
| Fedora 37 (ARM)          | SKIPPED                      | SKIPPED                   | PASS           |
+--------------------------+------------------------------+---------------------------+----------------+
| Fedora 38 (ARM)          | SKIPPED                      | SKIPPED                   | PASS           |
+--------------------------+------------------------------+---------------------------+----------------+


Debian 12 (arm)
	Kernel: Container Host Kernel
	Compiler: gcc 12.2.0

CentOS Stream 9 (ARM)
	Kernel: Container Host Kernel
	Compiler: gcc 11.4.1

Debian 11 (Buster) (ARM)
	Kernel: Container Host Kernel
	Compiler: gcc 10.2.1

Fedora 37 (ARM)
	Kernel: Depends on container host
	Compiler: gcc 12.3.1

Fedora 38 (ARM)
	Kernel: Depends on container host
	Compiler: gcc 13.2.1

To view detailed results, visit:
https://lab.dpdk.org/results/dashboard/patchsets/29660/

UNH-IOL DPDK Community Lab

To manage your email subscriptions, visit: 
https://lab.dpdk.org/results/dashboard/preferences/subscriptions/