From mboxrd@z Thu Jan  1 00:00:00 1970
Return-Path: <test-report-bounces@dpdk.org>
Received: from mails.dpdk.org (mails.dpdk.org [217.70.189.124])
	by inbox.dpdk.org (Postfix) with ESMTP id 3A24443D64
	for <public@inbox.dpdk.org>; Wed, 27 Mar 2024 02:46:36 +0100 (CET)
Received: from mails.dpdk.org (localhost [127.0.0.1])
	by mails.dpdk.org (Postfix) with ESMTP id 22BFD402A3;
	Wed, 27 Mar 2024 02:46:36 +0100 (CET)
Received: from mail-io1-f99.google.com (mail-io1-f99.google.com
 [209.85.166.99]) by mails.dpdk.org (Postfix) with ESMTP id 6A9634029F
 for <test-report@dpdk.org>; Wed, 27 Mar 2024 02:46:35 +0100 (CET)
Received: by mail-io1-f99.google.com with SMTP id
 ca18e2360f4ac-7cf092f6bb7so227212839f.3
 for <test-report@dpdk.org>; Tue, 26 Mar 2024 18:46:35 -0700 (PDT)
DKIM-Signature: v=1; a=rsa-sha256; c=relaxed/relaxed;
 d=iol.unh.edu; s=unh-iol; t=1711503994; x=1712108794; darn=dpdk.org;
 h=references:in-reply-to:cc:to:from:subject:message-id:date:from:to
 :cc:subject:date:message-id:reply-to;
 bh=cCOHjq8vEqqbMeafcloZ6lsqiMrMHwlOZNQym8mSvNQ=;
 b=eq4IjU8ytSKr4fPpxetgoqEpLnmIqqPtdOAyqq8wX3bCXO6cRkY7gQQeljXJrs/nzW
 g90ROJoPVuS+U0pmDeFo81nnfb2NMCFi0S39aKLgnUWSVwfo486r5ykZ29vIsh9VHveX
 GQimY4JCnKEhv/5/Mhqqkz23pr0AZGir3UpBY=
X-Google-DKIM-Signature: v=1; a=rsa-sha256; c=relaxed/relaxed;
 d=1e100.net; s=20230601; t=1711503994; x=1712108794;
 h=references:in-reply-to:cc:to:from:subject:message-id:date
 :x-gm-message-state:from:to:cc:subject:date:message-id:reply-to;
 bh=cCOHjq8vEqqbMeafcloZ6lsqiMrMHwlOZNQym8mSvNQ=;
 b=nbjLaFiWOfVFb3yZjlVtmeL+amqO2ysETkKZnWRwrA3aPqM9U3xaV93SAZv0Pyffo2
 kz32OO5uO1Hw4dtMibnWC9cXdHlB0BBKun+cWhV0NQegH9+LGldCa8nEJHkWnf9eAA7H
 Vu9NKytucTeqOOsxtHGdKV8wOZgTrWONZAbIZY47AezNUS6PLLFPmus9kRjEZ7Pp+m7l
 491hk8Bn2YlHqgRL8Qut1wnXMCzPwkiPYCe9CPKQql9Gr+4Y2DUtTEu5b126lQAra18l
 VDJ7OvwmpJO+Bpo/QEkG7s+bvQVQpH2GFWCWskyS5uMy64BRmcd9++ORmp+E3H5xgpNH
 gJmQ==
X-Gm-Message-State: AOJu0YxVakL9AxmDpkPLj/0hsVNqxzbJYmhInDxsW4chNIQR+l3dgSO8
 FfKZCO6kquienf4iIjNjXkL+r6AYIULcYQoQxXq1lHLrSeFC+Z9vcQbBMElPr5SPDZNSnEDmZzW
 7k3DqivFU3rxjTu1f2jMHnx4PBSRueTixoNXxluoM
X-Google-Smtp-Source: AGHT+IHaSn5AiD8KThxZR0mW2SVHSmfaTk70untf8QC635e8r/gfZ6xdAsjEaF0cR8VEhkbdzinOTudRYNIM
X-Received: by 2002:a05:6e02:d4f:b0:368:83e0:34c6 with SMTP id
 h15-20020a056e020d4f00b0036883e034c6mr1464973ilj.26.1711503994738; 
 Tue, 26 Mar 2024 18:46:34 -0700 (PDT)
Received: from postal.iol.unh.edu (postal.iol.unh.edu. [132.177.123.84])
 by smtp-relay.gmail.com with ESMTPS id
 d3-20020a056e02138300b00364ec7d209fsm96128ilo.72.2024.03.26.18.46.34
 (version=TLS1_2 cipher=ECDHE-ECDSA-AES128-GCM-SHA256 bits=128/128);
 Tue, 26 Mar 2024 18:46:34 -0700 (PDT)
X-Relaying-Domain: iol.unh.edu
Date: Tue, 26 Mar 2024 18:46:34 -0700 (PDT)
Message-ID: <66037a7a.050a0220.af30a.6968SMTPIN_ADDED_MISSING@mx.google.com>
Received: from [172.17.0.6] (unknown [172.18.0.217])
 by postal.iol.unh.edu (Postfix) with ESMTP id 318566052471;
 Tue, 26 Mar 2024 21:46:34 -0400 (EDT)
Subject: |SUCCESS| pw138833-138847 [PATCH] [v15,15/15] log: colorize log outp
From: dpdklab@iol.unh.edu
To: Test Report <test-report@dpdk.org>
Cc: dpdk-test-reports@iol.unh.edu
In-Reply-To: <20240327002859.203006-16-stephen@networkplumber.org>
References: <20240327002859.203006-16-stephen@networkplumber.org>
Content-Type: text/plain
X-BeenThere: test-report@dpdk.org
X-Mailman-Version: 2.1.29
Precedence: list
List-Id: automatic DPDK test reports <test-report.dpdk.org>
List-Unsubscribe: <https://mails.dpdk.org/options/test-report>,
 <mailto:test-report-request@dpdk.org?subject=unsubscribe>
List-Archive: <http://mails.dpdk.org/archives/test-report/>
List-Post: <mailto:test-report@dpdk.org>
List-Help: <mailto:test-report-request@dpdk.org?subject=help>
List-Subscribe: <https://mails.dpdk.org/listinfo/test-report>,
 <mailto:test-report-request@dpdk.org?subject=subscribe>
Errors-To: test-report-bounces@dpdk.org

Test-Label: iol-unit-arm64-testing
Test-Status: SUCCESS
http://dpdk.org/patch/138847

_Testing PASS_

Submitter: Stephen Hemminger <stephen@networkplumber.org>
Date: Wednesday, March 27 2024 00:27:14 
DPDK git baseline: Repo:dpdk
  Branch: master
  CommitID:ded4d4765171b88470e59307f10625e942f22fca

138833-138847 --> testing pass

Test environment and result as below:

+-----------------------------+------------------------------+---------------------------+----------------+--------------+
|         Environment         | cryptodev_sw_snow3g_autotest | cryptodev_sw_zuc_autotest | dpdk_unit_test | lpm_autotest |
+=============================+==============================+===========================+================+==============+
| Debian 12 (arm)             | PASS                         | PASS                      | PASS           | SKIPPED      |
+-----------------------------+------------------------------+---------------------------+----------------+--------------+
| CentOS Stream 9 (ARM)       | SKIPPED                      | SKIPPED                   | PASS           | SKIPPED      |
+-----------------------------+------------------------------+---------------------------+----------------+--------------+
| Debian 11 (Buster) (ARM)    | SKIPPED                      | SKIPPED                   | PASS           | SKIPPED      |
+-----------------------------+------------------------------+---------------------------+----------------+--------------+
| Fedora 37 (ARM)             | SKIPPED                      | SKIPPED                   | PASS           | SKIPPED      |
+-----------------------------+------------------------------+---------------------------+----------------+--------------+
| Fedora 38 (ARM)             | SKIPPED                      | SKIPPED                   | PASS           | SKIPPED      |
+-----------------------------+------------------------------+---------------------------+----------------+--------------+
| 32-bit Ubuntu 20.04.4 (ARM) | SKIPPED                      | SKIPPED                   | PASS           | SKIPPED      |
+-----------------------------+------------------------------+---------------------------+----------------+--------------+
| Ubuntu 20.04 (ARM)          | SKIPPED                      | SKIPPED                   | PASS           | SKIPPED      |
+-----------------------------+------------------------------+---------------------------+----------------+--------------+
| Fedora 38 (ARM Clang)       | SKIPPED                      | SKIPPED                   | PASS           | SKIPPED      |
+-----------------------------+------------------------------+---------------------------+----------------+--------------+
| Ubuntu 20.04 ARM SVE        | SKIPPED                      | SKIPPED                   | SKIPPED        | PASS         |
+-----------------------------+------------------------------+---------------------------+----------------+--------------+


Debian 12 (arm)
	Kernel: Container Host Kernel
	Compiler: gcc 12.2.0

CentOS Stream 9 (ARM)
	Kernel: Container Host Kernel
	Compiler: gcc 11.4.1

Debian 11 (Buster) (ARM)
	Kernel: Container Host Kernel
	Compiler: gcc 10.2.1

Fedora 37 (ARM)
	Kernel: Depends on container host
	Compiler: gcc 12.3.1

Fedora 38 (ARM)
	Kernel: Depends on container host
	Compiler: gcc 13.2.1

32-bit Ubuntu 20.04.4 (ARM)
	Kernel: 5.4.0-155-generic aarch64
	Compiler: gcc 9.4

Ubuntu 20.04 (ARM)
	Kernel: Container Host Kernel
	Compiler: gcc 9.4.0

Fedora 38 (ARM Clang)
	Kernel: Depends on container host
	Compiler: clang 16.0.6

Ubuntu 20.04 ARM SVE
	Kernel: 5.4.0-167-generic
	Compiler: gcc (Ubuntu 10.5.0-1ubuntu1~20.04) 10.5.0

To view detailed results, visit:
https://lab.dpdk.org/results/dashboard/patchsets/29660/

UNH-IOL DPDK Community Lab

To manage your email subscriptions, visit: 
https://lab.dpdk.org/results/dashboard/preferences/subscriptions/