From mboxrd@z Thu Jan  1 00:00:00 1970
Return-Path: <test-report-bounces@dpdk.org>
Received: from mails.dpdk.org (mails.dpdk.org [217.70.189.124])
	by inbox.dpdk.org (Postfix) with ESMTP id 25A1A43D62
	for <public@inbox.dpdk.org>; Wed, 27 Mar 2024 08:01:00 +0100 (CET)
Received: from mails.dpdk.org (localhost [127.0.0.1])
	by mails.dpdk.org (Postfix) with ESMTP id 20785402D6;
	Wed, 27 Mar 2024 08:01:00 +0100 (CET)
Received: from mail-ua1-f100.google.com (mail-ua1-f100.google.com
 [209.85.222.100])
 by mails.dpdk.org (Postfix) with ESMTP id EC9BC4029F
 for <test-report@dpdk.org>; Wed, 27 Mar 2024 08:00:55 +0100 (CET)
Received: by mail-ua1-f100.google.com with SMTP id
 a1e0cc1a2514c-7e0f4106a8bso1664891241.1
 for <test-report@dpdk.org>; Wed, 27 Mar 2024 00:00:55 -0700 (PDT)
DKIM-Signature: v=1; a=rsa-sha256; c=relaxed/relaxed;
 d=iol.unh.edu; s=unh-iol; t=1711522855; x=1712127655; darn=dpdk.org;
 h=references:in-reply-to:cc:to:from:subject:message-id:date:from:to
 :cc:subject:date:message-id:reply-to;
 bh=PaDCelDHLtJavoMPRQVXlpZ9DLDJZWlqkOKVlfpLhQA=;
 b=G96AVwTLzA+OMzZ/z2TdzReSjlk9GZ3wF+q3oWeSz3iAXe7+Ayvp40bDxoQJrHfMJ5
 Q4zZFkzSQcfY5u33bCmdHKyZS4O1CSXf+NaI6nX6h7YcobhviozELipFr587pLutknKg
 dqywHzJy3+PivFaryG+OlsieKzUaW2E6kzpXY=
X-Google-DKIM-Signature: v=1; a=rsa-sha256; c=relaxed/relaxed;
 d=1e100.net; s=20230601; t=1711522855; x=1712127655;
 h=references:in-reply-to:cc:to:from:subject:message-id:date
 :x-gm-message-state:from:to:cc:subject:date:message-id:reply-to;
 bh=PaDCelDHLtJavoMPRQVXlpZ9DLDJZWlqkOKVlfpLhQA=;
 b=OicccmlOr388IOdzdyTnAv0akKOkv2fnASccpRcCLfGl7wBToL2cqyUFCjYMhuhyRc
 RnCKxTohH8/Qb7Vw9eGhM8mGJD31ZfHcl2eg6wEKl+mJj5CQEbA8vqW9uJp7j0WqsOQn
 Oh0oqPXXB1vqbZbmK3cPGKyCS9Wvd4vW8/eNQgSLp0x76vHKRBy54a/dnDFNlkg21x6h
 Pf9AH9V+FdWeyQrIX1nFe49lFU+RUgq8LXSJP2gFL9UldZkLsmmVvBqa4HXlZhKcC8yb
 x8efADbLsRrvrGbaXHJkWfGpFTYO3dXOkueG3zI5Fel+JOtQ69eOlsEBDBeQcQtEwDRq
 336g==
X-Gm-Message-State: AOJu0YzZd+r4SfkcHI7hUsPB5UlmP4tPi3FIznCXNuD3mmDijIOQ6pXz
 LsxYKayHLHqScJaWJpH7sOk13x+v9Vx6CMMTrrvwZs2dFzdWPi4UdJGSJXNYELDnrXfxuxnzuTc
 lWe24BbmiY/IZAv4gp+6IIYrv1Qeg0V2pk5IpJd5K
X-Google-Smtp-Source: AGHT+IGW1+Ik5/GnFDBEguyAdKb4NvAAxnv68AtT6S3XwwN9rUZpJmpynBnGISJvGA7/fUyg9Z+ODMiVWq4i
X-Received: by 2002:a05:6102:6cf:b0:476:9ac0:e8c4 with SMTP id
 m15-20020a05610206cf00b004769ac0e8c4mr281246vsg.34.1711522855384; 
 Wed, 27 Mar 2024 00:00:55 -0700 (PDT)
Received: from postal.iol.unh.edu (postal.iol.unh.edu. [132.177.123.84])
 by smtp-relay.gmail.com with ESMTPS id
 y22-20020ab05616000000b007e0dda04a23sm707749uaa.0.2024.03.27.00.00.55
 (version=TLS1_2 cipher=ECDHE-ECDSA-AES128-GCM-SHA256 bits=128/128);
 Wed, 27 Mar 2024 00:00:55 -0700 (PDT)
X-Relaying-Domain: iol.unh.edu
Date: Wed, 27 Mar 2024 00:00:55 -0700 (PDT)
Message-ID: <6603c427.b00a0220.cb212.832eSMTPIN_ADDED_MISSING@mx.google.com>
Received: from [172.21.0.6] (unknown [172.18.0.240])
 by postal.iol.unh.edu (Postfix) with ESMTP id 0E40F6052471;
 Wed, 27 Mar 2024 03:00:55 -0400 (EDT)
Subject: |SUCCESS| pw138849 [PATCH] [v1] net/ice: updated 24.03 recommended m
From: dpdklab@iol.unh.edu
To: Test Report <test-report@dpdk.org>
Cc: dpdk-test-reports@iol.unh.edu
In-Reply-To: <20240327050729.459392-1-hailinx.xu@intel.com>
References: <20240327050729.459392-1-hailinx.xu@intel.com>
Content-Type: text/plain
X-BeenThere: test-report@dpdk.org
X-Mailman-Version: 2.1.29
Precedence: list
List-Id: automatic DPDK test reports <test-report.dpdk.org>
List-Unsubscribe: <https://mails.dpdk.org/options/test-report>,
 <mailto:test-report-request@dpdk.org?subject=unsubscribe>
List-Archive: <http://mails.dpdk.org/archives/test-report/>
List-Post: <mailto:test-report@dpdk.org>
List-Help: <mailto:test-report-request@dpdk.org?subject=help>
List-Subscribe: <https://mails.dpdk.org/listinfo/test-report>,
 <mailto:test-report-request@dpdk.org?subject=subscribe>
Errors-To: test-report-bounces@dpdk.org

Test-Label: iol-abi-testing
Test-Status: SUCCESS
http://dpdk.org/patch/138849

_Testing PASS_

Submitter: hailinx <hailinx.xu@intel.com>
Date: Wednesday, March 27 2024 05:07:29 
DPDK git baseline: Repo:dpdk
  Branch: master
  CommitID:2c54ea7a59dfc0a819d3527309c62846fc8853af

138849 --> testing pass

Test environment and result as below:

+-----------------+----------+
|   Environment   | abi_test |
+=================+==========+
| Debian Bullseye | PASS     |
+-----------------+----------+
| Debian 11 (arm) | PASS     |
+-----------------+----------+
| Fedora 37       | PASS     |
+-----------------+----------+
| CentOS Stream 8 | PASS     |
+-----------------+----------+


Debian Bullseye
	Kernel: 5.4.0-167-generic
	Compiler: gcc 10.2.1-6

Debian 11 (arm)
	Kernel: Container Host Kernel
	Compiler: gcc 10.2.1

Fedora 37
	Kernel: Depends on container host system
	Compiler: gcc 12.3.1

CentOS Stream 8
	Kernel: 5.4.0-167-generic
	Compiler: gcc 8.5.0 20210514

To view detailed results, visit:
https://lab.dpdk.org/results/dashboard/patchsets/29662/

UNH-IOL DPDK Community Lab

To manage your email subscriptions, visit: 
https://lab.dpdk.org/results/dashboard/preferences/subscriptions/