From mboxrd@z Thu Jan  1 00:00:00 1970
Return-Path: <test-report-bounces@dpdk.org>
Received: from mails.dpdk.org (mails.dpdk.org [217.70.189.124])
	by inbox.dpdk.org (Postfix) with ESMTP id 5035943D62
	for <public@inbox.dpdk.org>; Wed, 27 Mar 2024 08:04:45 +0100 (CET)
Received: from mails.dpdk.org (localhost [127.0.0.1])
	by mails.dpdk.org (Postfix) with ESMTP id 43C66402A3;
	Wed, 27 Mar 2024 08:04:45 +0100 (CET)
Received: from mail-pf1-f225.google.com (mail-pf1-f225.google.com
 [209.85.210.225])
 by mails.dpdk.org (Postfix) with ESMTP id C80144029F
 for <test-report@dpdk.org>; Wed, 27 Mar 2024 08:03:35 +0100 (CET)
Received: by mail-pf1-f225.google.com with SMTP id
 d2e1a72fcca58-6ea9a60f7f5so3122084b3a.3
 for <test-report@dpdk.org>; Wed, 27 Mar 2024 00:03:35 -0700 (PDT)
DKIM-Signature: v=1; a=rsa-sha256; c=relaxed/relaxed;
 d=iol.unh.edu; s=unh-iol; t=1711523015; x=1712127815; darn=dpdk.org;
 h=references:in-reply-to:cc:to:from:subject:message-id:date:from:to
 :cc:subject:date:message-id:reply-to;
 bh=X0EX78ecIKY/HDzuJwrO6KMAG0aZvQSRDqScwaoQcxo=;
 b=TZbgtUujZ6Jef+3Mhewf6CKzmcQ89fb56HAk5vMIxpNt+8oVRZEWc8cJfN/odhZmPq
 4UD8nW3MSyl6XfSkNO9mPjqtI8RQOF+zAUmCR7puAaU0fk2TyqSxj0zhDq5ou0A5jc2Q
 YqAr0u4xNdNnKPCq/TTDGWl2So9v0DMFuBHmE=
X-Google-DKIM-Signature: v=1; a=rsa-sha256; c=relaxed/relaxed;
 d=1e100.net; s=20230601; t=1711523015; x=1712127815;
 h=references:in-reply-to:cc:to:from:subject:message-id:date
 :x-gm-message-state:from:to:cc:subject:date:message-id:reply-to;
 bh=X0EX78ecIKY/HDzuJwrO6KMAG0aZvQSRDqScwaoQcxo=;
 b=nRgO65DHgjvYsSVbBASxh5Ygq6PIMR5Q2zBymWGUmYGyfdCeNev3kDw4rgJxEsRdkN
 S8fyWwyn0xsLzD4sYHEIZXRVRVPj77qqET+pAutUEHCpskxBJ8Qd2ebMuIh4VwxiDwtz
 oBNYHXlwABzXV9dg22PcpqoRbMn6XQ6iw9BjmZ9ZmC5avhIbiy3lY9q9Sc9k7GgNgd4n
 TW8ZWSDEV0k+nKSfzBcvc9uUxGC//GaVc/bF/Q9cHVSk6bAhV4l7cCk2dgApfvd3+Cyp
 s9CVFOVBUlZJ+rWF/nEfMFbOY3VAmNmq/3ghCQQ3o6MeirrnfszJHl2eQDlYlTbMU4G+
 a90Q==
X-Gm-Message-State: AOJu0YzkI92G15j8+tepRjfzcKnwviZKmLD4nWP/JLyVLVSaZiwfHnzC
 nq3jvMtUEd5+UJlckECsLPY/WxAQC6jNjVF/IIaV5HFPPrRtlBqrEJCoRiKX+CVvvkBTU4bkqYR
 xIW5lmvAcHqp/Dw3R2YvskZJSTueulqY0lkQIFWvGy0pmSU8QlSo1Oclu
X-Google-Smtp-Source: AGHT+IG8ArXG8I69Jis5ws6A37o8fKZc0KWgTo0htWdnOszr1Vd0CHVsZlwXxmLNmI2CLprbCRF7QpI7KGR/
X-Received: by 2002:a05:6a00:98f:b0:6ea:8955:af79 with SMTP id
 u15-20020a056a00098f00b006ea8955af79mr1988520pfg.25.1711523014986; 
 Wed, 27 Mar 2024 00:03:34 -0700 (PDT)
Received: from postal.iol.unh.edu (postal.iol.unh.edu.
 [2606:4100:3880:1234::84]) by smtp-relay.gmail.com with ESMTPS id
 s32-20020a056a0017a000b006eaba4ef1a1sm181301pfg.21.2024.03.27.00.03.34
 (version=TLS1_2 cipher=ECDHE-ECDSA-AES128-GCM-SHA256 bits=128/128);
 Wed, 27 Mar 2024 00:03:34 -0700 (PDT)
X-Relaying-Domain: iol.unh.edu
Date: Wed, 27 Mar 2024 00:03:34 -0700 (PDT)
Message-ID: <6603c4c6.050a0220.adad.c75eSMTPIN_ADDED_MISSING@mx.google.com>
Received: from [172.21.0.7] (unknown [172.18.0.240])
 by postal.iol.unh.edu (Postfix) with ESMTP id 2B45C6052471;
 Wed, 27 Mar 2024 03:03:34 -0400 (EDT)
Subject: |SUCCESS| pw138849 [PATCH] [v1] net/ice: updated 24.03 recommended m
From: dpdklab@iol.unh.edu
To: Test Report <test-report@dpdk.org>
Cc: dpdk-test-reports@iol.unh.edu
In-Reply-To: <20240327050729.459392-1-hailinx.xu@intel.com>
References: <20240327050729.459392-1-hailinx.xu@intel.com>
Content-Type: text/plain
X-BeenThere: test-report@dpdk.org
X-Mailman-Version: 2.1.29
Precedence: list
List-Id: automatic DPDK test reports <test-report.dpdk.org>
List-Unsubscribe: <https://mails.dpdk.org/options/test-report>,
 <mailto:test-report-request@dpdk.org?subject=unsubscribe>
List-Archive: <http://mails.dpdk.org/archives/test-report/>
List-Post: <mailto:test-report@dpdk.org>
List-Help: <mailto:test-report-request@dpdk.org?subject=help>
List-Subscribe: <https://mails.dpdk.org/listinfo/test-report>,
 <mailto:test-report-request@dpdk.org?subject=subscribe>
Errors-To: test-report-bounces@dpdk.org

Test-Label: iol-abi-testing
Test-Status: SUCCESS
http://dpdk.org/patch/138849

_Testing PASS_

Submitter: hailinx <hailinx.xu@intel.com>
Date: Wednesday, March 27 2024 05:07:29 
DPDK git baseline: Repo:dpdk
  Branch: master
  CommitID:2c54ea7a59dfc0a819d3527309c62846fc8853af

138849 --> testing pass

Test environment and result as below:

+-----------------+----------+
|   Environment   | abi_test |
+=================+==========+
| Debian Bullseye | PASS     |
+-----------------+----------+
| Debian 11 (arm) | PASS     |
+-----------------+----------+
| Fedora 37       | PASS     |
+-----------------+----------+
| CentOS Stream 8 | PASS     |
+-----------------+----------+
| CentOS Stream 9 | PASS     |
+-----------------+----------+
| Fedora 38       | PASS     |
+-----------------+----------+


Debian Bullseye
	Kernel: 5.4.0-167-generic
	Compiler: gcc 10.2.1-6

Debian 11 (arm)
	Kernel: Container Host Kernel
	Compiler: gcc 10.2.1

Fedora 37
	Kernel: Depends on container host system
	Compiler: gcc 12.3.1

CentOS Stream 8
	Kernel: 5.4.0-167-generic
	Compiler: gcc 8.5.0 20210514

CentOS Stream 9
	Kernel: 5.4.0-167-generic
	Compiler: gcc 11.4.1 20230605

Fedora 38
	Kernel: Depends on container host
	Compiler: clang 16.0.6

To view detailed results, visit:
https://lab.dpdk.org/results/dashboard/patchsets/29662/

UNH-IOL DPDK Community Lab

To manage your email subscriptions, visit: 
https://lab.dpdk.org/results/dashboard/preferences/subscriptions/