From mboxrd@z Thu Jan  1 00:00:00 1970
Return-Path: <test-report-bounces@dpdk.org>
Received: from mails.dpdk.org (mails.dpdk.org [217.70.189.124])
	by inbox.dpdk.org (Postfix) with ESMTP id B8C8943D64
	for <public@inbox.dpdk.org>; Wed, 27 Mar 2024 08:09:44 +0100 (CET)
Received: from mails.dpdk.org (localhost [127.0.0.1])
	by mails.dpdk.org (Postfix) with ESMTP id B1FAE402A3;
	Wed, 27 Mar 2024 08:09:44 +0100 (CET)
Received: from mail-pl1-f226.google.com (mail-pl1-f226.google.com
 [209.85.214.226])
 by mails.dpdk.org (Postfix) with ESMTP id 41C1C4029F
 for <test-report@dpdk.org>; Wed, 27 Mar 2024 08:08:43 +0100 (CET)
Received: by mail-pl1-f226.google.com with SMTP id
 d9443c01a7336-1dff837d674so50616335ad.3
 for <test-report@dpdk.org>; Wed, 27 Mar 2024 00:08:43 -0700 (PDT)
DKIM-Signature: v=1; a=rsa-sha256; c=relaxed/relaxed;
 d=iol.unh.edu; s=unh-iol; t=1711523322; x=1712128122; darn=dpdk.org;
 h=references:in-reply-to:cc:to:from:subject:message-id:date:from:to
 :cc:subject:date:message-id:reply-to;
 bh=OvrY0PLWpbbE1c6OQ1yYkoQHAMIfIpE2CKuP5YYbYKo=;
 b=ZRJQnBxTplEFoqQB3jD11Ynnf++/KZEnnNOzS87GuX9ZXtHC95VMOJZ+EAcJOc3Hk8
 wlqhb8e39I2T1PcE7nXkw3nMOc//tdGRRABTQm0YGAlbQmqPif1694TyGHTdeAK3G7l6
 TJo8Sdh/aPOUX58y/FtX6HQdjEir4/PxiYoTA=
X-Google-DKIM-Signature: v=1; a=rsa-sha256; c=relaxed/relaxed;
 d=1e100.net; s=20230601; t=1711523322; x=1712128122;
 h=references:in-reply-to:cc:to:from:subject:message-id:date
 :x-gm-message-state:from:to:cc:subject:date:message-id:reply-to;
 bh=OvrY0PLWpbbE1c6OQ1yYkoQHAMIfIpE2CKuP5YYbYKo=;
 b=UDU5iztf6LV9lhplbkZXtQwjFnxkgkplYw9RLfLty/XIBGPwY4pPBXaR0tHqyB9MIV
 hvtW211kk/5iAU/KvmDDHJZhGs1j4T3XgYPig4d5BoBK/S4+qSSBtxNNE/PrtBStdf5T
 +wB4Fn2TiizU4fTxBhxKkiexd3IX8cyuCj2+iGwGGDC2rIvdSWJfIDJCnU6/Gb7v+eG/
 gEzCz3jumRF0xP1ISqXeAY+/MWAbNzJy/GnPrrVfYWd9+pfMd1yantHANWS/jDcfstUr
 D+l/808HV87vDoNFrXUsmLVhDiNnjMH3DzqWMBDpNWhwD5aj5klGnKFkRxVXdFI+f6em
 yfvw==
X-Gm-Message-State: AOJu0Yw9Dn6zt0nD4wcbdpfJ0bZyf2fQdjytf2TxkCwBcGx4BMmo+dOb
 kwwNBiwREhz73YlZyhD/QWaBjPBu+WPn7nb9UMaZBR5ekQ8+tPTO1ydzFSbOrtOyfAR3ZWt1Cfl
 OB6+tfoUg0zFqmpfOdx+7PH77104WSU6XUj71bcsS
X-Google-Smtp-Source: AGHT+IFYjEZZtwUARqMBUAnWcRdRH+N+27wrRicUkvU1MRqVywbe1LxTllNx9qcoJbbCFF9mFusBw8cuoQvf
X-Received: by 2002:a17:903:244f:b0:1df:16b:9cb8 with SMTP id
 l15-20020a170903244f00b001df016b9cb8mr578152pls.2.1711523322467; 
 Wed, 27 Mar 2024 00:08:42 -0700 (PDT)
Received: from postal.iol.unh.edu (postal.iol.unh.edu. [132.177.123.84])
 by smtp-relay.gmail.com with ESMTPS id
 q24-20020a170902789800b001dbcb39dd7bsm250282pll.105.2024.03.27.00.08.42
 (version=TLS1_2 cipher=ECDHE-ECDSA-AES128-GCM-SHA256 bits=128/128);
 Wed, 27 Mar 2024 00:08:42 -0700 (PDT)
X-Relaying-Domain: iol.unh.edu
Date: Wed, 27 Mar 2024 00:08:42 -0700 (PDT)
Message-ID: <6603c5fa.170a0220.3d72f.3c18SMTPIN_ADDED_MISSING@mx.google.com>
Received: from [172.21.0.7] (unknown [172.18.0.240])
 by postal.iol.unh.edu (Postfix) with ESMTP id 7B2686052471;
 Wed, 27 Mar 2024 03:08:41 -0400 (EDT)
Subject: |SUCCESS| pw138849 [PATCH] [v1] net/ice: updated 24.03 recommended m
From: dpdklab@iol.unh.edu
To: Test Report <test-report@dpdk.org>
Cc: dpdk-test-reports@iol.unh.edu
In-Reply-To: <20240327050729.459392-1-hailinx.xu@intel.com>
References: <20240327050729.459392-1-hailinx.xu@intel.com>
Content-Type: text/plain
X-BeenThere: test-report@dpdk.org
X-Mailman-Version: 2.1.29
Precedence: list
List-Id: automatic DPDK test reports <test-report.dpdk.org>
List-Unsubscribe: <https://mails.dpdk.org/options/test-report>,
 <mailto:test-report-request@dpdk.org?subject=unsubscribe>
List-Archive: <http://mails.dpdk.org/archives/test-report/>
List-Post: <mailto:test-report@dpdk.org>
List-Help: <mailto:test-report-request@dpdk.org?subject=help>
List-Subscribe: <https://mails.dpdk.org/listinfo/test-report>,
 <mailto:test-report-request@dpdk.org?subject=subscribe>
Errors-To: test-report-bounces@dpdk.org

Test-Label: iol-compile-amd64-testing
Test-Status: SUCCESS
http://dpdk.org/patch/138849

_Testing PASS_

Submitter: hailinx <hailinx.xu@intel.com>
Date: Wednesday, March 27 2024 05:07:29 
DPDK git baseline: Repo:dpdk
  Branch: master
  CommitID:2c54ea7a59dfc0a819d3527309c62846fc8853af

138849 --> testing pass

Test environment and result as below:

+---------------------+--------------------+----------------------+-------------------+
|     Environment     | dpdk_meson_compile | dpdk_mingw64_compile | dpdk_msvc_compile |
+=====================+====================+======================+===================+
| FreeBSD 13.2        | PASS               | SKIPPED              | SKIPPED           |
+---------------------+--------------------+----------------------+-------------------+
| Windows Server 2022 | PASS               | PASS                 | PASS              |
+---------------------+--------------------+----------------------+-------------------+
| Windows Server 2019 | PASS               | PASS                 | SKIPPED           |
+---------------------+--------------------+----------------------+-------------------+


FreeBSD 13.2
	Kernel: 13.2
	Compiler: clang 14.0.5

Windows Server 2022
	Kernel: 10.0.20348.2031
	Compiler: clang 15.0.7, gcc 8.1.0 (MinGW), and MSVC VS 17.9

Windows Server 2019
	Kernel: 10.0.17763
	Compiler: clang 14.0 and gcc 8.1.0 (MinGW)

To view detailed results, visit:
https://lab.dpdk.org/results/dashboard/patchsets/29662/

UNH-IOL DPDK Community Lab

To manage your email subscriptions, visit: 
https://lab.dpdk.org/results/dashboard/preferences/subscriptions/