From mboxrd@z Thu Jan  1 00:00:00 1970
Return-Path: <test-report-bounces@dpdk.org>
Received: from mails.dpdk.org (mails.dpdk.org [217.70.189.124])
	by inbox.dpdk.org (Postfix) with ESMTP id 89D5043D64
	for <public@inbox.dpdk.org>; Wed, 27 Mar 2024 08:36:32 +0100 (CET)
Received: from mails.dpdk.org (localhost [127.0.0.1])
	by mails.dpdk.org (Postfix) with ESMTP id 74A38410D5;
	Wed, 27 Mar 2024 08:36:32 +0100 (CET)
Received: from mail-pg1-f227.google.com (mail-pg1-f227.google.com
 [209.85.215.227])
 by mails.dpdk.org (Postfix) with ESMTP id E4A2B4029F
 for <test-report@dpdk.org>; Wed, 27 Mar 2024 08:36:24 +0100 (CET)
Received: by mail-pg1-f227.google.com with SMTP id
 41be03b00d2f7-5d81b08d6f2so4837906a12.0
 for <test-report@dpdk.org>; Wed, 27 Mar 2024 00:36:24 -0700 (PDT)
DKIM-Signature: v=1; a=rsa-sha256; c=relaxed/relaxed;
 d=iol.unh.edu; s=unh-iol; t=1711524984; x=1712129784; darn=dpdk.org;
 h=references:in-reply-to:cc:to:from:subject:message-id:date:from:to
 :cc:subject:date:message-id:reply-to;
 bh=oi2ckMgMxn+ClEnG+Y2RWsxS+kSvmajnwZVEGNCcDHI=;
 b=jmK60GW10Sf5u282h8O/xcljp/3yTugj04moVq7zQiHT/vOOWtGO/GBpTBYBjS3rT9
 xSRcymtno6FHNY3xCL1a6YKb07Pv0Co7NSQD8O8CPNGQFEnh6t89eBSBUO2qTQTAey5I
 3vZdAZvQmWh4XHUu6fSwTo4/b+DdIlCgFn9vg=
X-Google-DKIM-Signature: v=1; a=rsa-sha256; c=relaxed/relaxed;
 d=1e100.net; s=20230601; t=1711524984; x=1712129784;
 h=references:in-reply-to:cc:to:from:subject:message-id:date
 :x-gm-message-state:from:to:cc:subject:date:message-id:reply-to;
 bh=oi2ckMgMxn+ClEnG+Y2RWsxS+kSvmajnwZVEGNCcDHI=;
 b=qLiqBEb4Z8pQbVXHv2w9rRP9SOQGA6+rA2PZlENEc3NBziDo2AAl8feqaKAxLLb/AF
 LgpdkfFLjbiKOIH97rllQY00RArJj1kAMuHeA0Ax0n+zLEa7obhWCsO0tDdfdLXMFoga
 ZbgShiNFHBHglTW4eKICsrPilYFeo5YvB14faFU1lPHTwMuTGLdf+djESFR/A12O8Tb+
 vGxfw87JrRo81cEm6ljqrJs0nDVh0y1eMQUbOO+pf31GL/AoUFIz5rfCvCdJW3VCvEha
 5u0xEopOwUEgCHwg26PGO9uHwpkDhJtRm0IwOKubyAldW0vyBpAn3DQMg/D9zgWn0j6S
 f6EA==
X-Gm-Message-State: AOJu0YxcMEhBeluMeB3vMnfw5cFj9dE/7ulTgqDMqnFVvllMlGPdSF95
 14LOA/sA5drFLrA5dH/a/fvz/h0D9j1/tKKp8CTyvgsn8qRYYgjCRadSNejshgL9Y/1i5MOwMiS
 BbiXt/0tzsAta34oU3m8+eI8o+GJ2BK6ZizuatPM5saUqGhQ0W7auOmjK
X-Google-Smtp-Source: AGHT+IEcYzTofDpTxdQw2RiNIVlGiSIF0AeuFp+PM6jQaH9pOQYiYgj7LkKZ4SS+2v5nt3FI3hqXmAKgo31Y
X-Received: by 2002:a05:6a20:9f09:b0:1a3:df2f:ab7 with SMTP id
 mk9-20020a056a209f0900b001a3df2f0ab7mr2811304pzb.24.1711524984174; 
 Wed, 27 Mar 2024 00:36:24 -0700 (PDT)
Received: from postal.iol.unh.edu (postal.iol.unh.edu.
 [2606:4100:3880:1234::84]) by smtp-relay.gmail.com with ESMTPS id
 jo6-20020a170903054600b001dddc0265f8sm289243plb.26.2024.03.27.00.36.24
 (version=TLS1_2 cipher=ECDHE-ECDSA-AES128-GCM-SHA256 bits=128/128);
 Wed, 27 Mar 2024 00:36:24 -0700 (PDT)
X-Relaying-Domain: iol.unh.edu
Date: Wed, 27 Mar 2024 00:36:24 -0700 (PDT)
Message-ID: <6603cc78.170a0220.51d7c.6a0fSMTPIN_ADDED_MISSING@mx.google.com>
Received: from [172.21.0.6] (unknown [172.18.0.240])
 by postal.iol.unh.edu (Postfix) with ESMTP id 44FB26052471;
 Wed, 27 Mar 2024 03:36:23 -0400 (EDT)
Subject: |SUCCESS| pw138849 [PATCH] [v1] net/ice: updated 24.03 recommended m
From: dpdklab@iol.unh.edu
To: Test Report <test-report@dpdk.org>
Cc: dpdk-test-reports@iol.unh.edu
In-Reply-To: <20240327050729.459392-1-hailinx.xu@intel.com>
References: <20240327050729.459392-1-hailinx.xu@intel.com>
Content-Type: text/plain
X-BeenThere: test-report@dpdk.org
X-Mailman-Version: 2.1.29
Precedence: list
List-Id: automatic DPDK test reports <test-report.dpdk.org>
List-Unsubscribe: <https://mails.dpdk.org/options/test-report>,
 <mailto:test-report-request@dpdk.org?subject=unsubscribe>
List-Archive: <http://mails.dpdk.org/archives/test-report/>
List-Post: <mailto:test-report@dpdk.org>
List-Help: <mailto:test-report-request@dpdk.org?subject=help>
List-Subscribe: <https://mails.dpdk.org/listinfo/test-report>,
 <mailto:test-report-request@dpdk.org?subject=subscribe>
Errors-To: test-report-bounces@dpdk.org

Test-Label: iol-abi-testing
Test-Status: SUCCESS
http://dpdk.org/patch/138849

_Testing PASS_

Submitter: hailinx <hailinx.xu@intel.com>
Date: Wednesday, March 27 2024 05:07:29 
DPDK git baseline: Repo:dpdk
  Branch: master
  CommitID:2c54ea7a59dfc0a819d3527309c62846fc8853af

138849 --> testing pass

Test environment and result as below:

+------------------+----------+
|   Environment    | abi_test |
+==================+==========+
| Debian Bullseye  | PASS     |
+------------------+----------+
| Debian 11 (arm)  | PASS     |
+------------------+----------+
| Fedora 37        | PASS     |
+------------------+----------+
| CentOS Stream 8  | PASS     |
+------------------+----------+
| CentOS Stream 9  | PASS     |
+------------------+----------+
| Fedora 38        | PASS     |
+------------------+----------+
| RHEL8            | PASS     |
+------------------+----------+
| Fedora 39        | PASS     |
+------------------+----------+
| Ubuntu 22.04     | PASS     |
+------------------+----------+
| openSUSE Leap 15 | PASS     |
+------------------+----------+


Debian Bullseye
	Kernel: 5.4.0-167-generic
	Compiler: gcc 10.2.1-6

Debian 11 (arm)
	Kernel: Container Host Kernel
	Compiler: gcc 10.2.1

Fedora 37
	Kernel: Depends on container host system
	Compiler: gcc 12.3.1

CentOS Stream 8
	Kernel: 5.4.0-167-generic
	Compiler: gcc 8.5.0 20210514

CentOS Stream 9
	Kernel: 5.4.0-167-generic
	Compiler: gcc 11.4.1 20230605

Fedora 38
	Kernel: Depends on container host
	Compiler: clang 16.0.6

RHEL8
	Kernel: 5.4.0-167-generic
	Compiler: gcc 8.5.0 20210514 (Red Hat 8.5.0-20)

Fedora 39
	Kernel: Depends on container host
	Compiler: gcc 13.2.1

Ubuntu 22.04
	Kernel: 5.4.0-167-generic
	Compiler: gcc 11.4.0

openSUSE Leap 15
	Kernel: 5.4.0-167-generic
	Compiler: gcc 7.5.0

To view detailed results, visit:
https://lab.dpdk.org/results/dashboard/patchsets/29662/

UNH-IOL DPDK Community Lab

To manage your email subscriptions, visit: 
https://lab.dpdk.org/results/dashboard/preferences/subscriptions/