From mboxrd@z Thu Jan  1 00:00:00 1970
Return-Path: <test-report-bounces@dpdk.org>
Received: from mails.dpdk.org (mails.dpdk.org [217.70.189.124])
	by inbox.dpdk.org (Postfix) with ESMTP id 5E01F43D64
	for <public@inbox.dpdk.org>; Wed, 27 Mar 2024 08:54:08 +0100 (CET)
Received: from mails.dpdk.org (localhost [127.0.0.1])
	by mails.dpdk.org (Postfix) with ESMTP id 5A643402A3;
	Wed, 27 Mar 2024 08:54:08 +0100 (CET)
Received: from mail-oo1-f100.google.com (mail-oo1-f100.google.com
 [209.85.161.100])
 by mails.dpdk.org (Postfix) with ESMTP id 2354F4029F
 for <test-report@dpdk.org>; Wed, 27 Mar 2024 08:53:44 +0100 (CET)
Received: by mail-oo1-f100.google.com with SMTP id
 006d021491bc7-5a5272035d3so2377692eaf.1
 for <test-report@dpdk.org>; Wed, 27 Mar 2024 00:53:44 -0700 (PDT)
DKIM-Signature: v=1; a=rsa-sha256; c=relaxed/relaxed;
 d=iol.unh.edu; s=unh-iol; t=1711526023; x=1712130823; darn=dpdk.org;
 h=references:in-reply-to:cc:to:from:subject:message-id:date:from:to
 :cc:subject:date:message-id:reply-to;
 bh=ARicGuzNciGFtfsdP4CeL76w5u8qScXWpn6l9p4Jel0=;
 b=BSCzmgx/aVeJyz1zok6pDPCHm/RBOTQ16+kBp892RYWi2p76oAGMAfkqQShgF2Ioh7
 wt3G9iHYIHj3cyedlqV3e1dE14G6dhchyGZFtTITwwJFJozVRj5bjV9VaYGs8z0o3tmH
 wIaL86RYBPB7E4glPMMDSZQywg49dzD61JW+A=
X-Google-DKIM-Signature: v=1; a=rsa-sha256; c=relaxed/relaxed;
 d=1e100.net; s=20230601; t=1711526023; x=1712130823;
 h=references:in-reply-to:cc:to:from:subject:message-id:date
 :x-gm-message-state:from:to:cc:subject:date:message-id:reply-to;
 bh=ARicGuzNciGFtfsdP4CeL76w5u8qScXWpn6l9p4Jel0=;
 b=tyYxBl/LBEWwCYSnkVWcp21UD2WAdjAiomZMW8J1iaf2eFlxilFobcwIjo1dOcl/iE
 V7srKvDu/hfYboh+CEPGTpDj42q7cVA4yqQwTUU7zJKGEENbIzePCfa2M8/GmooZFAe1
 FmlE5aixv70IuBZvpngTA7zyqkcVegvwNrEt1FkONqMZbIlkibWySCPiM4zVNMk5eGmW
 hYyzJEZgvPp7ZTgIbhc9C4ZizR9+a2haVyL0HFfFSHurbOgv/V4UK8BHRPF4e15ZKNCk
 2hgHnuJNBN0IMqJ06rkH7IyNT4Ocov4lPPmS4Gch0iECEdtju0aNJisQOWJ49vC+ytQM
 snXg==
X-Gm-Message-State: AOJu0Yy8wEg75Sx9Ja2HO3NNVjga9MfaYz+NoCbKFtNMDtJXZIxNFH3j
 XSYBZ/Cv1AQ7JMmUyqDi6VrfExBzqrQqj1Siq/dOnYLERBacszUGmE73nyO8gjlz0a94VT679kT
 +6PnItcViqnu7yYnWzZAkV/A4w99shKj1MiL0kOUQ
X-Google-Smtp-Source: AGHT+IEVbw6Q8I13u1l3g5JMdXTRKyIBY25P34Q21DFTTCS+4fjjS9m3nn5MOPUmdGmtoSezdzrnPUieN8Yc
X-Received: by 2002:a05:6820:210b:b0:5a5:639a:2fb2 with SMTP id
 cd11-20020a056820210b00b005a5639a2fb2mr3740686oob.0.1711526023423; 
 Wed, 27 Mar 2024 00:53:43 -0700 (PDT)
Received: from postal.iol.unh.edu (postal.iol.unh.edu. [132.177.123.84])
 by smtp-relay.gmail.com with ESMTPS id
 b11-20020a4aac8b000000b005a0577977casm377674oon.28.2024.03.27.00.53.43
 (version=TLS1_2 cipher=ECDHE-ECDSA-AES128-GCM-SHA256 bits=128/128);
 Wed, 27 Mar 2024 00:53:43 -0700 (PDT)
X-Relaying-Domain: iol.unh.edu
Date: Wed, 27 Mar 2024 00:53:43 -0700 (PDT)
Message-ID: <6603d087.4a0a0220.7e16.450dSMTPIN_ADDED_MISSING@mx.google.com>
Received: from [172.21.0.7] (unknown [172.18.0.240])
 by postal.iol.unh.edu (Postfix) with ESMTP id 7D94F6052471;
 Wed, 27 Mar 2024 03:53:42 -0400 (EDT)
Subject: |SUCCESS| pw138849 [PATCH] [v1] net/ice: updated 24.03 recommended m
From: dpdklab@iol.unh.edu
To: Test Report <test-report@dpdk.org>
Cc: dpdk-test-reports@iol.unh.edu
In-Reply-To: <20240327050729.459392-1-hailinx.xu@intel.com>
References: <20240327050729.459392-1-hailinx.xu@intel.com>
Content-Type: text/plain
X-BeenThere: test-report@dpdk.org
X-Mailman-Version: 2.1.29
Precedence: list
List-Id: automatic DPDK test reports <test-report.dpdk.org>
List-Unsubscribe: <https://mails.dpdk.org/options/test-report>,
 <mailto:test-report-request@dpdk.org?subject=unsubscribe>
List-Archive: <http://mails.dpdk.org/archives/test-report/>
List-Post: <mailto:test-report@dpdk.org>
List-Help: <mailto:test-report-request@dpdk.org?subject=help>
List-Subscribe: <https://mails.dpdk.org/listinfo/test-report>,
 <mailto:test-report-request@dpdk.org?subject=subscribe>
Errors-To: test-report-bounces@dpdk.org

Test-Label: iol-unit-amd64-testing
Test-Status: SUCCESS
http://dpdk.org/patch/138849

_Testing PASS_

Submitter: hailinx <hailinx.xu@intel.com>
Date: Wednesday, March 27 2024 05:07:29 
DPDK git baseline: Repo:dpdk
  Branch: master
  CommitID:2c54ea7a59dfc0a819d3527309c62846fc8853af

138849 --> testing pass

Test environment and result as below:

+---------------------+----------------+
|     Environment     | dpdk_unit_test |
+=====================+================+
| Windows Server 2019 | PASS           |
+---------------------+----------------+
| Windows Server 2022 | PASS           |
+---------------------+----------------+
| Debian Bullseye     | PASS           |
+---------------------+----------------+
| Debian 11 (arm)     | PASS           |
+---------------------+----------------+
| CentOS Stream 9     | PASS           |
+---------------------+----------------+
| Fedora 37           | PASS           |
+---------------------+----------------+
| RHEL8               | PASS           |
+---------------------+----------------+
| Fedora 38           | PASS           |
+---------------------+----------------+


Windows Server 2019
	Kernel: 10.0.17763
	Compiler: clang 14.0 and gcc 8.1.0 (MinGW)

Windows Server 2022
	Kernel: 10.0.20348.2031
	Compiler: clang 15.0.7, gcc 8.1.0 (MinGW), and MSVC VS 17.9

Debian Bullseye
	Kernel: 5.4.0-167-generic
	Compiler: gcc 10.2.1-6

Debian 11 (arm)
	Kernel: Container Host Kernel
	Compiler: gcc 10.2.1

CentOS Stream 9
	Kernel: 5.4.0-167-generic
	Compiler: gcc 11.4.1 20230605

Fedora 37
	Kernel: Depends on container host system
	Compiler: gcc 12.3.1

RHEL8
	Kernel: 5.4.0-167-generic
	Compiler: gcc 8.5.0 20210514 (Red Hat 8.5.0-20)

Fedora 38
	Kernel: Depends on container host
	Compiler: gcc 13.2.1

To view detailed results, visit:
https://lab.dpdk.org/results/dashboard/patchsets/29662/

UNH-IOL DPDK Community Lab

To manage your email subscriptions, visit: 
https://lab.dpdk.org/results/dashboard/preferences/subscriptions/