From mboxrd@z Thu Jan  1 00:00:00 1970
Return-Path: <test-report-bounces@dpdk.org>
Received: from mails.dpdk.org (mails.dpdk.org [217.70.189.124])
	by inbox.dpdk.org (Postfix) with ESMTP id 0C07E43D64
	for <public@inbox.dpdk.org>; Wed, 27 Mar 2024 09:02:38 +0100 (CET)
Received: from mails.dpdk.org (localhost [127.0.0.1])
	by mails.dpdk.org (Postfix) with ESMTP id E1FE2402A3;
	Wed, 27 Mar 2024 09:02:37 +0100 (CET)
Received: from mail-ua1-f98.google.com (mail-ua1-f98.google.com
 [209.85.222.98]) by mails.dpdk.org (Postfix) with ESMTP id 661824029F
 for <test-report@dpdk.org>; Wed, 27 Mar 2024 09:02:36 +0100 (CET)
Received: by mail-ua1-f98.google.com with SMTP id
 a1e0cc1a2514c-7e043f577c5so328491241.1
 for <test-report@dpdk.org>; Wed, 27 Mar 2024 01:02:36 -0700 (PDT)
DKIM-Signature: v=1; a=rsa-sha256; c=relaxed/relaxed;
 d=iol.unh.edu; s=unh-iol; t=1711526555; x=1712131355; darn=dpdk.org;
 h=references:in-reply-to:cc:to:from:subject:message-id:date:from:to
 :cc:subject:date:message-id:reply-to;
 bh=9XXRlrdsE101y5IXP8WYMu50XDdJtdYcEzJoxnemi60=;
 b=UsbiDNd+KHomwJIF8WDpfoOFkGRa114vmeL76i3Rt8fQazlr+YDF1iqqBflYOsTHI/
 88XM28UwPH/1BEzGBvwJaErDhqjT7ZhjRk+m30cElZxa3CEq/KmlBb8qMap7epCXSDHF
 p0kVOzbDANiIXvv8v0WaVprSvvCocYdd3PRFc=
X-Google-DKIM-Signature: v=1; a=rsa-sha256; c=relaxed/relaxed;
 d=1e100.net; s=20230601; t=1711526555; x=1712131355;
 h=references:in-reply-to:cc:to:from:subject:message-id:date
 :x-gm-message-state:from:to:cc:subject:date:message-id:reply-to;
 bh=9XXRlrdsE101y5IXP8WYMu50XDdJtdYcEzJoxnemi60=;
 b=sWaLWoDC6gAHjEFD+czkoGYLBbwD5YGteYe8Lp8RvZTsajwAZnz9VHz55Edv1EifJ1
 XjxCC4gPzHZPvDmPVDp46T9kVA3PmzH+7PhsCRXum33D27xxHsvC3aLucXNkPXV8slkv
 xJD02H8f7gMJ8d7C6akE/eVrozly/G4kucRL6kRaqpk+V5v5nWoneCdC6sVViCgRLB4T
 PThiWur8fJoqL9as4/fCgliLd9yOpDamAYbYr1sOOViXZxpFmpNuAqWQZ04PCYpgf+Hg
 LrJtnbT3ZsaVlZS5ZYpyFtE+psfalfnXV0WjnKhSxsCO3iFcEeyFpFSEvxuTzIBnhpKX
 8RTw==
X-Gm-Message-State: AOJu0YyDCoSdvLFS6vW09lj0xXIaknFrjZD2wuXylaMfXB38bpwybbRY
 RQGPtH0sY2nxOUwS+WOfvjP+fhyPg63OsnHPJUR2NI8Q7W2zgJZjxkogmg4HR+y+v9KQ85VQ8uM
 OlxIwNsa95ky5gXR72ffo7F/pw5mLb6vI7dakdtT4djWz0VckCWJrZNGY
X-Google-Smtp-Source: AGHT+IE/NMA74bKpPZ7xUcweGLM5JSpicUwDlgkHbd2LM9T/xDPckUZnnTec3iQEa6Ln4XzLWpn0M2y6zWQY
X-Received: by 2002:a05:6102:11f9:b0:478:2d20:5f3f with SMTP id
 e25-20020a05610211f900b004782d205f3fmr2631768vsg.4.1711526555673; 
 Wed, 27 Mar 2024 01:02:35 -0700 (PDT)
Received: from postal.iol.unh.edu (postal.iol.unh.edu.
 [2606:4100:3880:1234::84]) by smtp-relay.gmail.com with ESMTPS id
 u6-20020ab05b06000000b007e09427d5c9sm747978uae.17.2024.03.27.01.02.35
 (version=TLS1_2 cipher=ECDHE-ECDSA-AES128-GCM-SHA256 bits=128/128);
 Wed, 27 Mar 2024 01:02:35 -0700 (PDT)
X-Relaying-Domain: iol.unh.edu
Date: Wed, 27 Mar 2024 01:02:35 -0700 (PDT)
Message-ID: <6603d29b.b00a0220.0d3b.a1f6SMTPIN_ADDED_MISSING@mx.google.com>
Received: from [172.21.0.6] (unknown [172.18.0.240])
 by postal.iol.unh.edu (Postfix) with ESMTP id 462E96052471;
 Wed, 27 Mar 2024 04:02:35 -0400 (EDT)
Subject: |SUCCESS| pw138849 [PATCH] [v1] net/ice: updated 24.03 recommended m
From: dpdklab@iol.unh.edu
To: Test Report <test-report@dpdk.org>
Cc: dpdk-test-reports@iol.unh.edu
In-Reply-To: <20240327050729.459392-1-hailinx.xu@intel.com>
References: <20240327050729.459392-1-hailinx.xu@intel.com>
Content-Type: text/plain
X-BeenThere: test-report@dpdk.org
X-Mailman-Version: 2.1.29
Precedence: list
List-Id: automatic DPDK test reports <test-report.dpdk.org>
List-Unsubscribe: <https://mails.dpdk.org/options/test-report>,
 <mailto:test-report-request@dpdk.org?subject=unsubscribe>
List-Archive: <http://mails.dpdk.org/archives/test-report/>
List-Post: <mailto:test-report@dpdk.org>
List-Help: <mailto:test-report-request@dpdk.org?subject=help>
List-Subscribe: <https://mails.dpdk.org/listinfo/test-report>,
 <mailto:test-report-request@dpdk.org?subject=subscribe>
Errors-To: test-report-bounces@dpdk.org

Test-Label: iol-compile-amd64-testing
Test-Status: SUCCESS
http://dpdk.org/patch/138849

_Testing PASS_

Submitter: hailinx <hailinx.xu@intel.com>
Date: Wednesday, March 27 2024 05:07:29 
DPDK git baseline: Repo:dpdk
  Branch: master
  CommitID:2c54ea7a59dfc0a819d3527309c62846fc8853af

138849 --> testing pass

Test environment and result as below:

+---------------------+--------------------+----------------------+-------------------+
|     Environment     | dpdk_meson_compile | dpdk_mingw64_compile | dpdk_msvc_compile |
+=====================+====================+======================+===================+
| FreeBSD 13.2        | PASS               | SKIPPED              | SKIPPED           |
+---------------------+--------------------+----------------------+-------------------+
| Windows Server 2022 | PASS               | PASS                 | PASS              |
+---------------------+--------------------+----------------------+-------------------+
| Windows Server 2019 | PASS               | PASS                 | SKIPPED           |
+---------------------+--------------------+----------------------+-------------------+
| CentOS Stream 8     | PASS               | SKIPPED              | SKIPPED           |
+---------------------+--------------------+----------------------+-------------------+
| CentOS Stream 9     | PASS               | SKIPPED              | SKIPPED           |
+---------------------+--------------------+----------------------+-------------------+
| Debian Bullseye     | PASS               | SKIPPED              | SKIPPED           |
+---------------------+--------------------+----------------------+-------------------+
| Fedora 37           | PASS               | SKIPPED              | SKIPPED           |
+---------------------+--------------------+----------------------+-------------------+
| Fedora 39           | PASS               | SKIPPED              | SKIPPED           |
+---------------------+--------------------+----------------------+-------------------+
| Ubuntu 20.04        | PASS               | SKIPPED              | SKIPPED           |
+---------------------+--------------------+----------------------+-------------------+
| Fedora 38           | PASS               | SKIPPED              | SKIPPED           |
+---------------------+--------------------+----------------------+-------------------+
| RHEL8               | PASS               | SKIPPED              | SKIPPED           |
+---------------------+--------------------+----------------------+-------------------+
| Ubuntu 22.04        | PASS               | SKIPPED              | SKIPPED           |
+---------------------+--------------------+----------------------+-------------------+
| openSUSE Leap 15    | PASS               | SKIPPED              | SKIPPED           |
+---------------------+--------------------+----------------------+-------------------+
| Alpine              | PASS               | SKIPPED              | SKIPPED           |
+---------------------+--------------------+----------------------+-------------------+
| Debian 11 (arm)     | PASS               | SKIPPED              | SKIPPED           |
+---------------------+--------------------+----------------------+-------------------+


FreeBSD 13.2
	Kernel: 13.2
	Compiler: clang 14.0.5

Windows Server 2022
	Kernel: 10.0.20348.2031
	Compiler: clang 15.0.7, gcc 8.1.0 (MinGW), and MSVC VS 17.9

Windows Server 2019
	Kernel: 10.0.17763
	Compiler: clang 14.0 and gcc 8.1.0 (MinGW)

CentOS Stream 8
	Kernel: 5.4.0-167-generic
	Compiler: gcc 8.5.0 20210514

CentOS Stream 9
	Kernel: 5.4.0-167-generic
	Compiler: gcc 11.4.1 20230605

Debian Bullseye
	Kernel: 5.4.0-167-generic
	Compiler: gcc 10.2.1-6

Fedora 37
	Kernel: Depends on container host system
	Compiler: gcc 12.3.1

Fedora 39
	Kernel: Depends on container host
	Compiler: gcc 13.2.1

Ubuntu 20.04
	Kernel: 5.4.0-167-generic
	Compiler: gcc 9.4.0-1ubuntu1~20.04.1

Fedora 38
	Kernel: Depends on container host
	Compiler: gcc 13.2.1

RHEL8
	Kernel: 5.4.0-167-generic
	Compiler: gcc 8.5.0 20210514 (Red Hat 8.5.0-20)

Ubuntu 22.04
	Kernel: 5.4.0-167-generic
	Compiler: gcc 11.4.0

openSUSE Leap 15
	Kernel: 5.4.0-167-generic
	Compiler: gcc 7.5.0

Alpine
	Kernel: 5.4.0-167-generic
	Compiler: gcc (Alpine 12.2.1_git20220924-r10) 12.2.1 20220924

Debian 11 (arm)
	Kernel: Container Host Kernel
	Compiler: gcc 10.2.1

To view detailed results, visit:
https://lab.dpdk.org/results/dashboard/patchsets/29662/

UNH-IOL DPDK Community Lab

To manage your email subscriptions, visit: 
https://lab.dpdk.org/results/dashboard/preferences/subscriptions/