From mboxrd@z Thu Jan  1 00:00:00 1970
Return-Path: <test-report-bounces@dpdk.org>
Received: from mails.dpdk.org (mails.dpdk.org [217.70.189.124])
	by inbox.dpdk.org (Postfix) with ESMTP id 7CDF643D64
	for <public@inbox.dpdk.org>; Wed, 27 Mar 2024 09:33:15 +0100 (CET)
Received: from mails.dpdk.org (localhost [127.0.0.1])
	by mails.dpdk.org (Postfix) with ESMTP id 50917402A3;
	Wed, 27 Mar 2024 09:33:15 +0100 (CET)
Received: from mail-qk1-f226.google.com (mail-qk1-f226.google.com
 [209.85.222.226])
 by mails.dpdk.org (Postfix) with ESMTP id 6537C4029F
 for <test-report@dpdk.org>; Wed, 27 Mar 2024 09:33:14 +0100 (CET)
Received: by mail-qk1-f226.google.com with SMTP id
 af79cd13be357-78a5580333bso192996185a.2
 for <test-report@dpdk.org>; Wed, 27 Mar 2024 01:33:14 -0700 (PDT)
DKIM-Signature: v=1; a=rsa-sha256; c=relaxed/relaxed;
 d=iol.unh.edu; s=unh-iol; t=1711528394; x=1712133194; darn=dpdk.org;
 h=references:in-reply-to:cc:to:from:subject:message-id:date:from:to
 :cc:subject:date:message-id:reply-to;
 bh=golviWF+3d+1K0SicWb3dkdFyZomxucjLG6LA+G7tWM=;
 b=CyxRwJIQTra8Y7dd5oWTToqk+UrpDHkdoGrOgfflxZSRET9XGVrtxTDmjgbxCNJMoE
 AbC3U0EPm2RELerJxPwrLmPK6ZT5XHwob8dYybSXRG6/x8l97+TpnYnk2f4xsOHk0r5h
 q5+p0FnLHoMxZyudACPZcLSmv7bqBw+zAlkMw=
X-Google-DKIM-Signature: v=1; a=rsa-sha256; c=relaxed/relaxed;
 d=1e100.net; s=20230601; t=1711528394; x=1712133194;
 h=references:in-reply-to:cc:to:from:subject:message-id:date
 :x-gm-message-state:from:to:cc:subject:date:message-id:reply-to;
 bh=golviWF+3d+1K0SicWb3dkdFyZomxucjLG6LA+G7tWM=;
 b=mswPhkqTEBvRid2+BLKhQLXoGDstMhBf0veXXeqq4OZPIw49aSaSLj35SsghHVrD0A
 SNK6eNaQ0GyMOE1rkhqEtuMsTOHLVpUIuX9MhlDr+2TStLrWhZZYLRjLy+iRmdbFHNE2
 ugbgJ2SZ9mbnSBPzkvfQqtyPPSkxyqJvNkxd3lPA4lFSN0aiLNB4UBBN95glnr5q0XxQ
 7T96NM8SHYVQjXeHs4pY/T8+XCGc5CYEv9pVWzI3RAooJ1V9I4CEELs1MRDHf7UDQaHp
 db45qlnnCFLWb1OAd0k9UQwzWin4j+n9QaAlx/EguZ+Y4S9XR9mIWYEJ85ta4MJGg/Ki
 jrTg==
X-Gm-Message-State: AOJu0YwMQqrDeheJxwvXmkwIbMkCKMvXAeRt5wIl8FM3+jJhgv9x/KhU
 FmyDy8C6oPauMo4fLWHAIJSoGKnUqpv4H4oDkPIq7Hen0wRw/Koxeelo4LwG3DgRbGWL3oCofdh
 dMPdIjdzVx88lzcVtDcIpHv1L1fITDMpdWVXUwRel
X-Google-Smtp-Source: AGHT+IHMhZ1cmqTr2+u61H13BnUC+qnSGhyOFe2iHQAP13HJZXqBkiKXayZgscvIE3W+oebMd72ySUat4t0U
X-Received: by 2002:ad4:5ccc:0:b0:696:92e6:50e5 with SMTP id
 iu12-20020ad45ccc000000b0069692e650e5mr2395103qvb.43.1711528393833; 
 Wed, 27 Mar 2024 01:33:13 -0700 (PDT)
Received: from postal.iol.unh.edu (postal.iol.unh.edu. [132.177.123.84])
 by smtp-relay.gmail.com with ESMTPS id
 3-20020a056214202300b0069688fc0bafsm494037qvf.35.2024.03.27.01.33.13
 (version=TLS1_2 cipher=ECDHE-ECDSA-AES128-GCM-SHA256 bits=128/128);
 Wed, 27 Mar 2024 01:33:13 -0700 (PDT)
X-Relaying-Domain: iol.unh.edu
Date: Wed, 27 Mar 2024 01:33:13 -0700 (PDT)
Message-ID: <6603d9c9.050a0220.40898.0588SMTPIN_ADDED_MISSING@mx.google.com>
Received: from [172.21.0.6] (unknown [172.18.0.240])
 by postal.iol.unh.edu (Postfix) with ESMTP id 7E3486052471;
 Wed, 27 Mar 2024 04:33:13 -0400 (EDT)
Subject: |SUCCESS| pw138849 [PATCH] [v1] net/ice: updated 24.03 recommended m
From: dpdklab@iol.unh.edu
To: Test Report <test-report@dpdk.org>
Cc: dpdk-test-reports@iol.unh.edu
In-Reply-To: <20240327050729.459392-1-hailinx.xu@intel.com>
References: <20240327050729.459392-1-hailinx.xu@intel.com>
Content-Type: text/plain
X-BeenThere: test-report@dpdk.org
X-Mailman-Version: 2.1.29
Precedence: list
List-Id: automatic DPDK test reports <test-report.dpdk.org>
List-Unsubscribe: <https://mails.dpdk.org/options/test-report>,
 <mailto:test-report-request@dpdk.org?subject=unsubscribe>
List-Archive: <http://mails.dpdk.org/archives/test-report/>
List-Post: <mailto:test-report@dpdk.org>
List-Help: <mailto:test-report-request@dpdk.org?subject=help>
List-Subscribe: <https://mails.dpdk.org/listinfo/test-report>,
 <mailto:test-report-request@dpdk.org?subject=subscribe>
Errors-To: test-report-bounces@dpdk.org

Test-Label: iol-compile-arm64-testing
Test-Status: SUCCESS
http://dpdk.org/patch/138849

_Testing PASS_

Submitter: hailinx <hailinx.xu@intel.com>
Date: Wednesday, March 27 2024 05:07:29 
DPDK git baseline: Repo:dpdk
  Branch: master
  CommitID:2c54ea7a59dfc0a819d3527309c62846fc8853af

138849 --> testing pass

Test environment and result as below:

+----------------------------------------+--------------------+
|              Environment               | dpdk_meson_compile |
+========================================+====================+
| Ubuntu 20.04 ARM SVE                   | PASS               |
+----------------------------------------+--------------------+
| Debian 12 with MUSDK                   | PASS               |
+----------------------------------------+--------------------+
| Debian 11 (Buster) (ARM)               | PASS               |
+----------------------------------------+--------------------+
| Fedora 37 (ARM)                        | PASS               |
+----------------------------------------+--------------------+
| Fedora 38 (ARM)                        | PASS               |
+----------------------------------------+--------------------+
| Ubuntu 20.04 (ARM)                     | PASS               |
+----------------------------------------+--------------------+
| Debian 12 (arm)                        | PASS               |
+----------------------------------------+--------------------+
| CentOS Stream 9 (ARM)                  | PASS               |
+----------------------------------------+--------------------+
| Fedora 39 (ARM)                        | PASS               |
+----------------------------------------+--------------------+
| Ubuntu 20.04 aarch32 GCC Cross Compile | PASS               |
+----------------------------------------+--------------------+
| Ubuntu 20.04 ARM Clang Cross Compile   | PASS               |
+----------------------------------------+--------------------+
| Ubuntu 20.04 ARM GCC Cross Compile     | PASS               |
+----------------------------------------+--------------------+
| Fedora 38 (ARM Clang)                  | PASS               |
+----------------------------------------+--------------------+


Ubuntu 20.04 ARM SVE
	Kernel: 5.4.0-167-generic
	Compiler: gcc (Ubuntu 10.5.0-1ubuntu1~20.04) 10.5.0

Debian 12 with MUSDK
	Kernel: Container Host Kernel
	Compiler: gcc 12.2.0

Debian 11 (Buster) (ARM)
	Kernel: Container Host Kernel
	Compiler: gcc 10.2.1

Fedora 37 (ARM)
	Kernel: Depends on container host
	Compiler: gcc 12.3.1

Fedora 38 (ARM)
	Kernel: Depends on container host
	Compiler: gcc 13.2.1

Ubuntu 20.04 (ARM)
	Kernel: Container Host Kernel
	Compiler: gcc 9.4.0

Debian 12 (arm)
	Kernel: Container Host Kernel
	Compiler: gcc 12.2.0

CentOS Stream 9 (ARM)
	Kernel: Container Host Kernel
	Compiler: gcc 11.4.1

Fedora 39 (ARM)
	Kernel: Depends on container host
	Compiler: gcc 13.2.1

Ubuntu 20.04 aarch32 GCC Cross Compile
	Kernel: 5.4.0-167-generic
	Compiler: gcc 9.4.0

Ubuntu 20.04 ARM Clang Cross Compile
	Kernel: 5.4.0-72-generic
	Compiler: clang 10.0.0-4ubuntu1

Ubuntu 20.04 ARM GCC Cross Compile
	Kernel: 5.4.0-167-generic
	Compiler: aarch64-linux-gnu-gcc (Ubuntu 9.4.0-1ubuntu1~20.04.2) 9.4.0

Fedora 38 (ARM Clang)
	Kernel: Depends on container host
	Compiler: clang 16.0.6

To view detailed results, visit:
https://lab.dpdk.org/results/dashboard/patchsets/29662/

UNH-IOL DPDK Community Lab

To manage your email subscriptions, visit: 
https://lab.dpdk.org/results/dashboard/preferences/subscriptions/