From mboxrd@z Thu Jan  1 00:00:00 1970
Return-Path: <test-report-bounces@dpdk.org>
Received: from mails.dpdk.org (mails.dpdk.org [217.70.189.124])
	by inbox.dpdk.org (Postfix) with ESMTP id 2663C43D64
	for <public@inbox.dpdk.org>; Wed, 27 Mar 2024 09:36:29 +0100 (CET)
Received: from mails.dpdk.org (localhost [127.0.0.1])
	by mails.dpdk.org (Postfix) with ESMTP id 1F282402A3;
	Wed, 27 Mar 2024 09:36:29 +0100 (CET)
Received: from mail-vs1-f99.google.com (mail-vs1-f99.google.com
 [209.85.217.99]) by mails.dpdk.org (Postfix) with ESMTP id BD02E4029F
 for <test-report@dpdk.org>; Wed, 27 Mar 2024 09:36:27 +0100 (CET)
Received: by mail-vs1-f99.google.com with SMTP id
 ada2fe7eead31-4783964353dso127489137.2
 for <test-report@dpdk.org>; Wed, 27 Mar 2024 01:36:27 -0700 (PDT)
DKIM-Signature: v=1; a=rsa-sha256; c=relaxed/relaxed;
 d=iol.unh.edu; s=unh-iol; t=1711528587; x=1712133387; darn=dpdk.org;
 h=references:in-reply-to:cc:to:from:subject:message-id:date:from:to
 :cc:subject:date:message-id:reply-to;
 bh=golviWF+3d+1K0SicWb3dkdFyZomxucjLG6LA+G7tWM=;
 b=EKmq4ioIFORWHddcS2KgQE2VowcbFHnCt6FukeaQpfLH+bCeQgAHBocfBl0M3nqTe8
 cyAjJ4wV4HwF23P9H4wCDMlPxv5O3tKfd1ZQhB7kveVpyaG1tTu1C1fF1fSfsxNfhC9P
 qfDf3deJ38l0Zw+81f4AUO9KtyxOp5K0yxDv8=
X-Google-DKIM-Signature: v=1; a=rsa-sha256; c=relaxed/relaxed;
 d=1e100.net; s=20230601; t=1711528587; x=1712133387;
 h=references:in-reply-to:cc:to:from:subject:message-id:date
 :x-gm-message-state:from:to:cc:subject:date:message-id:reply-to;
 bh=golviWF+3d+1K0SicWb3dkdFyZomxucjLG6LA+G7tWM=;
 b=jVWrvhAshLqUvks7a0ni6vEqsTDKoibytiNuSZQA77pduQgXnUwrFmq/F5BjQg02g7
 P/Q7nVll7FSd/OT3xN47/PXHZSqTGrv9QkMQDFC5nfCYgxvgVrug5B5tYz0kddIbPtWB
 az9nhwOzAzP/0uJ9AJgxFGMn7Kj+5WD05jJA44iH+36HwALSUmyT6ohVbvwGf4F2yWZm
 GTFwxuxsLifHTevHrMC/I3ETKa7SSdpOt04TpSWXxWrYWybBr/l4hl9eKSuBUYvt2m0w
 9yI4piKP2yv23qcykG2z1ffiy7idlyhxVrP7Nbc3n+iEv+gt/oMHESecnu4GgIcRAGLk
 rrqQ==
X-Gm-Message-State: AOJu0YwQjspvsvFwpsBa/tBl+D2cWYrJsD+BRxkyUD3kQB35I/Rk2p9y
 vtcQuqv+fr6yvVqSzlP24tCzsXnaRlvfPbMykeIRMdjCnxN1mkoAEg0VtRgpa2j0qyc9MkPFt4B
 Ket7ZoB0JLq4/Iqen1HLsHZQrR7+AO1P/RZeJ0aur
X-Google-Smtp-Source: AGHT+IFkckNA386JoVJjFMccR930fVBNi3m0Q4wZNIW1UWepqgtRwTTyFxL5CKxdT2Q/bkIGxvNs5vTwJJAp
X-Received: by 2002:a05:6102:2178:b0:478:2d1d:f39 with SMTP id
 i24-20020a056102217800b004782d1d0f39mr3685391vsg.13.1711528587206; 
 Wed, 27 Mar 2024 01:36:27 -0700 (PDT)
Received: from postal.iol.unh.edu (postal.iol.unh.edu. [132.177.123.84])
 by smtp-relay.gmail.com with ESMTPS id
 n2-20020a0561023ec200b00476e7405793sm699868vsv.0.2024.03.27.01.36.27
 (version=TLS1_2 cipher=ECDHE-ECDSA-AES128-GCM-SHA256 bits=128/128);
 Wed, 27 Mar 2024 01:36:27 -0700 (PDT)
X-Relaying-Domain: iol.unh.edu
Date: Wed, 27 Mar 2024 01:36:27 -0700 (PDT)
Message-ID: <6603da8b.050a0220.65fd8.f491SMTPIN_ADDED_MISSING@mx.google.com>
Received: from [172.17.0.7] (unknown [172.18.0.217])
 by postal.iol.unh.edu (Postfix) with ESMTP id B8BBD6052471;
 Wed, 27 Mar 2024 04:36:26 -0400 (EDT)
Subject: |SUCCESS| pw138849 [PATCH] [v1] net/ice: updated 24.03 recommended m
From: dpdklab@iol.unh.edu
To: Test Report <test-report@dpdk.org>
Cc: dpdk-test-reports@iol.unh.edu
In-Reply-To: <20240327050729.459392-1-hailinx.xu@intel.com>
References: <20240327050729.459392-1-hailinx.xu@intel.com>
Content-Type: text/plain
X-BeenThere: test-report@dpdk.org
X-Mailman-Version: 2.1.29
Precedence: list
List-Id: automatic DPDK test reports <test-report.dpdk.org>
List-Unsubscribe: <https://mails.dpdk.org/options/test-report>,
 <mailto:test-report-request@dpdk.org?subject=unsubscribe>
List-Archive: <http://mails.dpdk.org/archives/test-report/>
List-Post: <mailto:test-report@dpdk.org>
List-Help: <mailto:test-report-request@dpdk.org?subject=help>
List-Subscribe: <https://mails.dpdk.org/listinfo/test-report>,
 <mailto:test-report-request@dpdk.org?subject=subscribe>
Errors-To: test-report-bounces@dpdk.org

Test-Label: iol-compile-arm64-testing
Test-Status: SUCCESS
http://dpdk.org/patch/138849

_Testing PASS_

Submitter: hailinx <hailinx.xu@intel.com>
Date: Wednesday, March 27 2024 05:07:29 
DPDK git baseline: Repo:dpdk
  Branch: master
  CommitID:2c54ea7a59dfc0a819d3527309c62846fc8853af

138849 --> testing pass

Test environment and result as below:

+----------------------------------------+--------------------+
|              Environment               | dpdk_meson_compile |
+========================================+====================+
| Ubuntu 20.04 ARM SVE                   | PASS               |
+----------------------------------------+--------------------+
| Debian 12 with MUSDK                   | PASS               |
+----------------------------------------+--------------------+
| Debian 11 (Buster) (ARM)               | PASS               |
+----------------------------------------+--------------------+
| Fedora 37 (ARM)                        | PASS               |
+----------------------------------------+--------------------+
| Fedora 38 (ARM)                        | PASS               |
+----------------------------------------+--------------------+
| Ubuntu 20.04 (ARM)                     | PASS               |
+----------------------------------------+--------------------+
| Debian 12 (arm)                        | PASS               |
+----------------------------------------+--------------------+
| CentOS Stream 9 (ARM)                  | PASS               |
+----------------------------------------+--------------------+
| Fedora 39 (ARM)                        | PASS               |
+----------------------------------------+--------------------+
| Ubuntu 20.04 aarch32 GCC Cross Compile | PASS               |
+----------------------------------------+--------------------+
| Ubuntu 20.04 ARM Clang Cross Compile   | PASS               |
+----------------------------------------+--------------------+
| Ubuntu 20.04 ARM GCC Cross Compile     | PASS               |
+----------------------------------------+--------------------+
| Fedora 38 (ARM Clang)                  | PASS               |
+----------------------------------------+--------------------+


Ubuntu 20.04 ARM SVE
	Kernel: 5.4.0-167-generic
	Compiler: gcc (Ubuntu 10.5.0-1ubuntu1~20.04) 10.5.0

Debian 12 with MUSDK
	Kernel: Container Host Kernel
	Compiler: gcc 12.2.0

Debian 11 (Buster) (ARM)
	Kernel: Container Host Kernel
	Compiler: gcc 10.2.1

Fedora 37 (ARM)
	Kernel: Depends on container host
	Compiler: gcc 12.3.1

Fedora 38 (ARM)
	Kernel: Depends on container host
	Compiler: gcc 13.2.1

Ubuntu 20.04 (ARM)
	Kernel: Container Host Kernel
	Compiler: gcc 9.4.0

Debian 12 (arm)
	Kernel: Container Host Kernel
	Compiler: gcc 12.2.0

CentOS Stream 9 (ARM)
	Kernel: Container Host Kernel
	Compiler: gcc 11.4.1

Fedora 39 (ARM)
	Kernel: Depends on container host
	Compiler: gcc 13.2.1

Ubuntu 20.04 aarch32 GCC Cross Compile
	Kernel: 5.4.0-167-generic
	Compiler: gcc 9.4.0

Ubuntu 20.04 ARM Clang Cross Compile
	Kernel: 5.4.0-72-generic
	Compiler: clang 10.0.0-4ubuntu1

Ubuntu 20.04 ARM GCC Cross Compile
	Kernel: 5.4.0-167-generic
	Compiler: aarch64-linux-gnu-gcc (Ubuntu 9.4.0-1ubuntu1~20.04.2) 9.4.0

Fedora 38 (ARM Clang)
	Kernel: Depends on container host
	Compiler: clang 16.0.6

To view detailed results, visit:
https://lab.dpdk.org/results/dashboard/patchsets/29662/

UNH-IOL DPDK Community Lab

To manage your email subscriptions, visit: 
https://lab.dpdk.org/results/dashboard/preferences/subscriptions/