From mboxrd@z Thu Jan  1 00:00:00 1970
Return-Path: <test-report-bounces@dpdk.org>
Received: from mails.dpdk.org (mails.dpdk.org [217.70.189.124])
	by inbox.dpdk.org (Postfix) with ESMTP id 5FFD243D64
	for <public@inbox.dpdk.org>; Wed, 27 Mar 2024 09:37:24 +0100 (CET)
Received: from mails.dpdk.org (localhost [127.0.0.1])
	by mails.dpdk.org (Postfix) with ESMTP id 5BBC1402A3;
	Wed, 27 Mar 2024 09:37:24 +0100 (CET)
Received: from mail-yw1-f226.google.com (mail-yw1-f226.google.com
 [209.85.128.226])
 by mails.dpdk.org (Postfix) with ESMTP id 7443B4029F
 for <test-report@dpdk.org>; Wed, 27 Mar 2024 09:37:18 +0100 (CET)
Received: by mail-yw1-f226.google.com with SMTP id
 00721157ae682-611248b4805so47757387b3.0
 for <test-report@dpdk.org>; Wed, 27 Mar 2024 01:37:18 -0700 (PDT)
DKIM-Signature: v=1; a=rsa-sha256; c=relaxed/relaxed;
 d=iol.unh.edu; s=unh-iol; t=1711528638; x=1712133438; darn=dpdk.org;
 h=references:in-reply-to:cc:to:from:subject:message-id:date:from:to
 :cc:subject:date:message-id:reply-to;
 bh=7EpXRYipjAFXOExVs74M7PkY0znOgzGVR+pRU+DDjvw=;
 b=jBdUfRw3haCy9ydAbUhO0Mu57SLxyzr2EdoSgAcp1pZm/4U2sL1BdBE552D8uGsSPM
 Hk0XGu2weaWriJbimjESZVGnDMCLIiEg9kYywhegQoUaK6bzoPvUnVKQxIW59PhkGZJ0
 gP4dctrA8EfFfFgrGQnvdFjYrzsT5hMVxuy3g=
X-Google-DKIM-Signature: v=1; a=rsa-sha256; c=relaxed/relaxed;
 d=1e100.net; s=20230601; t=1711528638; x=1712133438;
 h=references:in-reply-to:cc:to:from:subject:message-id:date
 :x-gm-message-state:from:to:cc:subject:date:message-id:reply-to;
 bh=7EpXRYipjAFXOExVs74M7PkY0znOgzGVR+pRU+DDjvw=;
 b=SbBzgWyye+FVOOOl2KU1B4UJo9AoQkChkKXi8DK4g4BXG8Tdt8HfGG/dCI7eLVOc7u
 5uC1zAjONLrxvN62PDwV3APDXRHyWz4sUH3bgRXGErs2u/ToMRGrnEK2IGc/XDmj3GIb
 BwMDSjQvnx1bvKFrlPLSbc+CNiEyydpbexohIip3bsFBC22FsqexbcKY0mrRMfL502bi
 THKibr1x7vbLwy9vAlprw7QSflrIYfzxMptGuOEke8nWFtLZwA5+RFQvg0IgpEXZ9tzb
 aDc0s7QsgSlIFOj+jS2Vae6YSYHQSOQMGk7xLCC7xiVh7+Egm2/4n0rdAsSN+kTMWVOc
 +IMA==
X-Gm-Message-State: AOJu0YzVinR04tfRLuIeeGaMAUrGPTf94HBmAfzdKfJ94P/liI0bFgSJ
 SY685zhyTB0D9hc/eZjQSHaxpTvycFfRrXJhH9inWWmZrfqDp8cJ12wMtOuE716dV3N6f8djqMe
 zT4D28BKTIbPSes4mtvaZBZy9SkL9qXqp6IEGoTWeFB0wyu4G7ATXd9tR
X-Google-Smtp-Source: AGHT+IGKivCuLChcN0q7zpP8bECA881l0Ggs1bjIQc+KdKty9jw5GpDwEBXTSjh+TPbV2iDgjBuSI9uO1A+e
X-Received: by 2002:a0d:db42:0:b0:610:c3bc:f6f with SMTP id
 d63-20020a0ddb42000000b00610c3bc0f6fmr3813092ywe.43.1711528637901; 
 Wed, 27 Mar 2024 01:37:17 -0700 (PDT)
Received: from postal.iol.unh.edu (postal.iol.unh.edu.
 [2606:4100:3880:1234::84]) by smtp-relay.gmail.com with ESMTPS id
 y12-20020a81a10c000000b00607f09a04f4sm551244ywg.70.2024.03.27.01.37.17
 (version=TLS1_2 cipher=ECDHE-ECDSA-AES128-GCM-SHA256 bits=128/128);
 Wed, 27 Mar 2024 01:37:17 -0700 (PDT)
X-Relaying-Domain: iol.unh.edu
Date: Wed, 27 Mar 2024 01:37:17 -0700 (PDT)
Message-ID: <6603dabd.810a0220.f569a.64ccSMTPIN_ADDED_MISSING@mx.google.com>
Received: from [172.17.0.7] (unknown [172.18.0.217])
 by postal.iol.unh.edu (Postfix) with ESMTP id 876C56052471;
 Wed, 27 Mar 2024 04:37:17 -0400 (EDT)
Subject: |SUCCESS| pw138849 [PATCH] [v1] net/ice: updated 24.03 recommended m
From: dpdklab@iol.unh.edu
To: Test Report <test-report@dpdk.org>
Cc: dpdk-test-reports@iol.unh.edu
In-Reply-To: <20240327050729.459392-1-hailinx.xu@intel.com>
References: <20240327050729.459392-1-hailinx.xu@intel.com>
Content-Type: text/plain
X-BeenThere: test-report@dpdk.org
X-Mailman-Version: 2.1.29
Precedence: list
List-Id: automatic DPDK test reports <test-report.dpdk.org>
List-Unsubscribe: <https://mails.dpdk.org/options/test-report>,
 <mailto:test-report-request@dpdk.org?subject=unsubscribe>
List-Archive: <http://mails.dpdk.org/archives/test-report/>
List-Post: <mailto:test-report@dpdk.org>
List-Help: <mailto:test-report-request@dpdk.org?subject=help>
List-Subscribe: <https://mails.dpdk.org/listinfo/test-report>,
 <mailto:test-report-request@dpdk.org?subject=subscribe>
Errors-To: test-report-bounces@dpdk.org

Test-Label: iol-unit-amd64-testing
Test-Status: SUCCESS
http://dpdk.org/patch/138849

_Testing PASS_

Submitter: hailinx <hailinx.xu@intel.com>
Date: Wednesday, March 27 2024 05:07:29 
DPDK git baseline: Repo:dpdk
  Branch: master
  CommitID:2c54ea7a59dfc0a819d3527309c62846fc8853af

138849 --> testing pass

Test environment and result as below:

+---------------------+----------------+
|     Environment     | dpdk_unit_test |
+=====================+================+
| Windows Server 2019 | PASS           |
+---------------------+----------------+
| Windows Server 2022 | PASS           |
+---------------------+----------------+
| Debian Bullseye     | PASS           |
+---------------------+----------------+
| Debian 11 (arm)     | PASS           |
+---------------------+----------------+
| CentOS Stream 9     | PASS           |
+---------------------+----------------+
| Fedora 37           | PASS           |
+---------------------+----------------+
| RHEL8               | PASS           |
+---------------------+----------------+
| Fedora 38           | PASS           |
+---------------------+----------------+
| Fedora 39           | PASS           |
+---------------------+----------------+
| Ubuntu 20.04        | PASS           |
+---------------------+----------------+
| openSUSE Leap 15    | PASS           |
+---------------------+----------------+
| Ubuntu 22.04        | PASS           |
+---------------------+----------------+
| CentOS Stream 8     | PASS           |
+---------------------+----------------+


Windows Server 2019
	Kernel: 10.0.17763
	Compiler: clang 14.0 and gcc 8.1.0 (MinGW)

Windows Server 2022
	Kernel: 10.0.20348.2031
	Compiler: clang 15.0.7, gcc 8.1.0 (MinGW), and MSVC VS 17.9

Debian Bullseye
	Kernel: 5.4.0-167-generic
	Compiler: gcc 10.2.1-6

Debian 11 (arm)
	Kernel: Container Host Kernel
	Compiler: gcc 10.2.1

CentOS Stream 9
	Kernel: 5.4.0-167-generic
	Compiler: gcc 11.4.1 20230605

Fedora 37
	Kernel: Depends on container host system
	Compiler: gcc 12.3.1

RHEL8
	Kernel: 5.4.0-167-generic
	Compiler: gcc 8.5.0 20210514 (Red Hat 8.5.0-20)

Fedora 38
	Kernel: Depends on container host
	Compiler: gcc 13.2.1

Fedora 39
	Kernel: Depends on container host
	Compiler: gcc 13.2.1

Ubuntu 20.04
	Kernel: 5.4.0-167-generic
	Compiler: gcc 9.4.0-1ubuntu1~20.04.1

openSUSE Leap 15
	Kernel: 5.4.0-167-generic
	Compiler: gcc 7.5.0

Ubuntu 22.04
	Kernel: 5.4.0-167-generic
	Compiler: gcc 11.4.0

CentOS Stream 8
	Kernel: 5.4.0-167-generic
	Compiler: gcc 8.5.0 20210514

To view detailed results, visit:
https://lab.dpdk.org/results/dashboard/patchsets/29662/

UNH-IOL DPDK Community Lab

To manage your email subscriptions, visit: 
https://lab.dpdk.org/results/dashboard/preferences/subscriptions/