From mboxrd@z Thu Jan  1 00:00:00 1970
Return-Path: <test-report-bounces@dpdk.org>
Received: from mails.dpdk.org (mails.dpdk.org [217.70.189.124])
	by inbox.dpdk.org (Postfix) with ESMTP id 8DA8C43D64
	for <public@inbox.dpdk.org>; Wed, 27 Mar 2024 09:52:56 +0100 (CET)
Received: from mails.dpdk.org (localhost [127.0.0.1])
	by mails.dpdk.org (Postfix) with ESMTP id 8950C402A3;
	Wed, 27 Mar 2024 09:52:56 +0100 (CET)
Received: from mail-yb1-f225.google.com (mail-yb1-f225.google.com
 [209.85.219.225])
 by mails.dpdk.org (Postfix) with ESMTP id C84744029F
 for <test-report@dpdk.org>; Wed, 27 Mar 2024 09:52:55 +0100 (CET)
Received: by mail-yb1-f225.google.com with SMTP id
 3f1490d57ef6-dc742543119so6222065276.0
 for <test-report@dpdk.org>; Wed, 27 Mar 2024 01:52:55 -0700 (PDT)
DKIM-Signature: v=1; a=rsa-sha256; c=relaxed/relaxed;
 d=iol.unh.edu; s=unh-iol; t=1711529575; x=1712134375; darn=dpdk.org;
 h=references:in-reply-to:cc:to:from:subject:message-id:date:from:to
 :cc:subject:date:message-id:reply-to;
 bh=9RTX+Sv1iWkt7df8eFPEMHtKYthwAY5xeecB/qkdIeQ=;
 b=ZiblMdG1j3kzhI8ESMomJoC5nYfSoyt0UC8YKxOuHUmgsA1QTuEYpB8Jx8h4QkePpD
 db/VmYcOMFHANamG9uMm0X9l1+R90KeKUSjChAqP1HmDZHDJ765N+CDh3NGJDV3A77MM
 Un/eY56PeNe6M1JhCwjjOKqtfTdXQzsi1efTA=
X-Google-DKIM-Signature: v=1; a=rsa-sha256; c=relaxed/relaxed;
 d=1e100.net; s=20230601; t=1711529575; x=1712134375;
 h=references:in-reply-to:cc:to:from:subject:message-id:date
 :x-gm-message-state:from:to:cc:subject:date:message-id:reply-to;
 bh=9RTX+Sv1iWkt7df8eFPEMHtKYthwAY5xeecB/qkdIeQ=;
 b=KSIvAJg7QCGOT3Xv9LvbsIMVUVyGGgJ8gvIOsw00d2UWX+YaLo8cgFWd3rLOenUAg0
 RcW5egV9L6/ZjsjgLI7CZVqD4qYAbsKxFBfMsdqiVNElNAlTebIC3PWHrERlkZZgr6mz
 vHfHl7O8S71zNbRkZq9kPj28ICH+Fr4ac/G4XBC6aXzhyhA67qcvJLQZhyZR/5RgHH4p
 roj1/qV+H2F0KkN39TdS6NxQflIDXe+S4bFuas1qeEBRzFiQ8l0iYR8Pt1Dugcu52DbM
 Fe4/ElBFZQlB7BDgPBXJ/d2Y68OiOVC8Sez9Byi5koCd4E8DED9DyOPesFP+vVwIne/n
 2Wrw==
X-Gm-Message-State: AOJu0YzHRpavcTuhOITusjE2/YDdje/oEpRfD78FMVVjip8MCVSC4O6J
 fFiVn9Tk/GiPYLmFJO8WLXrvMJiCLQlF8+GgnhfMAazyqYps3eLkyfxlHoJLivu12FNSOn37Hhs
 1h0rRs+fDOGPF10sUbhYQxu0guNz5Zk2ZqoGXbWVA
X-Google-Smtp-Source: AGHT+IEU8vZ/wFVeXqCnJJ5ZzYlJKBKpGJxLbIQ0s9WYkG+OUkGJB3PXo/hjOlneHQgPQ16Id+9cf+A0iPN9
X-Received: by 2002:a25:2984:0:b0:dd0:bb34:1e77 with SMTP id
 p126-20020a252984000000b00dd0bb341e77mr3363666ybp.53.1711529575205; 
 Wed, 27 Mar 2024 01:52:55 -0700 (PDT)
Received: from postal.iol.unh.edu (postal.iol.unh.edu. [132.177.123.84])
 by smtp-relay.gmail.com with ESMTPS id
 gv14-20020a056214262e00b006968b1f7bd3sm497027qvb.60.2024.03.27.01.52.55
 (version=TLS1_2 cipher=ECDHE-ECDSA-AES128-GCM-SHA256 bits=128/128);
 Wed, 27 Mar 2024 01:52:55 -0700 (PDT)
X-Relaying-Domain: iol.unh.edu
Date: Wed, 27 Mar 2024 01:52:55 -0700 (PDT)
Message-ID: <6603de67.050a0220.87de9.2f05SMTPIN_ADDED_MISSING@mx.google.com>
Received: from [172.17.0.8] (unknown [172.18.0.217])
 by postal.iol.unh.edu (Postfix) with ESMTP id DC74D6052471;
 Wed, 27 Mar 2024 04:52:54 -0400 (EDT)
Subject: |SUCCESS| pw138848 [PATCH] [v1] net/i40e: updated 24.03 recommended 
From: dpdklab@iol.unh.edu
To: Test Report <test-report@dpdk.org>
Cc: dpdk-test-reports@iol.unh.edu
In-Reply-To: <20240327050655.459332-1-hailinx.xu@intel.com>
References: <20240327050655.459332-1-hailinx.xu@intel.com>
Content-Type: text/plain
X-BeenThere: test-report@dpdk.org
X-Mailman-Version: 2.1.29
Precedence: list
List-Id: automatic DPDK test reports <test-report.dpdk.org>
List-Unsubscribe: <https://mails.dpdk.org/options/test-report>,
 <mailto:test-report-request@dpdk.org?subject=unsubscribe>
List-Archive: <http://mails.dpdk.org/archives/test-report/>
List-Post: <mailto:test-report@dpdk.org>
List-Help: <mailto:test-report-request@dpdk.org?subject=help>
List-Subscribe: <https://mails.dpdk.org/listinfo/test-report>,
 <mailto:test-report-request@dpdk.org?subject=subscribe>
Errors-To: test-report-bounces@dpdk.org

Test-Label: iol-abi-testing
Test-Status: SUCCESS
http://dpdk.org/patch/138848

_Testing PASS_

Submitter: hailinx <hailinx.xu@intel.com>
Date: Wednesday, March 27 2024 05:06:55 
DPDK git baseline: Repo:dpdk
  Branch: master
  CommitID:2c54ea7a59dfc0a819d3527309c62846fc8853af

138848 --> testing pass

Test environment and result as below:

+------------------+----------+
|   Environment    | abi_test |
+==================+==========+
| Debian Bullseye  | PASS     |
+------------------+----------+
| Debian 11 (arm)  | PASS     |
+------------------+----------+
| Fedora 38        | PASS     |
+------------------+----------+
| CentOS Stream 8  | PASS     |
+------------------+----------+
| CentOS Stream 9  | PASS     |
+------------------+----------+
| Fedora 39        | PASS     |
+------------------+----------+
| openSUSE Leap 15 | PASS     |
+------------------+----------+
| Fedora 37        | PASS     |
+------------------+----------+
| Ubuntu 22.04     | PASS     |
+------------------+----------+
| RHEL8            | PASS     |
+------------------+----------+


Debian Bullseye
	Kernel: 5.4.0-167-generic
	Compiler: gcc 10.2.1-6

Debian 11 (arm)
	Kernel: Container Host Kernel
	Compiler: gcc 10.2.1

Fedora 38
	Kernel: Depends on container host
	Compiler: gcc 13.2.1

CentOS Stream 8
	Kernel: 5.4.0-167-generic
	Compiler: gcc 8.5.0 20210514

CentOS Stream 9
	Kernel: 5.4.0-167-generic
	Compiler: gcc 11.4.1 20230605

Fedora 39
	Kernel: Depends on container host
	Compiler: clang 17.0.6

openSUSE Leap 15
	Kernel: 5.4.0-167-generic
	Compiler: gcc 7.5.0

Fedora 37
	Kernel: Depends on container host system
	Compiler: gcc 12.3.1

Ubuntu 22.04
	Kernel: 5.4.0-167-generic
	Compiler: gcc 11.4.0

RHEL8
	Kernel: 5.4.0-167-generic
	Compiler: gcc 8.5.0 20210514 (Red Hat 8.5.0-20)

To view detailed results, visit:
https://lab.dpdk.org/results/dashboard/patchsets/29661/

UNH-IOL DPDK Community Lab

To manage your email subscriptions, visit: 
https://lab.dpdk.org/results/dashboard/preferences/subscriptions/