From mboxrd@z Thu Jan  1 00:00:00 1970
Return-Path: <test-report-bounces@dpdk.org>
Received: from mails.dpdk.org (mails.dpdk.org [217.70.189.124])
	by inbox.dpdk.org (Postfix) with ESMTP id C4E0F43D66
	for <public@inbox.dpdk.org>; Wed, 27 Mar 2024 10:07:36 +0100 (CET)
Received: from mails.dpdk.org (localhost [127.0.0.1])
	by mails.dpdk.org (Postfix) with ESMTP id BD492410EA;
	Wed, 27 Mar 2024 10:07:36 +0100 (CET)
Received: from mail-yb1-f226.google.com (mail-yb1-f226.google.com
 [209.85.219.226])
 by mails.dpdk.org (Postfix) with ESMTP id A01644029F
 for <test-report@dpdk.org>; Wed, 27 Mar 2024 10:06:53 +0100 (CET)
Received: by mail-yb1-f226.google.com with SMTP id
 3f1490d57ef6-dcbd1d4904dso6482000276.3
 for <test-report@dpdk.org>; Wed, 27 Mar 2024 02:06:53 -0700 (PDT)
DKIM-Signature: v=1; a=rsa-sha256; c=relaxed/relaxed;
 d=iol.unh.edu; s=unh-iol; t=1711530413; x=1712135213; darn=dpdk.org;
 h=references:in-reply-to:cc:to:from:subject:message-id:date:from:to
 :cc:subject:date:message-id:reply-to;
 bh=vaRTBYYoREWPRJU3npKJp6qFdhO5dRgyohVwfZz50Ew=;
 b=MAEjHRgjXzAWFfatQ1Id7Y7buJ9vGK+MQZC800XFo2/wE1O5yPIa53nvogt9SxTGyv
 rVYQ+Rlxpah37dNtciBCYomWMCzQ5jldoYJ66KdjZC7hTObvKKdBBWZ3k49Y7RWevJ06
 a7OtHybOrkmA5X1KwLQjefXRpXVz8VkyV9ipU=
X-Google-DKIM-Signature: v=1; a=rsa-sha256; c=relaxed/relaxed;
 d=1e100.net; s=20230601; t=1711530413; x=1712135213;
 h=references:in-reply-to:cc:to:from:subject:message-id:date
 :x-gm-message-state:from:to:cc:subject:date:message-id:reply-to;
 bh=vaRTBYYoREWPRJU3npKJp6qFdhO5dRgyohVwfZz50Ew=;
 b=ockdkEKmIGPSMrSs9woEjViQjQ+fHTX4U/GOxxav0PJ+h43T24IT0AUrSsPBJs+I8s
 QLV01jNvuyZ+LUJm1To9JrkGrvza9GpGCbgTHPLjI4vCS2tAiB/G3u9xXwfnHZ6cwGAo
 rwahOJRDi98XQKkj6WM1GAOXXvaoClJIGQqsVod0nOeU6RfZuRdh9gNz20ky3OWWl/hF
 sPS/cRyKsLFXjZzNbXbdewrUPvh2Fjtq+s8SPLCySrlkxq3/tg1itrc+t7Uo5u4ZnLe1
 FknNqTA1tsXSuaeYOJnB/zHV6ZXGgzOODPPi/vixe2xLmYG60b9Fx5wScfm8krWHZB8Z
 mZlw==
X-Gm-Message-State: AOJu0YwtVGos/b8+0KYGyCbTk4H02mBk80hFbXDyUln3ewlrSmV+waDv
 F3vfNFDrfLhzoxt/JrW7HQqb8efDBIWocVI9NHBV/OiBuc95xQbfsSG+RjUPV+blKDwrC7mulzN
 NiFAFEsSwIZiUaRTY9LJ8Kr6U/ETjw0YXOkTM2k5Ttzj/d9d6MDW7xMxp
X-Google-Smtp-Source: AGHT+IH/fb01bePHHPWCUpaSse62z5oeOYet7FgyvyeU6A6vbZzchsymCjTA+sL9SlVaciWm62sLcdWl0Xru
X-Received: by 2002:a5b:910:0:b0:dc2:2b0d:613e with SMTP id
 a16-20020a5b0910000000b00dc22b0d613emr396619ybq.10.1711530413018; 
 Wed, 27 Mar 2024 02:06:53 -0700 (PDT)
Received: from postal.iol.unh.edu (postal.iol.unh.edu.
 [2606:4100:3880:1234::84]) by smtp-relay.gmail.com with ESMTPS id
 d191-20020a2568c8000000b00dd137d215e3sm342556ybc.9.2024.03.27.02.06.52
 (version=TLS1_2 cipher=ECDHE-ECDSA-AES128-GCM-SHA256 bits=128/128);
 Wed, 27 Mar 2024 02:06:53 -0700 (PDT)
X-Relaying-Domain: iol.unh.edu
Date: Wed, 27 Mar 2024 02:06:53 -0700 (PDT)
Message-ID: <6603e1ad.250a0220.322a7.736cSMTPIN_ADDED_MISSING@mx.google.com>
Received: from [172.17.0.8] (unknown [172.18.0.217])
 by postal.iol.unh.edu (Postfix) with ESMTP id A4E926052471;
 Wed, 27 Mar 2024 05:06:52 -0400 (EDT)
Subject: |SUCCESS| pw138848 [PATCH] [v1] net/i40e: updated 24.03 recommended 
From: dpdklab@iol.unh.edu
To: Test Report <test-report@dpdk.org>
Cc: dpdk-test-reports@iol.unh.edu
In-Reply-To: <20240327050655.459332-1-hailinx.xu@intel.com>
References: <20240327050655.459332-1-hailinx.xu@intel.com>
Content-Type: text/plain
X-BeenThere: test-report@dpdk.org
X-Mailman-Version: 2.1.29
Precedence: list
List-Id: automatic DPDK test reports <test-report.dpdk.org>
List-Unsubscribe: <https://mails.dpdk.org/options/test-report>,
 <mailto:test-report-request@dpdk.org?subject=unsubscribe>
List-Archive: <http://mails.dpdk.org/archives/test-report/>
List-Post: <mailto:test-report@dpdk.org>
List-Help: <mailto:test-report-request@dpdk.org?subject=help>
List-Subscribe: <https://mails.dpdk.org/listinfo/test-report>,
 <mailto:test-report-request@dpdk.org?subject=subscribe>
Errors-To: test-report-bounces@dpdk.org

Test-Label: iol-unit-arm64-testing
Test-Status: SUCCESS
http://dpdk.org/patch/138848

_Testing PASS_

Submitter: hailinx <hailinx.xu@intel.com>
Date: Wednesday, March 27 2024 05:06:55 
DPDK git baseline: Repo:dpdk
  Branch: master
  CommitID:2c54ea7a59dfc0a819d3527309c62846fc8853af

138848 --> testing pass

Test environment and result as below:

+-----------------------------+----------------+---------------------------+------------------------------+
|         Environment         | dpdk_unit_test | cryptodev_sw_zuc_autotest | cryptodev_sw_snow3g_autotest |
+=============================+================+===========================+==============================+
| CentOS Stream 9 (ARM)       | PASS           | SKIPPED                   | SKIPPED                      |
+-----------------------------+----------------+---------------------------+------------------------------+
| Debian 11 (Buster) (ARM)    | PASS           | SKIPPED                   | SKIPPED                      |
+-----------------------------+----------------+---------------------------+------------------------------+
| Debian 12 (arm)             | PASS           | PASS                      | PASS                         |
+-----------------------------+----------------+---------------------------+------------------------------+
| 32-bit Ubuntu 20.04.4 (ARM) | PASS           | SKIPPED                   | SKIPPED                      |
+-----------------------------+----------------+---------------------------+------------------------------+
| Fedora 38 (ARM)             | PASS           | SKIPPED                   | SKIPPED                      |
+-----------------------------+----------------+---------------------------+------------------------------+
| Fedora 37 (ARM)             | PASS           | SKIPPED                   | SKIPPED                      |
+-----------------------------+----------------+---------------------------+------------------------------+
| Fedora 39 (ARM)             | PASS           | SKIPPED                   | SKIPPED                      |
+-----------------------------+----------------+---------------------------+------------------------------+
| Ubuntu 20.04 (ARM)          | PASS           | SKIPPED                   | SKIPPED                      |
+-----------------------------+----------------+---------------------------+------------------------------+
| Fedora 39 (ARM Clang)       | PASS           | SKIPPED                   | SKIPPED                      |
+-----------------------------+----------------+---------------------------+------------------------------+
| Fedora 38 (ARM Clang)       | PASS           | SKIPPED                   | SKIPPED                      |
+-----------------------------+----------------+---------------------------+------------------------------+


CentOS Stream 9 (ARM)
	Kernel: Container Host Kernel
	Compiler: gcc 11.4.1

Debian 11 (Buster) (ARM)
	Kernel: Container Host Kernel
	Compiler: gcc 10.2.1

Debian 12 (arm)
	Kernel: Container Host Kernel
	Compiler: gcc 12.2.0

32-bit Ubuntu 20.04.4 (ARM)
	Kernel: 5.4.0-155-generic aarch64
	Compiler: gcc 9.4

Fedora 38 (ARM)
	Kernel: Depends on container host
	Compiler: gcc 13.2.1

Fedora 37 (ARM)
	Kernel: Depends on container host
	Compiler: gcc 12.3.1

Fedora 39 (ARM)
	Kernel: Depends on container host
	Compiler: gcc 13.2.1

Ubuntu 20.04 (ARM)
	Kernel: Container Host Kernel
	Compiler: gcc 9.4.0

Fedora 39 (ARM Clang)
	Kernel: Depends on container host
	Compiler: clang 17.0.6

Fedora 38 (ARM Clang)
	Kernel: Depends on container host
	Compiler: clang 16.0.6

To view detailed results, visit:
https://lab.dpdk.org/results/dashboard/patchsets/29661/

UNH-IOL DPDK Community Lab

To manage your email subscriptions, visit: 
https://lab.dpdk.org/results/dashboard/preferences/subscriptions/