From mboxrd@z Thu Jan  1 00:00:00 1970
Return-Path: <test-report-bounces@dpdk.org>
Received: from mails.dpdk.org (mails.dpdk.org [217.70.189.124])
	by inbox.dpdk.org (Postfix) with ESMTP id 0FC6943D66
	for <public@inbox.dpdk.org>; Wed, 27 Mar 2024 10:07:37 +0100 (CET)
Received: from mails.dpdk.org (localhost [127.0.0.1])
	by mails.dpdk.org (Postfix) with ESMTP id 08C73427D8;
	Wed, 27 Mar 2024 10:07:37 +0100 (CET)
Received: from mail-io1-f99.google.com (mail-io1-f99.google.com
 [209.85.166.99]) by mails.dpdk.org (Postfix) with ESMTP id 06CCF4029F
 for <test-report@dpdk.org>; Wed, 27 Mar 2024 10:07:25 +0100 (CET)
Received: by mail-io1-f99.google.com with SMTP id
 ca18e2360f4ac-7cc133f431fso262591439f.1
 for <test-report@dpdk.org>; Wed, 27 Mar 2024 02:07:24 -0700 (PDT)
DKIM-Signature: v=1; a=rsa-sha256; c=relaxed/relaxed;
 d=iol.unh.edu; s=unh-iol; t=1711530444; x=1712135244; darn=dpdk.org;
 h=references:in-reply-to:cc:to:from:subject:message-id:date:from:to
 :cc:subject:date:message-id:reply-to;
 bh=y6+00LqZxk8Cxu6dWByNVZWKBIhVCIcFY8El2OmmjEk=;
 b=dqS1myWGDN0MhciVj6DuGZoFeKdczanTP3hSuG0dTqvcGkcgwMRUw+Z0f0+QU3oi69
 dkwA7AK3zkSgdmgJ7eyIckqFlqEv3aOO/MFe6TpRrLE0UZbOtQWlcP61ZgFsq/51c0YS
 7EPngGxNfa9imat20F2n6ZEdMU3ZCxzauL9R4=
X-Google-DKIM-Signature: v=1; a=rsa-sha256; c=relaxed/relaxed;
 d=1e100.net; s=20230601; t=1711530444; x=1712135244;
 h=references:in-reply-to:cc:to:from:subject:message-id:date
 :x-gm-message-state:from:to:cc:subject:date:message-id:reply-to;
 bh=y6+00LqZxk8Cxu6dWByNVZWKBIhVCIcFY8El2OmmjEk=;
 b=kjZhpryipWu3B1vxqDrLj6x1I9aP/0fVMv0GWpRMJOzuK5zOdlbJPXyMqWmu1wsmqu
 CFdoB3HWpYThBl1wyKTervtScXUc1wMA+vEPHLI2fRRHL4T8mOksnnMfISJ7TvadxZv+
 YCtWHfRkO1GiKP+yYuy3y8UhNr8jX3pp86pgk7xLSwU9R/b4XXgVjF6qGsbW12/ISTcf
 7LtzGkgUmThoHpaUeiNZBp3ky1E2B1KjcxAN+vVjEE2jdrWh3ZNaYhee3gyhA7eolXGo
 2D921YYLaPUJqP6VKu7hGmYlu68bXiMiwRBF7KeEPixwxeihz5oFNhjVWgkQZAXs7WeE
 eEGQ==
X-Gm-Message-State: AOJu0Yw0JMtfsGK2GVuz8zatobBnnWqIxH71Sld+TVGSSd/FQQccJ40w
 OEXnc+BTXDyoZLXGkLwg6upgo29JAIvQPh9TOPU3WBif7uxmqgPoin9Bv1siVfPiM0da3JkvFtG
 R/Z/uPdqWI5NiMGlFNVnBSWAJSAUfiydp1cfYoaKQetWQ6DAz2qCLgTeR
X-Google-Smtp-Source: AGHT+IEmEXTP9UNI7gQmykLtOagJ2uQWBj2T50csa6F38AnBqlrDKaq+nvvz34fCMR0zJMUTK9yXxkpCrgGW
X-Received: by 2002:a05:6602:2bcc:b0:7d0:6bf4:bfe5 with SMTP id
 s12-20020a0566022bcc00b007d06bf4bfe5mr4110044iov.10.1711530444493; 
 Wed, 27 Mar 2024 02:07:24 -0700 (PDT)
Received: from postal.iol.unh.edu (postal.iol.unh.edu.
 [2606:4100:3880:1234::84]) by smtp-relay.gmail.com with ESMTPS id
 g6-20020a056602150600b007d043466c5asm283146iow.21.2024.03.27.02.07.24
 (version=TLS1_2 cipher=ECDHE-ECDSA-AES128-GCM-SHA256 bits=128/128);
 Wed, 27 Mar 2024 02:07:24 -0700 (PDT)
X-Relaying-Domain: iol.unh.edu
Date: Wed, 27 Mar 2024 02:07:24 -0700 (PDT)
Message-ID: <6603e1cc.050a0220.17be5.1364SMTPIN_ADDED_MISSING@mx.google.com>
Received: from [172.17.0.6] (unknown [172.18.0.217])
 by postal.iol.unh.edu (Postfix) with ESMTP id F22C06052471;
 Wed, 27 Mar 2024 05:07:23 -0400 (EDT)
Subject: |SUCCESS| pw138848 [PATCH] [v1] net/i40e: updated 24.03 recommended 
From: dpdklab@iol.unh.edu
To: Test Report <test-report@dpdk.org>
Cc: dpdk-test-reports@iol.unh.edu
In-Reply-To: <20240327050655.459332-1-hailinx.xu@intel.com>
References: <20240327050655.459332-1-hailinx.xu@intel.com>
Content-Type: text/plain
X-BeenThere: test-report@dpdk.org
X-Mailman-Version: 2.1.29
Precedence: list
List-Id: automatic DPDK test reports <test-report.dpdk.org>
List-Unsubscribe: <https://mails.dpdk.org/options/test-report>,
 <mailto:test-report-request@dpdk.org?subject=unsubscribe>
List-Archive: <http://mails.dpdk.org/archives/test-report/>
List-Post: <mailto:test-report@dpdk.org>
List-Help: <mailto:test-report-request@dpdk.org?subject=help>
List-Subscribe: <https://mails.dpdk.org/listinfo/test-report>,
 <mailto:test-report-request@dpdk.org?subject=subscribe>
Errors-To: test-report-bounces@dpdk.org

Test-Label: iol-compile-amd64-testing
Test-Status: SUCCESS
http://dpdk.org/patch/138848

_Testing PASS_

Submitter: hailinx <hailinx.xu@intel.com>
Date: Wednesday, March 27 2024 05:06:55 
DPDK git baseline: Repo:dpdk
  Branch: master
  CommitID:2c54ea7a59dfc0a819d3527309c62846fc8853af

138848 --> testing pass

Test environment and result as below:

+---------------------+--------------------+----------------------+-------------------+
|     Environment     | dpdk_meson_compile | dpdk_mingw64_compile | dpdk_msvc_compile |
+=====================+====================+======================+===================+
| FreeBSD 13.2        | PASS               | SKIPPED              | SKIPPED           |
+---------------------+--------------------+----------------------+-------------------+
| Windows Server 2022 | PASS               | PASS                 | PASS              |
+---------------------+--------------------+----------------------+-------------------+
| Windows Server 2019 | PASS               | PASS                 | SKIPPED           |
+---------------------+--------------------+----------------------+-------------------+
| CentOS Stream 9     | PASS               | SKIPPED              | SKIPPED           |
+---------------------+--------------------+----------------------+-------------------+
| Debian Bullseye     | PASS               | SKIPPED              | SKIPPED           |
+---------------------+--------------------+----------------------+-------------------+
| CentOS Stream 8     | PASS               | SKIPPED              | SKIPPED           |
+---------------------+--------------------+----------------------+-------------------+
| Fedora 38           | PASS               | SKIPPED              | SKIPPED           |
+---------------------+--------------------+----------------------+-------------------+
| RHEL8               | PASS               | SKIPPED              | SKIPPED           |
+---------------------+--------------------+----------------------+-------------------+
| Ubuntu 20.04        | PASS               | SKIPPED              | SKIPPED           |
+---------------------+--------------------+----------------------+-------------------+
| Debian 11 (arm)     | PASS               | SKIPPED              | SKIPPED           |
+---------------------+--------------------+----------------------+-------------------+
| Fedora 39           | PASS               | SKIPPED              | SKIPPED           |
+---------------------+--------------------+----------------------+-------------------+
| Ubuntu 22.04        | PASS               | SKIPPED              | SKIPPED           |
+---------------------+--------------------+----------------------+-------------------+
| openSUSE Leap 15    | PASS               | SKIPPED              | SKIPPED           |
+---------------------+--------------------+----------------------+-------------------+
| Fedora 37           | PASS               | SKIPPED              | SKIPPED           |
+---------------------+--------------------+----------------------+-------------------+
| Alpine              | PASS               | SKIPPED              | SKIPPED           |
+---------------------+--------------------+----------------------+-------------------+


FreeBSD 13.2
	Kernel: 13.2
	Compiler: clang 14.0.5

Windows Server 2022
	Kernel: 10.0.20348.2031
	Compiler: clang 15.0.7, gcc 8.1.0 (MinGW), and MSVC VS 17.9

Windows Server 2019
	Kernel: 10.0.17763
	Compiler: clang 14.0 and gcc 8.1.0 (MinGW)

CentOS Stream 9
	Kernel: 5.4.0-167-generic
	Compiler: gcc 11.4.1 20230605

Debian Bullseye
	Kernel: 5.4.0-167-generic
	Compiler: gcc 10.2.1-6

CentOS Stream 8
	Kernel: 5.4.0-167-generic
	Compiler: gcc 8.5.0 20210514

Fedora 38
	Kernel: Depends on container host
	Compiler: gcc 13.2.1

RHEL8
	Kernel: 5.4.0-167-generic
	Compiler: gcc 8.5.0 20210514 (Red Hat 8.5.0-20)

Ubuntu 20.04
	Kernel: 5.4.0-167-generic
	Compiler: gcc 9.4.0-1ubuntu1~20.04.1

Debian 11 (arm)
	Kernel: Container Host Kernel
	Compiler: gcc 10.2.1

Fedora 39
	Kernel: Depends on container host
	Compiler: gcc 13.2.1

Ubuntu 22.04
	Kernel: 5.4.0-167-generic
	Compiler: gcc 11.4.0

openSUSE Leap 15
	Kernel: 5.4.0-167-generic
	Compiler: gcc 7.5.0

Fedora 37
	Kernel: Depends on container host system
	Compiler: gcc 12.3.1

Alpine
	Kernel: 5.4.0-167-generic
	Compiler: gcc (Alpine 12.2.1_git20220924-r10) 12.2.1 20220924

To view detailed results, visit:
https://lab.dpdk.org/results/dashboard/patchsets/29661/

UNH-IOL DPDK Community Lab

To manage your email subscriptions, visit: 
https://lab.dpdk.org/results/dashboard/preferences/subscriptions/