From mboxrd@z Thu Jan  1 00:00:00 1970
Return-Path: <test-report-bounces@dpdk.org>
Received: from mails.dpdk.org (mails.dpdk.org [217.70.189.124])
	by inbox.dpdk.org (Postfix) with ESMTP id 85EDC43D66
	for <public@inbox.dpdk.org>; Wed, 27 Mar 2024 10:13:05 +0100 (CET)
Received: from mails.dpdk.org (localhost [127.0.0.1])
	by mails.dpdk.org (Postfix) with ESMTP id B7F87427DF;
	Wed, 27 Mar 2024 10:13:04 +0100 (CET)
Received: from mail-qv1-f98.google.com (mail-qv1-f98.google.com
 [209.85.219.98]) by mails.dpdk.org (Postfix) with ESMTP id 0FA0D4029F
 for <test-report@dpdk.org>; Wed, 27 Mar 2024 10:12:47 +0100 (CET)
Received: by mail-qv1-f98.google.com with SMTP id
 6a1803df08f44-696a7f533aeso5131166d6.1
 for <test-report@dpdk.org>; Wed, 27 Mar 2024 02:12:47 -0700 (PDT)
DKIM-Signature: v=1; a=rsa-sha256; c=relaxed/relaxed;
 d=iol.unh.edu; s=unh-iol; t=1711530766; x=1712135566; darn=dpdk.org;
 h=references:in-reply-to:cc:to:from:subject:message-id:date:from:to
 :cc:subject:date:message-id:reply-to;
 bh=vfvMsUNBu1uggNLvv/b9Dz2XdZ3zg4KIOnxDEl4q+FA=;
 b=FxmKx0dOZ4zhxTLpGrfvR+LUlcDvmRi25pZfYqA0Tld32vTIEKEdb4xnEH0ws6YDkM
 TyGg6tf3BLDEwMIwVd5Pw08OTrRo+k68wLLFYWXi2aDZoDEAdKAUB1GpamKHP9byxyFN
 q6AC+1bQY66XWmsAL0yCd1eC+9MGIjSwmMc+U=
X-Google-DKIM-Signature: v=1; a=rsa-sha256; c=relaxed/relaxed;
 d=1e100.net; s=20230601; t=1711530766; x=1712135566;
 h=references:in-reply-to:cc:to:from:subject:message-id:date
 :x-gm-message-state:from:to:cc:subject:date:message-id:reply-to;
 bh=vfvMsUNBu1uggNLvv/b9Dz2XdZ3zg4KIOnxDEl4q+FA=;
 b=oLpO3x57fiKOieSApNxkZS4TtJ9/QaQm5Xs8IFcst1b3riGviT8CA0Er9X8gHN53Ha
 7MZFqVY8qUsuX+MCaWcAphbf/djVZdBbVLK53BXfb/DXIhSW0MixKmi9kwKisLN6xqFN
 67C/z9smmMQDrFFjlXQGA0KxleILx1DTG8XgiYL14anlmn2dSa8AvSfxyNBAR5GXSQdf
 4kNZX6oxI95Ay3WRDsmTv5bp+CS5g2H8zTirJprnvqkjb4nwdm7tjcW1Aef7PLIbOS3d
 Kg9F1xo7dU5PyZO9FtN26PqLfzTgJV0fH+WYxGjhZ26DG2tXE1lgj84TuxdS2Q9RIUK/
 61bQ==
X-Gm-Message-State: AOJu0YyKnrfVGkFUefcU7yF1Y6kwxj3jMotKlxf6gN0Zpiaw3+ZaPx+O
 Yu7WFtUSwaI6BmazsQQBrSBT3PRIoicmUiFXhf4eUZ6dzVyxzZdrXLyPKLShfG2KzfgpZbLBiiz
 n9gNBpsSYHAwRlqspaQwAhX3UCo3CNSOP9Wdnd3tu
X-Google-Smtp-Source: AGHT+IHdakfigyq/x4nt8FnMguLwwvibHllKZnp4PRp9I70U8q4CSvljWhIPi22o45QuXskC7LkyfqxGbyyd
X-Received: by 2002:a05:6214:e89:b0:696:76b9:5faa with SMTP id
 hf9-20020a0562140e8900b0069676b95faamr848957qvb.3.1711530766521; 
 Wed, 27 Mar 2024 02:12:46 -0700 (PDT)
Received: from postal.iol.unh.edu (postal.iol.unh.edu. [132.177.123.84])
 by smtp-relay.gmail.com with ESMTPS id
 gy9-20020a056214242900b006969ba8b178sm198737qvb.77.2024.03.27.02.12.46
 (version=TLS1_2 cipher=ECDHE-ECDSA-AES128-GCM-SHA256 bits=128/128);
 Wed, 27 Mar 2024 02:12:46 -0700 (PDT)
X-Relaying-Domain: iol.unh.edu
Date: Wed, 27 Mar 2024 02:12:46 -0700 (PDT)
Message-ID: <6603e30e.050a0220.c1c08.b67bSMTPIN_ADDED_MISSING@mx.google.com>
Received: from [172.17.0.6] (unknown [172.18.0.217])
 by postal.iol.unh.edu (Postfix) with ESMTP id 430406052471;
 Wed, 27 Mar 2024 05:12:46 -0400 (EDT)
Subject: |SUCCESS| pw138848 [PATCH] [v1] net/i40e: updated 24.03 recommended 
From: dpdklab@iol.unh.edu
To: Test Report <test-report@dpdk.org>
Cc: dpdk-test-reports@iol.unh.edu
In-Reply-To: <20240327050655.459332-1-hailinx.xu@intel.com>
References: <20240327050655.459332-1-hailinx.xu@intel.com>
Content-Type: text/plain
X-BeenThere: test-report@dpdk.org
X-Mailman-Version: 2.1.29
Precedence: list
List-Id: automatic DPDK test reports <test-report.dpdk.org>
List-Unsubscribe: <https://mails.dpdk.org/options/test-report>,
 <mailto:test-report-request@dpdk.org?subject=unsubscribe>
List-Archive: <http://mails.dpdk.org/archives/test-report/>
List-Post: <mailto:test-report@dpdk.org>
List-Help: <mailto:test-report-request@dpdk.org?subject=help>
List-Subscribe: <https://mails.dpdk.org/listinfo/test-report>,
 <mailto:test-report-request@dpdk.org?subject=subscribe>
Errors-To: test-report-bounces@dpdk.org

Test-Label: iol-unit-amd64-testing
Test-Status: SUCCESS
http://dpdk.org/patch/138848

_Testing PASS_

Submitter: hailinx <hailinx.xu@intel.com>
Date: Wednesday, March 27 2024 05:06:55 
DPDK git baseline: Repo:dpdk
  Branch: master
  CommitID:2c54ea7a59dfc0a819d3527309c62846fc8853af

138848 --> testing pass

Test environment and result as below:

+------------------+----------------+
|   Environment    | dpdk_unit_test |
+==================+================+
| CentOS Stream 8  | PASS           |
+------------------+----------------+
| CentOS Stream 9  | PASS           |
+------------------+----------------+
| Debian 11 (arm)  | PASS           |
+------------------+----------------+
| Debian Bullseye  | PASS           |
+------------------+----------------+
| Fedora 38        | PASS           |
+------------------+----------------+
| Fedora 37        | PASS           |
+------------------+----------------+
| Fedora 39        | PASS           |
+------------------+----------------+
| openSUSE Leap 15 | PASS           |
+------------------+----------------+


CentOS Stream 8
	Kernel: 5.4.0-167-generic
	Compiler: gcc 8.5.0 20210514

CentOS Stream 9
	Kernel: 5.4.0-167-generic
	Compiler: gcc 11.4.1 20230605

Debian 11 (arm)
	Kernel: Container Host Kernel
	Compiler: gcc 10.2.1

Debian Bullseye
	Kernel: 5.4.0-167-generic
	Compiler: gcc 10.2.1-6

Fedora 38
	Kernel: Depends on container host
	Compiler: gcc 13.2.1

Fedora 37
	Kernel: Depends on container host system
	Compiler: gcc 12.3.1

Fedora 39
	Kernel: Depends on container host
	Compiler: gcc 13.2.1

openSUSE Leap 15
	Kernel: 5.4.0-167-generic
	Compiler: gcc 7.5.0

To view detailed results, visit:
https://lab.dpdk.org/results/dashboard/patchsets/29661/

UNH-IOL DPDK Community Lab

To manage your email subscriptions, visit: 
https://lab.dpdk.org/results/dashboard/preferences/subscriptions/