From mboxrd@z Thu Jan  1 00:00:00 1970
Return-Path: <test-report-bounces@dpdk.org>
Received: from mails.dpdk.org (mails.dpdk.org [217.70.189.124])
	by inbox.dpdk.org (Postfix) with ESMTP id 2C87E43D66
	for <public@inbox.dpdk.org>; Wed, 27 Mar 2024 10:15:17 +0100 (CET)
Received: from mails.dpdk.org (localhost [127.0.0.1])
	by mails.dpdk.org (Postfix) with ESMTP id 8578841153;
	Wed, 27 Mar 2024 10:15:16 +0100 (CET)
Received: from mail-il1-f225.google.com (mail-il1-f225.google.com
 [209.85.166.225])
 by mails.dpdk.org (Postfix) with ESMTP id CBF2B4029F
 for <test-report@dpdk.org>; Wed, 27 Mar 2024 10:14:33 +0100 (CET)
Received: by mail-il1-f225.google.com with SMTP id
 e9e14a558f8ab-3662feb90a8so45998605ab.3
 for <test-report@dpdk.org>; Wed, 27 Mar 2024 02:14:33 -0700 (PDT)
DKIM-Signature: v=1; a=rsa-sha256; c=relaxed/relaxed;
 d=iol.unh.edu; s=unh-iol; t=1711530873; x=1712135673; darn=dpdk.org;
 h=references:in-reply-to:cc:to:from:subject:message-id:date:from:to
 :cc:subject:date:message-id:reply-to;
 bh=uxngDz0/H7uB1sKOeZ0hjZO78iG1QQA+rXkWQCJ2Obs=;
 b=VoH3A+fFEFcACiJecwbIj+Hf3JE/z1Pr8zLMwdj7dmBVuAanYYOyQi3O9iX6J4QmLZ
 nN5IpZFwR8BgiOH6F9ofDBhE4I7vbKy0LzT8MpL7N6D4XLFw1FiFOwKywyICDGkxncHX
 1Q33T8b9NsfGSiwv8mfZP90F/UGDG+kcXKrbs=
X-Google-DKIM-Signature: v=1; a=rsa-sha256; c=relaxed/relaxed;
 d=1e100.net; s=20230601; t=1711530873; x=1712135673;
 h=references:in-reply-to:cc:to:from:subject:message-id:date
 :x-gm-message-state:from:to:cc:subject:date:message-id:reply-to;
 bh=uxngDz0/H7uB1sKOeZ0hjZO78iG1QQA+rXkWQCJ2Obs=;
 b=s4wK+z3Og7yzSu+aU5AjtjvOXKaIXwyVkcWu1eT/Jh1K7jqmUa1ivLrfthOH3qiuo5
 Q91fsDdKrLNkFxDXVYRBUQvHEflV9Dsn86ga09bA2X4gF7K8/VGGG0RRThrvTBE6zdJP
 CUmuCJCx1Q/DCr2dd3eCeMyWzOCZ3WhNdyz6CIP6hms5agfYvJRI3JM8KRlGvWTTeDer
 sSoJ3jftNMujjSTF/BjfXiUwDPBH8w9/cKMUn76C2xhTXCMmEBV6Roy4jJPkdUbj0FX2
 Wqjorwg+GaoCCuUApL9fysYOLC/48DC/7/9qBL/1WAWfT7VQkGigTlDOqXAEiFAcNwIm
 yVZw==
X-Gm-Message-State: AOJu0YzCuxsNZigVtrtz4nWZ5snHcV4myiC159INPrVQmzDbsBXK1PHd
 jyhN2+DHn0+Dhq1MF9S1xP068HXEeEnwD8Dh2l/7TxGjY/2j+LdcnGsUxdOS67X4mJZ5Y6XbZf1
 V8ELKh5DaBU9eowYi0hXUDuU9JCNp/hxXF6134uHo
X-Google-Smtp-Source: AGHT+IE91RWDIKVJKGtrMzNb1vR4565HiEKY6CKiMfJym19C0NrRPwGahfN/+/w3CsFsOtDKkiQdNLPvkOta
X-Received: by 2002:a92:c885:0:b0:368:4a19:a840 with SMTP id
 w5-20020a92c885000000b003684a19a840mr3353417ilo.22.1711530873209; 
 Wed, 27 Mar 2024 02:14:33 -0700 (PDT)
Received: from postal.iol.unh.edu (postal.iol.unh.edu. [132.177.123.84])
 by smtp-relay.gmail.com with ESMTPS id
 y13-20020a056e02178d00b0036893b6a63fsm274436ilu.58.2024.03.27.02.14.33
 (version=TLS1_2 cipher=ECDHE-ECDSA-AES128-GCM-SHA256 bits=128/128);
 Wed, 27 Mar 2024 02:14:33 -0700 (PDT)
X-Relaying-Domain: iol.unh.edu
Date: Wed, 27 Mar 2024 02:14:33 -0700 (PDT)
Message-ID: <6603e379.050a0220.e2d2e.1341SMTPIN_ADDED_MISSING@mx.google.com>
Received: from [172.17.0.6] (unknown [172.18.0.217])
 by postal.iol.unh.edu (Postfix) with ESMTP id AC1436052471;
 Wed, 27 Mar 2024 05:14:32 -0400 (EDT)
Subject: |SUCCESS| pw138848 [PATCH] [v1] net/i40e: updated 24.03 recommended 
From: dpdklab@iol.unh.edu
To: Test Report <test-report@dpdk.org>
Cc: dpdk-test-reports@iol.unh.edu
In-Reply-To: <20240327050655.459332-1-hailinx.xu@intel.com>
References: <20240327050655.459332-1-hailinx.xu@intel.com>
Content-Type: text/plain
X-BeenThere: test-report@dpdk.org
X-Mailman-Version: 2.1.29
Precedence: list
List-Id: automatic DPDK test reports <test-report.dpdk.org>
List-Unsubscribe: <https://mails.dpdk.org/options/test-report>,
 <mailto:test-report-request@dpdk.org?subject=unsubscribe>
List-Archive: <http://mails.dpdk.org/archives/test-report/>
List-Post: <mailto:test-report@dpdk.org>
List-Help: <mailto:test-report-request@dpdk.org?subject=help>
List-Subscribe: <https://mails.dpdk.org/listinfo/test-report>,
 <mailto:test-report-request@dpdk.org?subject=subscribe>
Errors-To: test-report-bounces@dpdk.org

Test-Label: iol-unit-amd64-testing
Test-Status: SUCCESS
http://dpdk.org/patch/138848

_Testing PASS_

Submitter: hailinx <hailinx.xu@intel.com>
Date: Wednesday, March 27 2024 05:06:55 
DPDK git baseline: Repo:dpdk
  Branch: master
  CommitID:2c54ea7a59dfc0a819d3527309c62846fc8853af

138848 --> testing pass

Test environment and result as below:

+------------------+----------------+
|   Environment    | dpdk_unit_test |
+==================+================+
| CentOS Stream 8  | PASS           |
+------------------+----------------+
| CentOS Stream 9  | PASS           |
+------------------+----------------+
| Debian 11 (arm)  | PASS           |
+------------------+----------------+
| Debian Bullseye  | PASS           |
+------------------+----------------+
| Fedora 38        | PASS           |
+------------------+----------------+
| Fedora 37        | PASS           |
+------------------+----------------+
| Fedora 39        | PASS           |
+------------------+----------------+
| openSUSE Leap 15 | PASS           |
+------------------+----------------+
| RHEL8            | PASS           |
+------------------+----------------+


CentOS Stream 8
	Kernel: 5.4.0-167-generic
	Compiler: gcc 8.5.0 20210514

CentOS Stream 9
	Kernel: 5.4.0-167-generic
	Compiler: gcc 11.4.1 20230605

Debian 11 (arm)
	Kernel: Container Host Kernel
	Compiler: gcc 10.2.1

Debian Bullseye
	Kernel: 5.4.0-167-generic
	Compiler: gcc 10.2.1-6

Fedora 38
	Kernel: Depends on container host
	Compiler: gcc 13.2.1

Fedora 37
	Kernel: Depends on container host system
	Compiler: gcc 12.3.1

Fedora 39
	Kernel: Depends on container host
	Compiler: gcc 13.2.1

openSUSE Leap 15
	Kernel: 5.4.0-167-generic
	Compiler: gcc 7.5.0

RHEL8
	Kernel: 5.4.0-167-generic
	Compiler: gcc 8.5.0 20210514 (Red Hat 8.5.0-20)

To view detailed results, visit:
https://lab.dpdk.org/results/dashboard/patchsets/29661/

UNH-IOL DPDK Community Lab

To manage your email subscriptions, visit: 
https://lab.dpdk.org/results/dashboard/preferences/subscriptions/