From mboxrd@z Thu Jan  1 00:00:00 1970
Return-Path: <test-report-bounces@dpdk.org>
Received: from mails.dpdk.org (mails.dpdk.org [217.70.189.124])
	by inbox.dpdk.org (Postfix) with ESMTP id E31A943D66
	for <public@inbox.dpdk.org>; Wed, 27 Mar 2024 10:20:40 +0100 (CET)
Received: from mails.dpdk.org (localhost [127.0.0.1])
	by mails.dpdk.org (Postfix) with ESMTP id 433C8410EE;
	Wed, 27 Mar 2024 10:20:40 +0100 (CET)
Received: from mail-il1-f225.google.com (mail-il1-f225.google.com
 [209.85.166.225])
 by mails.dpdk.org (Postfix) with ESMTP id B1C86402A3
 for <test-report@dpdk.org>; Wed, 27 Mar 2024 10:19:51 +0100 (CET)
Received: by mail-il1-f225.google.com with SMTP id
 e9e14a558f8ab-3678908266dso29381375ab.0
 for <test-report@dpdk.org>; Wed, 27 Mar 2024 02:19:51 -0700 (PDT)
DKIM-Signature: v=1; a=rsa-sha256; c=relaxed/relaxed;
 d=iol.unh.edu; s=unh-iol; t=1711531191; x=1712135991; darn=dpdk.org;
 h=references:in-reply-to:cc:to:from:subject:message-id:date:from:to
 :cc:subject:date:message-id:reply-to;
 bh=Y11tE8uJGXKiXuifhSUTfZ09hP/OCks9PDpFxzs3rM0=;
 b=WBL4Xb2jurrfL7UVN6RntvwUv5eXlDdH9zAkaVVkT04+diiFlmRemfzE0CUMSaf7Fy
 6SqmsPCKPUIBbt9AjHvFU+H4bDW/+OD57Acy+UlDxkj+W0IF8h+3cRnhPkUj0F8I7NaX
 Eej78uw9KwkTROh1/sunAG5WGpQV5lG5DdklA=
X-Google-DKIM-Signature: v=1; a=rsa-sha256; c=relaxed/relaxed;
 d=1e100.net; s=20230601; t=1711531191; x=1712135991;
 h=references:in-reply-to:cc:to:from:subject:message-id:date
 :x-gm-message-state:from:to:cc:subject:date:message-id:reply-to;
 bh=Y11tE8uJGXKiXuifhSUTfZ09hP/OCks9PDpFxzs3rM0=;
 b=Q+Jj4ByLWNUoTafySAS+vgG3NF/PgyI/pMhaBky59ZYke0qKPdzBSWlCAJFh3a80zl
 iufqamP1LA6palF9uSTRj1OEr2ZTm7fg25XES1u/BMyrEMje9HdmJGTECT3O5REhtgGF
 zF7oMoJzKhvQ1B/TrltI8Kx2DLD7KMDAgvye3MU2rtJ+B615WaYrjmRJs5wcRBFxyGWc
 lgdq/nDtJPtqJWkjFxw9NtDox5+tTq03zpU1ubl4jirqrxKCNrWlzhiQUNuEy3WnnGJc
 3qCx9rP7uWKN9LDzgE4+yUs7SaXWK7FI3Qbani5epOHj1TWDGmdkwfct82FjeM8nfQBj
 Mqtw==
X-Gm-Message-State: AOJu0YwSz4zfrhHyjUdcSvBf0VUwqqkFIJ6P7IzPXkl6scPMOad+2KtE
 /rhTOnBGBso1OyHrluZuUArtvCDpXzrKvoxMw7njPULI170cF8td0d2+MGfsEHhdfyDyyx48TB5
 akP3QMBn/S+DnwsvIP4kAzxy15hrrZSVRNIR3eixc
X-Google-Smtp-Source: AGHT+IF95JcARjUGOttlgCBGnr9HE4xbcDbp7wb42xEeh8YoOqluu0nUwdCOiwBwrhLO+cCAxduetvTAGwTb
X-Received: by 2002:a92:dc0e:0:b0:368:96d2:7cdc with SMTP id
 t14-20020a92dc0e000000b0036896d27cdcmr3825245iln.10.1711531191123; 
 Wed, 27 Mar 2024 02:19:51 -0700 (PDT)
Received: from postal.iol.unh.edu (postal.iol.unh.edu. [132.177.123.84])
 by smtp-relay.gmail.com with ESMTPS id
 k12-20020a92c24c000000b00368417917b7sm477652ilo.60.2024.03.27.02.19.51
 (version=TLS1_2 cipher=ECDHE-ECDSA-AES128-GCM-SHA256 bits=128/128);
 Wed, 27 Mar 2024 02:19:51 -0700 (PDT)
X-Relaying-Domain: iol.unh.edu
Date: Wed, 27 Mar 2024 02:19:51 -0700 (PDT)
Message-ID: <6603e4b7.920a0220.ae9d6.040eSMTPIN_ADDED_MISSING@mx.google.com>
Received: from [172.17.0.7] (unknown [172.18.0.217])
 by postal.iol.unh.edu (Postfix) with ESMTP id 90F3E6052471;
 Wed, 27 Mar 2024 05:19:50 -0400 (EDT)
Subject: |SUCCESS| pw138848 [PATCH] [v1] net/i40e: updated 24.03 recommended 
From: dpdklab@iol.unh.edu
To: Test Report <test-report@dpdk.org>
Cc: dpdk-test-reports@iol.unh.edu
In-Reply-To: <20240327050655.459332-1-hailinx.xu@intel.com>
References: <20240327050655.459332-1-hailinx.xu@intel.com>
Content-Type: text/plain
X-BeenThere: test-report@dpdk.org
X-Mailman-Version: 2.1.29
Precedence: list
List-Id: automatic DPDK test reports <test-report.dpdk.org>
List-Unsubscribe: <https://mails.dpdk.org/options/test-report>,
 <mailto:test-report-request@dpdk.org?subject=unsubscribe>
List-Archive: <http://mails.dpdk.org/archives/test-report/>
List-Post: <mailto:test-report@dpdk.org>
List-Help: <mailto:test-report-request@dpdk.org?subject=help>
List-Subscribe: <https://mails.dpdk.org/listinfo/test-report>,
 <mailto:test-report-request@dpdk.org?subject=subscribe>
Errors-To: test-report-bounces@dpdk.org

Test-Label: iol-unit-amd64-testing
Test-Status: SUCCESS
http://dpdk.org/patch/138848

_Testing PASS_

Submitter: hailinx <hailinx.xu@intel.com>
Date: Wednesday, March 27 2024 05:06:55 
DPDK git baseline: Repo:dpdk
  Branch: master
  CommitID:2c54ea7a59dfc0a819d3527309c62846fc8853af

138848 --> testing pass

Test environment and result as below:

+------------------+----------------+
|   Environment    | dpdk_unit_test |
+==================+================+
| CentOS Stream 8  | PASS           |
+------------------+----------------+
| CentOS Stream 9  | PASS           |
+------------------+----------------+
| Debian 11 (arm)  | PASS           |
+------------------+----------------+
| Debian Bullseye  | PASS           |
+------------------+----------------+
| Fedora 38        | PASS           |
+------------------+----------------+
| Fedora 37        | PASS           |
+------------------+----------------+
| Fedora 39        | PASS           |
+------------------+----------------+
| openSUSE Leap 15 | PASS           |
+------------------+----------------+
| RHEL8            | PASS           |
+------------------+----------------+
| Ubuntu 22.04     | PASS           |
+------------------+----------------+
| Ubuntu 20.04     | PASS           |
+------------------+----------------+


CentOS Stream 8
	Kernel: 5.4.0-167-generic
	Compiler: gcc 8.5.0 20210514

CentOS Stream 9
	Kernel: 5.4.0-167-generic
	Compiler: gcc 11.4.1 20230605

Debian 11 (arm)
	Kernel: Container Host Kernel
	Compiler: gcc 10.2.1

Debian Bullseye
	Kernel: 5.4.0-167-generic
	Compiler: gcc 10.2.1-6

Fedora 38
	Kernel: Depends on container host
	Compiler: gcc 13.2.1

Fedora 37
	Kernel: Depends on container host system
	Compiler: gcc 12.3.1

Fedora 39
	Kernel: Depends on container host
	Compiler: gcc 13.2.1

openSUSE Leap 15
	Kernel: 5.4.0-167-generic
	Compiler: gcc 7.5.0

RHEL8
	Kernel: 5.4.0-167-generic
	Compiler: gcc 8.5.0 20210514 (Red Hat 8.5.0-20)

Ubuntu 22.04
	Kernel: 5.4.0-167-generic
	Compiler: gcc 11.4.0

Ubuntu 20.04
	Kernel: 5.4.0-167-generic
	Compiler: gcc 9.4.0-1ubuntu1~20.04.1

To view detailed results, visit:
https://lab.dpdk.org/results/dashboard/patchsets/29661/

UNH-IOL DPDK Community Lab

To manage your email subscriptions, visit: 
https://lab.dpdk.org/results/dashboard/preferences/subscriptions/