From mboxrd@z Thu Jan  1 00:00:00 1970
Return-Path: <test-report-bounces@dpdk.org>
Received: from mails.dpdk.org (mails.dpdk.org [217.70.189.124])
	by inbox.dpdk.org (Postfix) with ESMTP id 066F243D5B
	for <public@inbox.dpdk.org>; Wed, 27 Mar 2024 11:04:05 +0100 (CET)
Received: from mails.dpdk.org (localhost [127.0.0.1])
	by mails.dpdk.org (Postfix) with ESMTP id 0291E402A3;
	Wed, 27 Mar 2024 11:04:05 +0100 (CET)
Received: from mail-pl1-f227.google.com (mail-pl1-f227.google.com
 [209.85.214.227])
 by mails.dpdk.org (Postfix) with ESMTP id 378A44029F
 for <test-report@dpdk.org>; Wed, 27 Mar 2024 11:03:47 +0100 (CET)
Received: by mail-pl1-f227.google.com with SMTP id
 d9443c01a7336-1def89f0cfdso5580975ad.0
 for <test-report@dpdk.org>; Wed, 27 Mar 2024 03:03:47 -0700 (PDT)
DKIM-Signature: v=1; a=rsa-sha256; c=relaxed/relaxed;
 d=iol.unh.edu; s=unh-iol; t=1711533826; x=1712138626; darn=dpdk.org;
 h=references:in-reply-to:cc:to:from:subject:message-id:date:from:to
 :cc:subject:date:message-id:reply-to;
 bh=b1ZuyPPNb3iPAbKMirkba7Mrm0s+s4MkR7HSOT5mArU=;
 b=G30jOEXyL7tUZmvpEIHU5uJS0LZwydf5j4opsXMeVE2y/+G33/9gQ1bZlmyVz4xC5/
 alBkx8jCdgIAtluJxtyVPsJGXUJBSeXUBOE+AZV8Ofa5lzGDJuBFUwrsOuTXhwzo/yHn
 gyYtQB//j1v3G3Eo9yS5HsLP5ArNxiMwF09cg=
X-Google-DKIM-Signature: v=1; a=rsa-sha256; c=relaxed/relaxed;
 d=1e100.net; s=20230601; t=1711533826; x=1712138626;
 h=references:in-reply-to:cc:to:from:subject:message-id:date
 :x-gm-message-state:from:to:cc:subject:date:message-id:reply-to;
 bh=b1ZuyPPNb3iPAbKMirkba7Mrm0s+s4MkR7HSOT5mArU=;
 b=eRIvaWa3YtdNqAdXlSM8naRgZ9h4QkPChImJoBdDymXsTVayPcFi6garLYgucZ3zEr
 IBaTrEdtETS2ce3oEaebYNlX30BMri7A4R13kcixwTBD7jYpHMRy3XCzmaaT97xivJp9
 tYETZ9mKYaZ/6h/y95RSFFch9POhPfdbeb82KIYuwWKB/hI0gdvx0GDaPsz/njQcHaC2
 1bYzM2jLQkWPeB/VgFoj3htJQ5vPAvTUi+4XxOqwvHglDqMLIE0E1x6syQ8NSBrqshsq
 3bAAQ7MiezxQqbWifK7C58OAemTerUEsdxtb8izxYeq2wbZqDZVdbzzJKeOAWaf+QNAx
 TQAA==
X-Gm-Message-State: AOJu0Yw6H0wed3Rc4c2ovQ9fQTd6Jy++72G57iv1N1pP0qRqNIDvwZNn
 /+jtMA8NsDrqdP4r9sZu4cXcwZWPQ3ycgBoBysqfju9MCCzlZHVO7cPM6glIO8HQLjJfCQI0x+M
 Ab3KLaiQM1yJk+CUjr+uMO0GwQXKVrfsn5YZzfBYh
X-Google-Smtp-Source: AGHT+IFQMRmFxVGxo0+8q8o4ZjXmPvDCRkmQ6sPXfo/XiLFf4UMLELdZowA/NH84F4X56DXU0Iyhm6NKpFeN
X-Received: by 2002:a17:902:d4cd:b0:1e2:57d:994c with SMTP id
 o13-20020a170902d4cd00b001e2057d994cmr173877plg.3.1711533826499; 
 Wed, 27 Mar 2024 03:03:46 -0700 (PDT)
Received: from postal.iol.unh.edu (postal.iol.unh.edu. [132.177.123.84])
 by smtp-relay.gmail.com with ESMTPS id
 jx13-20020a170903138d00b001d90dfa2536sm307620plb.9.2024.03.27.03.03.45
 (version=TLS1_2 cipher=ECDHE-ECDSA-AES128-GCM-SHA256 bits=128/128);
 Wed, 27 Mar 2024 03:03:45 -0700 (PDT)
X-Relaying-Domain: iol.unh.edu
Date: Wed, 27 Mar 2024 03:03:45 -0700 (PDT)
Message-ID: <6603ef01.170a0220.b5647.8b06SMTPIN_ADDED_MISSING@mx.google.com>
Received: from [172.21.0.6] (unknown [172.18.0.240])
 by postal.iol.unh.edu (Postfix) with ESMTP id CD9276052471;
 Wed, 27 Mar 2024 06:03:44 -0400 (EDT)
Subject: |SUCCESS| pw138850 [PATCH] [v5] graph: expose node context as pointe
From: dpdklab@iol.unh.edu
To: Test Report <test-report@dpdk.org>
Cc: dpdk-test-reports@iol.unh.edu
In-Reply-To: <20240327091440.1166119-2-rjarry@redhat.com>
References: <20240327091440.1166119-2-rjarry@redhat.com>
Content-Type: text/plain
X-BeenThere: test-report@dpdk.org
X-Mailman-Version: 2.1.29
Precedence: list
List-Id: automatic DPDK test reports <test-report.dpdk.org>
List-Unsubscribe: <https://mails.dpdk.org/options/test-report>,
 <mailto:test-report-request@dpdk.org?subject=unsubscribe>
List-Archive: <http://mails.dpdk.org/archives/test-report/>
List-Post: <mailto:test-report@dpdk.org>
List-Help: <mailto:test-report-request@dpdk.org?subject=help>
List-Subscribe: <https://mails.dpdk.org/listinfo/test-report>,
 <mailto:test-report-request@dpdk.org?subject=subscribe>
Errors-To: test-report-bounces@dpdk.org

Test-Label: iol-compile-amd64-testing
Test-Status: SUCCESS
http://dpdk.org/patch/138850

_Testing PASS_

Submitter: Robin Jarry <rjarry@redhat.com>
Date: Wednesday, March 27 2024 09:14:41 
DPDK git baseline: Repo:dpdk
  Branch: master
  CommitID:ded4d4765171b88470e59307f10625e942f22fca

138850 --> testing pass

Test environment and result as below:

+---------------------+--------------------+----------------------+-------------------+
|     Environment     | dpdk_meson_compile | dpdk_mingw64_compile | dpdk_msvc_compile |
+=====================+====================+======================+===================+
| CentOS Stream 8     | PASS               | SKIPPED              | SKIPPED           |
+---------------------+--------------------+----------------------+-------------------+
| Windows Server 2019 | PASS               | PASS                 | SKIPPED           |
+---------------------+--------------------+----------------------+-------------------+
| Windows Server 2022 | PASS               | PASS                 | PASS              |
+---------------------+--------------------+----------------------+-------------------+
| CentOS Stream 9     | PASS               | SKIPPED              | SKIPPED           |
+---------------------+--------------------+----------------------+-------------------+
| FreeBSD 13.2        | PASS               | SKIPPED              | SKIPPED           |
+---------------------+--------------------+----------------------+-------------------+
| Debian Bullseye     | PASS               | SKIPPED              | SKIPPED           |
+---------------------+--------------------+----------------------+-------------------+
| Debian 11 (arm)     | PASS               | SKIPPED              | SKIPPED           |
+---------------------+--------------------+----------------------+-------------------+


CentOS Stream 8
	Kernel: 5.4.0-167-generic
	Compiler: gcc 8.5.0 20210514

Windows Server 2019
	Kernel: 10.0.17763
	Compiler: clang 14.0 and gcc 8.1.0 (MinGW)

Windows Server 2022
	Kernel: 10.0.20348.2031
	Compiler: clang 15.0.7, gcc 8.1.0 (MinGW), and MSVC VS 17.9

CentOS Stream 9
	Kernel: 5.4.0-167-generic
	Compiler: gcc 11.4.1 20230605

FreeBSD 13.2
	Kernel: 13.2
	Compiler: clang 14.0.5

Debian Bullseye
	Kernel: 5.4.0-167-generic
	Compiler: gcc 10.2.1-6

Debian 11 (arm)
	Kernel: Container Host Kernel
	Compiler: gcc 10.2.1

To view detailed results, visit:
https://lab.dpdk.org/results/dashboard/patchsets/29663/

UNH-IOL DPDK Community Lab

To manage your email subscriptions, visit: 
https://lab.dpdk.org/results/dashboard/preferences/subscriptions/