From mboxrd@z Thu Jan  1 00:00:00 1970
Return-Path: <test-report-bounces@dpdk.org>
Received: from mails.dpdk.org (mails.dpdk.org [217.70.189.124])
	by inbox.dpdk.org (Postfix) with ESMTP id 18A0543D66
	for <public@inbox.dpdk.org>; Wed, 27 Mar 2024 11:09:01 +0100 (CET)
Received: from mails.dpdk.org (localhost [127.0.0.1])
	by mails.dpdk.org (Postfix) with ESMTP id 12602410E6;
	Wed, 27 Mar 2024 11:09:01 +0100 (CET)
Received: from mail-yw1-f228.google.com (mail-yw1-f228.google.com
 [209.85.128.228])
 by mails.dpdk.org (Postfix) with ESMTP id 7AB1D402B2
 for <test-report@dpdk.org>; Wed, 27 Mar 2024 11:08:56 +0100 (CET)
Received: by mail-yw1-f228.google.com with SMTP id
 00721157ae682-611450d7f95so31779507b3.2
 for <test-report@dpdk.org>; Wed, 27 Mar 2024 03:08:56 -0700 (PDT)
DKIM-Signature: v=1; a=rsa-sha256; c=relaxed/relaxed;
 d=iol.unh.edu; s=unh-iol; t=1711534136; x=1712138936; darn=dpdk.org;
 h=references:in-reply-to:cc:to:from:subject:message-id:date:from:to
 :cc:subject:date:message-id:reply-to;
 bh=WY7n1z7KdBawTqpWhkzlJ8GZRE2Eei15dx6z683hWoM=;
 b=Cni+19vWrq6zZ+Okx0+cnEo6DmRekCIFOI6D8JuAjVFclXxenRqTpuCtoYX0me/Is6
 CgYmR3Pac5P9FLByvz5FLuQJ+HPFU7xhMiscm2SaFjtjJ8HMkr8S9j35T/EjkOKP3zu8
 zcXSjC8P+8rmFlqkO+sxaoYnEUs+h2egxNACk=
X-Google-DKIM-Signature: v=1; a=rsa-sha256; c=relaxed/relaxed;
 d=1e100.net; s=20230601; t=1711534136; x=1712138936;
 h=references:in-reply-to:cc:to:from:subject:message-id:date
 :x-gm-message-state:from:to:cc:subject:date:message-id:reply-to;
 bh=WY7n1z7KdBawTqpWhkzlJ8GZRE2Eei15dx6z683hWoM=;
 b=uh1iNIAVrgt6ZZRPAiqKtoHDQ2AZSutFpfhAN/PgMjEq/LbURxIKvpFd5nmOzKDHt7
 hxHEm7xkgB6IaSwVpmndfpav5n5A73flsawirX/wZH7nukNZJGZMqlMP9UOyhznmL6ku
 XHK0qhT44MJL7hH7yoNbnq0ZAF92I8UqNTgCVgYl/bWnM3OJKrVRNwoecHyLkAWtejFQ
 zrdsdE+/yEnlceJ+2rqeuYoR7eK11WBnZw57JByf2H3hg2WErR0jmbpt9lm39N0b6ZMu
 xYycDuu3by2zhd+9q6wKuuSZJBFjwUGNilkN2b0G6Xetdh7trlVlKiau3y10EhxxbXtM
 FHQg==
X-Gm-Message-State: AOJu0YxbSwYD/M7lE0hG+6J7o7u700f3ZnoMQYVlBvu4J/VpZuNduper
 tRD55f0UkhI4rKcjSef8PA5J1DZxVpVSYtxjsLPl8xjGG1b6llB5FWylYGaaUDYfBEeFgTaBW1A
 Cwlq1nyooT9Oe2oQjDx5I1UQbyFQZxp/dwRuBlpzF
X-Google-Smtp-Source: AGHT+IF5ybZzGufMwaqZ2UFFYAUfCxMW5eiUBdVeQokLFQOZEzc3qrf5KU7pEYnM4rKTLxRnBA0YMfu3dT8D
X-Received: by 2002:a81:4882:0:b0:611:278d:fb79 with SMTP id
 v124-20020a814882000000b00611278dfb79mr3755826ywa.0.1711534135834; 
 Wed, 27 Mar 2024 03:08:55 -0700 (PDT)
Received: from postal.iol.unh.edu (postal.iol.unh.edu. [132.177.123.84])
 by smtp-relay.gmail.com with ESMTPS id
 j62-20020a0df941000000b0060a61ba5729sm619403ywf.45.2024.03.27.03.08.55
 (version=TLS1_2 cipher=ECDHE-ECDSA-AES128-GCM-SHA256 bits=128/128);
 Wed, 27 Mar 2024 03:08:55 -0700 (PDT)
X-Relaying-Domain: iol.unh.edu
Date: Wed, 27 Mar 2024 03:08:55 -0700 (PDT)
Message-ID: <6603f037.0d0a0220.7715e.b26fSMTPIN_ADDED_MISSING@mx.google.com>
Received: from [172.21.0.6] (unknown [172.18.0.240])
 by postal.iol.unh.edu (Postfix) with ESMTP id 7AC6C6052471;
 Wed, 27 Mar 2024 06:08:55 -0400 (EDT)
Subject: |SUCCESS| pw138850 [PATCH] [v5] graph: expose node context as pointe
From: dpdklab@iol.unh.edu
To: Test Report <test-report@dpdk.org>
Cc: dpdk-test-reports@iol.unh.edu
In-Reply-To: <20240327091440.1166119-2-rjarry@redhat.com>
References: <20240327091440.1166119-2-rjarry@redhat.com>
Content-Type: text/plain
X-BeenThere: test-report@dpdk.org
X-Mailman-Version: 2.1.29
Precedence: list
List-Id: automatic DPDK test reports <test-report.dpdk.org>
List-Unsubscribe: <https://mails.dpdk.org/options/test-report>,
 <mailto:test-report-request@dpdk.org?subject=unsubscribe>
List-Archive: <http://mails.dpdk.org/archives/test-report/>
List-Post: <mailto:test-report@dpdk.org>
List-Help: <mailto:test-report-request@dpdk.org?subject=help>
List-Subscribe: <https://mails.dpdk.org/listinfo/test-report>,
 <mailto:test-report-request@dpdk.org?subject=subscribe>
Errors-To: test-report-bounces@dpdk.org

Test-Label: iol-unit-arm64-testing
Test-Status: SUCCESS
http://dpdk.org/patch/138850

_Testing PASS_

Submitter: Robin Jarry <rjarry@redhat.com>
Date: Wednesday, March 27 2024 09:14:41 
DPDK git baseline: Repo:dpdk
  Branch: master
  CommitID:ded4d4765171b88470e59307f10625e942f22fca

138850 --> testing pass

Test environment and result as below:

+--------------------------+------------------------------+---------------------------+----------------+--------------+
|       Environment        | cryptodev_sw_snow3g_autotest | cryptodev_sw_zuc_autotest | dpdk_unit_test | lpm_autotest |
+==========================+==============================+===========================+================+==============+
| Debian 12 (arm)          | PASS                         | PASS                      | PASS           | SKIPPED      |
+--------------------------+------------------------------+---------------------------+----------------+--------------+
| CentOS Stream 9 (ARM)    | SKIPPED                      | SKIPPED                   | PASS           | SKIPPED      |
+--------------------------+------------------------------+---------------------------+----------------+--------------+
| Debian 11 (Buster) (ARM) | SKIPPED                      | SKIPPED                   | PASS           | SKIPPED      |
+--------------------------+------------------------------+---------------------------+----------------+--------------+
| Fedora 39 (ARM)          | SKIPPED                      | SKIPPED                   | PASS           | SKIPPED      |
+--------------------------+------------------------------+---------------------------+----------------+--------------+
| Fedora 37 (ARM)          | SKIPPED                      | SKIPPED                   | PASS           | SKIPPED      |
+--------------------------+------------------------------+---------------------------+----------------+--------------+
| Fedora 38 (ARM)          | SKIPPED                      | SKIPPED                   | PASS           | SKIPPED      |
+--------------------------+------------------------------+---------------------------+----------------+--------------+
| Ubuntu 20.04 ARM SVE     | SKIPPED                      | SKIPPED                   | SKIPPED        | PASS         |
+--------------------------+------------------------------+---------------------------+----------------+--------------+


Debian 12 (arm)
	Kernel: Container Host Kernel
	Compiler: gcc 12.2.0

CentOS Stream 9 (ARM)
	Kernel: Container Host Kernel
	Compiler: gcc 11.4.1

Debian 11 (Buster) (ARM)
	Kernel: Container Host Kernel
	Compiler: gcc 10.2.1

Fedora 39 (ARM)
	Kernel: Depends on container host
	Compiler: gcc 13.2.1

Fedora 37 (ARM)
	Kernel: Depends on container host
	Compiler: gcc 12.3.1

Fedora 38 (ARM)
	Kernel: Depends on container host
	Compiler: gcc 13.2.1

Ubuntu 20.04 ARM SVE
	Kernel: 5.4.0-167-generic
	Compiler: gcc (Ubuntu 10.5.0-1ubuntu1~20.04) 10.5.0

To view detailed results, visit:
https://lab.dpdk.org/results/dashboard/patchsets/29663/

UNH-IOL DPDK Community Lab

To manage your email subscriptions, visit: 
https://lab.dpdk.org/results/dashboard/preferences/subscriptions/