From mboxrd@z Thu Jan  1 00:00:00 1970
Return-Path: <test-report-bounces@dpdk.org>
Received: from mails.dpdk.org (mails.dpdk.org [217.70.189.124])
	by inbox.dpdk.org (Postfix) with ESMTP id 13AC043D66
	for <public@inbox.dpdk.org>; Wed, 27 Mar 2024 11:11:34 +0100 (CET)
Received: from mails.dpdk.org (localhost [127.0.0.1])
	by mails.dpdk.org (Postfix) with ESMTP id 0C04940E6E;
	Wed, 27 Mar 2024 11:11:34 +0100 (CET)
Received: from mail-pf1-f226.google.com (mail-pf1-f226.google.com
 [209.85.210.226])
 by mails.dpdk.org (Postfix) with ESMTP id 02E384029F
 for <test-report@dpdk.org>; Wed, 27 Mar 2024 11:11:33 +0100 (CET)
Received: by mail-pf1-f226.google.com with SMTP id
 d2e1a72fcca58-6e6b22af648so526842b3a.0
 for <test-report@dpdk.org>; Wed, 27 Mar 2024 03:11:32 -0700 (PDT)
DKIM-Signature: v=1; a=rsa-sha256; c=relaxed/relaxed;
 d=iol.unh.edu; s=unh-iol; t=1711534292; x=1712139092; darn=dpdk.org;
 h=references:in-reply-to:cc:to:from:subject:message-id:date:from:to
 :cc:subject:date:message-id:reply-to;
 bh=0hwc/rw6appu2sL6Ugy57AanEBCQe0I9+8f1rVUxX6g=;
 b=OzpM7j4X6PagxgxgwQ6DKGj+EpOQgSyTr6xGJLlili5aRXfx0OIXihZmXgPFdnH8YH
 smD4LbK+XNDcsqmspbiB9rGoWae8Q4viON9DzILbO+xJOpZSZc9v8mJjaF6JbWB/5dRE
 zI9OOhZmo6V8ZFp7mcDUfHPG7HUlfsx773S4c=
X-Google-DKIM-Signature: v=1; a=rsa-sha256; c=relaxed/relaxed;
 d=1e100.net; s=20230601; t=1711534292; x=1712139092;
 h=references:in-reply-to:cc:to:from:subject:message-id:date
 :x-gm-message-state:from:to:cc:subject:date:message-id:reply-to;
 bh=0hwc/rw6appu2sL6Ugy57AanEBCQe0I9+8f1rVUxX6g=;
 b=mh9j3p6CNY0iPqbYj7jhdCERSPUcj08Oh/jwJE7pM1L0AhJRAhrCR8J2ShSw0hlYte
 nTDdZXeZrovOh+xTqUMD2w4a1qx2bKsDWbOx051/gk88sYbU7JANzmmbDkrZ6c2gnxPv
 KN9hNKcZpIBPecdytckYv30WENw4u9urG2Mq+y2xgyFDk7PGA8qwUYn2pc/B+uDb3n5F
 ebyYVRvjT5EmR7zKL+Ku6GilsGV8BJf9UdVvWkhTLQ469WJvOTRREE+YpBvHGmJ3TBqn
 tubC7twfxW+xIVb9zdxUOpfClSYAUbCxBtH40yws5Sey+jobNBX7Rw7NeepuGMNAspgp
 9dFw==
X-Gm-Message-State: AOJu0YzZ1zRasKHPmsfeirEH35VBdct+W3mJ8zh6x5qC53IuG/ZZ35Oo
 QXZmPZd3ohTZAZPYXZDK4PEkplXygR3VVYyO6oQfqTTWvgPkdI5uy/jjmnW07F+50nQxytn+RjB
 VI9HJ3Ej3kK42Zrwr1nezfWlE+iXm1Z4K/WFYMPho0Rw/ClfMzL1tgvbJ
X-Google-Smtp-Source: AGHT+IE9o6+d66eRr9D7whKtlQ4zkQOExZWaasRpvISCi4U72CdIY7CmWReanXRBPLN/zHdxW4zYPEEaJR63
X-Received: by 2002:a17:902:e74f:b0:1e0:ab65:85e5 with SMTP id
 p15-20020a170902e74f00b001e0ab6585e5mr6555017plf.1.1711534292279; 
 Wed, 27 Mar 2024 03:11:32 -0700 (PDT)
Received: from postal.iol.unh.edu (postal.iol.unh.edu.
 [2606:4100:3880:1234::84]) by smtp-relay.gmail.com with ESMTPS id
 jb22-20020a170903259600b001dc94fde857sm290639plb.121.2024.03.27.03.11.32
 (version=TLS1_2 cipher=ECDHE-ECDSA-AES128-GCM-SHA256 bits=128/128);
 Wed, 27 Mar 2024 03:11:32 -0700 (PDT)
X-Relaying-Domain: iol.unh.edu
Date: Wed, 27 Mar 2024 03:11:32 -0700 (PDT)
Message-ID: <6603f0d4.170a0220.e9042.6e2aSMTPIN_ADDED_MISSING@mx.google.com>
Received: from [172.21.0.7] (unknown [172.18.0.240])
 by postal.iol.unh.edu (Postfix) with ESMTP id 7AAFC6052471;
 Wed, 27 Mar 2024 06:11:31 -0400 (EDT)
Subject: |SUCCESS| pw138850 [PATCH] [v5] graph: expose node context as pointe
From: dpdklab@iol.unh.edu
To: Test Report <test-report@dpdk.org>
Cc: dpdk-test-reports@iol.unh.edu
In-Reply-To: <20240327091440.1166119-2-rjarry@redhat.com>
References: <20240327091440.1166119-2-rjarry@redhat.com>
Content-Type: text/plain
X-BeenThere: test-report@dpdk.org
X-Mailman-Version: 2.1.29
Precedence: list
List-Id: automatic DPDK test reports <test-report.dpdk.org>
List-Unsubscribe: <https://mails.dpdk.org/options/test-report>,
 <mailto:test-report-request@dpdk.org?subject=unsubscribe>
List-Archive: <http://mails.dpdk.org/archives/test-report/>
List-Post: <mailto:test-report@dpdk.org>
List-Help: <mailto:test-report-request@dpdk.org?subject=help>
List-Subscribe: <https://mails.dpdk.org/listinfo/test-report>,
 <mailto:test-report-request@dpdk.org?subject=subscribe>
Errors-To: test-report-bounces@dpdk.org

Test-Label: iol-unit-amd64-testing
Test-Status: SUCCESS
http://dpdk.org/patch/138850

_Testing PASS_

Submitter: Robin Jarry <rjarry@redhat.com>
Date: Wednesday, March 27 2024 09:14:41 
DPDK git baseline: Repo:dpdk
  Branch: master
  CommitID:ded4d4765171b88470e59307f10625e942f22fca

138850 --> testing pass

Test environment and result as below:

+-----------------+----------------+
|   Environment   | dpdk_unit_test |
+=================+================+
| CentOS Stream 9 | PASS           |
+-----------------+----------------+
| CentOS Stream 8 | PASS           |
+-----------------+----------------+
| Debian Bullseye | PASS           |
+-----------------+----------------+
| Debian 11 (arm) | PASS           |
+-----------------+----------------+
| Fedora 37       | PASS           |
+-----------------+----------------+


CentOS Stream 9
	Kernel: 5.4.0-167-generic
	Compiler: gcc 11.4.1 20230605

CentOS Stream 8
	Kernel: 5.4.0-167-generic
	Compiler: gcc 8.5.0 20210514

Debian Bullseye
	Kernel: 5.4.0-167-generic
	Compiler: gcc 10.2.1-6

Debian 11 (arm)
	Kernel: Container Host Kernel
	Compiler: gcc 10.2.1

Fedora 37
	Kernel: Depends on container host system
	Compiler: gcc 12.3.1

To view detailed results, visit:
https://lab.dpdk.org/results/dashboard/patchsets/29663/

UNH-IOL DPDK Community Lab

To manage your email subscriptions, visit: 
https://lab.dpdk.org/results/dashboard/preferences/subscriptions/