From mboxrd@z Thu Jan  1 00:00:00 1970
Return-Path: <test-report-bounces@dpdk.org>
Received: from mails.dpdk.org (mails.dpdk.org [217.70.189.124])
	by inbox.dpdk.org (Postfix) with ESMTP id 6A0E543D66
	for <public@inbox.dpdk.org>; Wed, 27 Mar 2024 11:33:03 +0100 (CET)
Received: from mails.dpdk.org (localhost [127.0.0.1])
	by mails.dpdk.org (Postfix) with ESMTP id 6436A402A3;
	Wed, 27 Mar 2024 11:33:03 +0100 (CET)
Received: from mail-oi1-f228.google.com (mail-oi1-f228.google.com
 [209.85.167.228])
 by mails.dpdk.org (Postfix) with ESMTP id AD2A54029F
 for <test-report@dpdk.org>; Wed, 27 Mar 2024 11:33:01 +0100 (CET)
Received: by mail-oi1-f228.google.com with SMTP id
 5614622812f47-3c3e2e0e407so117145b6e.0
 for <test-report@dpdk.org>; Wed, 27 Mar 2024 03:33:01 -0700 (PDT)
DKIM-Signature: v=1; a=rsa-sha256; c=relaxed/relaxed;
 d=iol.unh.edu; s=unh-iol; t=1711535581; x=1712140381; darn=dpdk.org;
 h=references:in-reply-to:cc:to:from:subject:message-id:date:from:to
 :cc:subject:date:message-id:reply-to;
 bh=N2LR/79Z9VwLER/cenvi3rhpRok8v+ItcMqnX2KZDy4=;
 b=ZtfUBMwTwONr5i5MKKncdZXCoZlmkrnANadiupolMU+hcCla2QhNFpjPwkc/WJd95T
 LYbtOhPf5IJT7CZDV7/anLU4nNMPZM05lhCVTrYLtlR2HbgnXj6l1Oap3JtUyytdk9sJ
 GxNk7u7/LaTs+kCKv0eI+EAYEDFskHYXxYhY8=
X-Google-DKIM-Signature: v=1; a=rsa-sha256; c=relaxed/relaxed;
 d=1e100.net; s=20230601; t=1711535581; x=1712140381;
 h=references:in-reply-to:cc:to:from:subject:message-id:date
 :x-gm-message-state:from:to:cc:subject:date:message-id:reply-to;
 bh=N2LR/79Z9VwLER/cenvi3rhpRok8v+ItcMqnX2KZDy4=;
 b=e59poLUlbaC2M0W1pyPePLfRbNNziggCHywYscvbxISwU0UewVvXX4AIsIkxPZIFX5
 d5sO3PHNptvtvBNR0+a+CRjNn4BxTb4JtVIvfks0sH85R7quJs+3eVDu//fyqIJThuXG
 qSaHlf+WkGsqi4ipia6161N8WQ9tMwFtr7uCtLWvuYOdaxkvNBbDsS2WcbIDxuTeo/YM
 orwEDJrwXliIKmyDYByzVsZc7Co3akX0Owuqopc1P97XuTwOx33vzN4dNmxnsBKbol6N
 JZ0Fsn6M46rTcgspzEK2h2NP0U7QIB8N5dMEygukPsPRB69vS1J0jGCkBmG3yyAK5Pdf
 IwbA==
X-Gm-Message-State: AOJu0YwpB75iRxxaTd/1pW1ORBqmESCnRVzAVoAn8EVP4SE3H22Tn3n0
 kM12CEdxuAwjWXZfo2zkCta2xc47iDYdESMy8noxBiT5w7yliJg7ZlbZw0QdGJ9KJteBOirGtfM
 soqx6Z6AsxDDOHE/KntK6E7H5FiST+Gj9P7jHyW/Tuqmg+8w51D2XSJKK
X-Google-Smtp-Source: AGHT+IF92onyZICZCK7xmJjXm7v1bSqdbDMxH2mx3PyNsLeusMHcgbSAuz0smQUdkHZTy/obZW7zs2FuTzyT
X-Received: by 2002:a05:6870:1050:b0:21e:4a2a:f05e with SMTP id
 16-20020a056870105000b0021e4a2af05emr596983oaj.8.1711535580954; 
 Wed, 27 Mar 2024 03:33:00 -0700 (PDT)
Received: from postal.iol.unh.edu (postal.iol.unh.edu.
 [2606:4100:3880:1234::84]) by smtp-relay.gmail.com with ESMTPS id
 pw8-20020a0568713b0800b0022a63636c03sm112834oac.13.2024.03.27.03.33.00
 (version=TLS1_2 cipher=ECDHE-ECDSA-AES128-GCM-SHA256 bits=128/128);
 Wed, 27 Mar 2024 03:33:00 -0700 (PDT)
X-Relaying-Domain: iol.unh.edu
Date: Wed, 27 Mar 2024 03:33:00 -0700 (PDT)
Message-ID: <6603f5dc.050a0220.64cd6.60b7SMTPIN_ADDED_MISSING@mx.google.com>
Received: from [172.17.0.6] (unknown [172.18.0.217])
 by postal.iol.unh.edu (Postfix) with ESMTP id 62B156052471;
 Wed, 27 Mar 2024 06:33:00 -0400 (EDT)
Subject: |SUCCESS| pw138850 [PATCH] [v5] graph: expose node context as pointe
From: dpdklab@iol.unh.edu
To: Test Report <test-report@dpdk.org>
Cc: dpdk-test-reports@iol.unh.edu
In-Reply-To: <20240327091440.1166119-2-rjarry@redhat.com>
References: <20240327091440.1166119-2-rjarry@redhat.com>
Content-Type: text/plain
X-BeenThere: test-report@dpdk.org
X-Mailman-Version: 2.1.29
Precedence: list
List-Id: automatic DPDK test reports <test-report.dpdk.org>
List-Unsubscribe: <https://mails.dpdk.org/options/test-report>,
 <mailto:test-report-request@dpdk.org?subject=unsubscribe>
List-Archive: <http://mails.dpdk.org/archives/test-report/>
List-Post: <mailto:test-report@dpdk.org>
List-Help: <mailto:test-report-request@dpdk.org?subject=help>
List-Subscribe: <https://mails.dpdk.org/listinfo/test-report>,
 <mailto:test-report-request@dpdk.org?subject=subscribe>
Errors-To: test-report-bounces@dpdk.org

Test-Label: iol-unit-amd64-testing
Test-Status: SUCCESS
http://dpdk.org/patch/138850

_Testing PASS_

Submitter: Robin Jarry <rjarry@redhat.com>
Date: Wednesday, March 27 2024 09:14:41 
DPDK git baseline: Repo:dpdk
  Branch: master
  CommitID:ded4d4765171b88470e59307f10625e942f22fca

138850 --> testing pass

Test environment and result as below:

+---------------------+----------------+
|     Environment     | dpdk_unit_test |
+=====================+================+
| CentOS Stream 9     | PASS           |
+---------------------+----------------+
| CentOS Stream 8     | PASS           |
+---------------------+----------------+
| Debian Bullseye     | PASS           |
+---------------------+----------------+
| Debian 11 (arm)     | PASS           |
+---------------------+----------------+
| Fedora 37           | PASS           |
+---------------------+----------------+
| Fedora 38           | PASS           |
+---------------------+----------------+
| Windows Server 2019 | PASS           |
+---------------------+----------------+
| openSUSE Leap 15    | PASS           |
+---------------------+----------------+
| Fedora 39           | PASS           |
+---------------------+----------------+
| Ubuntu 22.04        | PASS           |
+---------------------+----------------+
| Ubuntu 20.04        | PASS           |
+---------------------+----------------+
| Windows Server 2022 | PASS           |
+---------------------+----------------+
| RHEL8               | PASS           |
+---------------------+----------------+


CentOS Stream 9
	Kernel: 5.4.0-167-generic
	Compiler: gcc 11.4.1 20230605

CentOS Stream 8
	Kernel: 5.4.0-167-generic
	Compiler: gcc 8.5.0 20210514

Debian Bullseye
	Kernel: 5.4.0-167-generic
	Compiler: gcc 10.2.1-6

Debian 11 (arm)
	Kernel: Container Host Kernel
	Compiler: gcc 10.2.1

Fedora 37
	Kernel: Depends on container host system
	Compiler: gcc 12.3.1

Fedora 38
	Kernel: Depends on container host
	Compiler: gcc 13.2.1

Windows Server 2019
	Kernel: 10.0.17763
	Compiler: clang 14.0 and gcc 8.1.0 (MinGW)

openSUSE Leap 15
	Kernel: 5.4.0-167-generic
	Compiler: gcc 7.5.0

Fedora 39
	Kernel: Depends on container host
	Compiler: clang 17.0.6

Ubuntu 22.04
	Kernel: 5.4.0-167-generic
	Compiler: gcc 11.4.0

Ubuntu 20.04
	Kernel: 5.4.0-167-generic
	Compiler: gcc 9.4.0-1ubuntu1~20.04.1

Windows Server 2022
	Kernel: 10.0.20348.2031
	Compiler: clang 15.0.7, gcc 8.1.0 (MinGW), and MSVC VS 17.9

RHEL8
	Kernel: 5.4.0-167-generic
	Compiler: gcc 8.5.0 20210514 (Red Hat 8.5.0-20)

To view detailed results, visit:
https://lab.dpdk.org/results/dashboard/patchsets/29663/

UNH-IOL DPDK Community Lab

To manage your email subscriptions, visit: 
https://lab.dpdk.org/results/dashboard/preferences/subscriptions/