From mboxrd@z Thu Jan  1 00:00:00 1970
Return-Path: <test-report-bounces@dpdk.org>
Received: from mails.dpdk.org (mails.dpdk.org [217.70.189.124])
	by inbox.dpdk.org (Postfix) with ESMTP id 086074370F
	for <public@inbox.dpdk.org>; Wed, 27 Mar 2024 13:33:25 +0100 (CET)
Received: from mails.dpdk.org (localhost [127.0.0.1])
	by mails.dpdk.org (Postfix) with ESMTP id EC5DD40A84;
	Wed, 27 Mar 2024 13:33:24 +0100 (CET)
Received: from mail-vs1-f100.google.com (mail-vs1-f100.google.com
 [209.85.217.100])
 by mails.dpdk.org (Postfix) with ESMTP id DB70B402A3
 for <test-report@dpdk.org>; Wed, 27 Mar 2024 13:33:22 +0100 (CET)
Received: by mail-vs1-f100.google.com with SMTP id
 ada2fe7eead31-47670e6a204so383846137.0
 for <test-report@dpdk.org>; Wed, 27 Mar 2024 05:33:22 -0700 (PDT)
DKIM-Signature: v=1; a=rsa-sha256; c=relaxed/relaxed;
 d=iol.unh.edu; s=unh-iol; t=1711542802; x=1712147602; darn=dpdk.org;
 h=references:in-reply-to:cc:to:from:subject:message-id:date:from:to
 :cc:subject:date:message-id:reply-to;
 bh=fHiiTep23WL9jFybXnvU69s1apTUlyzuD7d2lQYtlD8=;
 b=g/LKTqQn0km7iJYotvsmn7eCbuh+JOZrQDlW2bbdLWfMUitMjG8XOaRs2slwG4rEIe
 S6pu2+2d0k4iuZerXCiTba8yC2CLMKsmh2YI5UJtBnEzl6lnZDBybPpnlEjXUwCralEi
 FJnLkiZteNEVWpkKQ1zPRzjsU4Z8hTY4cykIM=
X-Google-DKIM-Signature: v=1; a=rsa-sha256; c=relaxed/relaxed;
 d=1e100.net; s=20230601; t=1711542802; x=1712147602;
 h=references:in-reply-to:cc:to:from:subject:message-id:date
 :x-gm-message-state:from:to:cc:subject:date:message-id:reply-to;
 bh=fHiiTep23WL9jFybXnvU69s1apTUlyzuD7d2lQYtlD8=;
 b=OZooKw3RQD5raCnaxsNZrkYmdiEoB9GDsTh+JlQQHebEJhKBo/1P74Lm4Ak/pUb/0z
 AnsX2SQTwYmbfVyBnH9uuYYajZLs+BODa+zzybPfzrjJX+H5zdIH1CfaIM0/x4zONpgb
 bfsSlpcu9NFDMC4IKRwXbNK3NXLbObaCKT+7yrqPTZpA2Ab3Rr64mGsGsHZ9ITTMyTPr
 Hp2CcbTELBLMG+DaUqhVBMh97bL4po98y9KahOBBoOi6OJ51L68NCZ9z8FZ+Uh1LDrE3
 BRzvApm1h5RZsGwAlNqZ+YtYfTbfBhvhKzeZKcboKbhswHNj+5ke3X9ToOiapxYX/b57
 N42Q==
X-Gm-Message-State: AOJu0YxseuBsvYcnG3wcyo33qIGK8/AiQyIITdJHFYC/IZkQJ8FjjGmR
 C/k7Ax0lRHIr2PieIYkR0CuxRsZKgxPIcdGfLHpHjNywuX2jAkvGarqqiV9jM3WsaKUdPEz4f2e
 YIjEP1zkgGQVW8PzEAWdwb2jXA3A6ioNJL3etmujLyx48ua/DWxu9vanV
X-Google-Smtp-Source: AGHT+IE6JVJj8YrxEllo7JkUCwqDdPl2SfV9gIU2SETMvubneTcCWmmGL2dZLfWFvRqc+6ttoLqlYVfdkEBv
X-Received: by 2002:a05:6102:4a16:b0:478:3f4e:4637 with SMTP id
 jw22-20020a0561024a1600b004783f4e4637mr465540vsb.0.1711542800767; 
 Wed, 27 Mar 2024 05:33:20 -0700 (PDT)
Received: from postal.iol.unh.edu (postal.iol.unh.edu.
 [2606:4100:3880:1234::84]) by smtp-relay.gmail.com with ESMTPS id
 g1-20020ab01041000000b007e11d7fee04sm414500uab.1.2024.03.27.05.33.20
 (version=TLS1_2 cipher=ECDHE-ECDSA-AES128-GCM-SHA256 bits=128/128);
 Wed, 27 Mar 2024 05:33:20 -0700 (PDT)
X-Relaying-Domain: iol.unh.edu
Date: Wed, 27 Mar 2024 05:33:20 -0700 (PDT)
Message-ID: <66041210.b00a0220.b3adb.6ccbSMTPIN_ADDED_MISSING@mx.google.com>
Received: from [172.21.0.7] (unknown [172.18.0.240])
 by postal.iol.unh.edu (Postfix) with ESMTP id 711236052471;
 Wed, 27 Mar 2024 08:33:20 -0400 (EDT)
Subject: |SUCCESS| pw138851-138854 [PATCH] [4/4] net/virtio: fix shadow contr
From: dpdklab@iol.unh.edu
To: Test Report <test-report@dpdk.org>
Cc: dpdk-test-reports@iol.unh.edu
In-Reply-To: <20240327094032.2400951-5-maxime.coquelin@redhat.com>
References: <20240327094032.2400951-5-maxime.coquelin@redhat.com>
Content-Type: text/plain
X-BeenThere: test-report@dpdk.org
X-Mailman-Version: 2.1.29
Precedence: list
List-Id: automatic DPDK test reports <test-report.dpdk.org>
List-Unsubscribe: <https://mails.dpdk.org/options/test-report>,
 <mailto:test-report-request@dpdk.org?subject=unsubscribe>
List-Archive: <http://mails.dpdk.org/archives/test-report/>
List-Post: <mailto:test-report@dpdk.org>
List-Help: <mailto:test-report-request@dpdk.org?subject=help>
List-Subscribe: <https://mails.dpdk.org/listinfo/test-report>,
 <mailto:test-report-request@dpdk.org?subject=subscribe>
Errors-To: test-report-bounces@dpdk.org

Test-Label: iol-compile-amd64-testing
Test-Status: SUCCESS
http://dpdk.org/patch/138854

_Testing PASS_

Submitter: Maxime Coquelin <maxime.coquelin@redhat.com>
Date: Wednesday, March 27 2024 09:40:32 
DPDK git baseline: Repo:dpdk
  Branch: master
  CommitID:ded4d4765171b88470e59307f10625e942f22fca

138851-138854 --> testing pass

Test environment and result as below:

+---------------------+--------------------+----------------------+-------------------+
|     Environment     | dpdk_meson_compile | dpdk_mingw64_compile | dpdk_msvc_compile |
+=====================+====================+======================+===================+
| FreeBSD 13.2        | PASS               | SKIPPED              | SKIPPED           |
+---------------------+--------------------+----------------------+-------------------+
| Windows Server 2022 | PASS               | PASS                 | PASS              |
+---------------------+--------------------+----------------------+-------------------+
| Windows Server 2019 | PASS               | PASS                 | SKIPPED           |
+---------------------+--------------------+----------------------+-------------------+


FreeBSD 13.2
	Kernel: 13.2
	Compiler: clang 14.0.5

Windows Server 2022
	Kernel: 10.0.20348.2031
	Compiler: clang 15.0.7, gcc 8.1.0 (MinGW), and MSVC VS 17.9

Windows Server 2019
	Kernel: 10.0.17763
	Compiler: clang 14.0 and gcc 8.1.0 (MinGW)

To view detailed results, visit:
https://lab.dpdk.org/results/dashboard/patchsets/29664/

UNH-IOL DPDK Community Lab

To manage your email subscriptions, visit: 
https://lab.dpdk.org/results/dashboard/preferences/subscriptions/