From mboxrd@z Thu Jan  1 00:00:00 1970
Return-Path: <test-report-bounces@dpdk.org>
Received: from mails.dpdk.org (mails.dpdk.org [217.70.189.124])
	by inbox.dpdk.org (Postfix) with ESMTP id 8717843D55
	for <public@inbox.dpdk.org>; Wed, 27 Mar 2024 13:35:08 +0100 (CET)
Received: from mails.dpdk.org (localhost [127.0.0.1])
	by mails.dpdk.org (Postfix) with ESMTP id 8257C40A84;
	Wed, 27 Mar 2024 13:35:08 +0100 (CET)
Received: from mail-vk1-f227.google.com (mail-vk1-f227.google.com
 [209.85.221.227])
 by mails.dpdk.org (Postfix) with ESMTP id 6C9B4402A3
 for <test-report@dpdk.org>; Wed, 27 Mar 2024 13:35:01 +0100 (CET)
Received: by mail-vk1-f227.google.com with SMTP id
 71dfb90a1353d-4d870fb9f5cso2092415e0c.3
 for <test-report@dpdk.org>; Wed, 27 Mar 2024 05:35:01 -0700 (PDT)
DKIM-Signature: v=1; a=rsa-sha256; c=relaxed/relaxed;
 d=iol.unh.edu; s=unh-iol; t=1711542901; x=1712147701; darn=dpdk.org;
 h=references:in-reply-to:cc:to:from:subject:message-id:date:from:to
 :cc:subject:date:message-id:reply-to;
 bh=fHiiTep23WL9jFybXnvU69s1apTUlyzuD7d2lQYtlD8=;
 b=fP9qt+I0ij4YReoCgIrglAUJS2FBbrrBs5PafrKvX2vLiMQYp6wKKAlr2KYSLY/33o
 /ZFTC8VoO2ju7RLUhsSll6EH+ZOXRLrJfOIjmqvZWqkSJUHmYtcIoisgY6ZJHxje76WQ
 EBdZRvceUGAA5LY4OA4UW2EeODC8EUflEj7UU=
X-Google-DKIM-Signature: v=1; a=rsa-sha256; c=relaxed/relaxed;
 d=1e100.net; s=20230601; t=1711542901; x=1712147701;
 h=references:in-reply-to:cc:to:from:subject:message-id:date
 :x-gm-message-state:from:to:cc:subject:date:message-id:reply-to;
 bh=fHiiTep23WL9jFybXnvU69s1apTUlyzuD7d2lQYtlD8=;
 b=P+Hn8dxSm0wDH07wQtCGXIGXRJY3geSUdzlAEZmv/E3kTxuNBFRb2oQU1f4Y4qNDhu
 AjAvUHQUNtVBPWUfM9qtnE62tB3k5cF+5KLGsA9TNcKQo+gVtGSjRlyqJKiVK7ayixAS
 0d0g5TGCMb7KVf6Hx/+oQ9dZJ8QCQdcfugTzYokiWXLEF0b7WLwIRR2TGmyu1umTwyVM
 YN2bvwcnpn/5ZwI/68FLJ1aQIPQXrkCVIGHzPvfEEvHvr8QNUjNyMBP1BbGw8SCzNS6Z
 fwHoxlJ/JK/kx103Nvbuba938X8U1F9/PHuNutBEEZcmXvhMzMPYGpj6Kx+v7B28/tat
 poBw==
X-Gm-Message-State: AOJu0YzfsnY7TyYQwCIbWX6VBbigMn04uH1slso8VyK4RoymXh9P5gXJ
 EyYk2U4HTlDmr4JkH7P7X4DksPG47hZB+5/g3++Ie6zkPmWqRV7vKletToBde1fo8Q5HiO0wtwG
 wQ7vMs16EeDF7cNofWsVQilhzJfoUATYoWRbU2nKYWslDn215HDYtIXGy
X-Google-Smtp-Source: AGHT+IENbkbjjG+zOWM0K46ciK+UQ/ruqHVpwsl5h5GwvfYmS1fX6GurcAw9vb3zfgnqaVNkkvce3ML43eDL
X-Received: by 2002:a05:6122:2014:b0:4d8:780c:7bae with SMTP id
 l20-20020a056122201400b004d8780c7baemr2787862vkd.3.1711542900849; 
 Wed, 27 Mar 2024 05:35:00 -0700 (PDT)
Received: from postal.iol.unh.edu (postal.iol.unh.edu.
 [2606:4100:3880:1234::84]) by smtp-relay.gmail.com with ESMTPS id
 ch26-20020a056122319a00b004d887b0a955sm543310vkb.8.2024.03.27.05.35.00
 (version=TLS1_2 cipher=ECDHE-ECDSA-AES128-GCM-SHA256 bits=128/128);
 Wed, 27 Mar 2024 05:35:00 -0700 (PDT)
X-Relaying-Domain: iol.unh.edu
Date: Wed, 27 Mar 2024 05:35:00 -0700 (PDT)
Message-ID: <66041274.050a0220.b8e13.a565SMTPIN_ADDED_MISSING@mx.google.com>
Received: from [172.21.0.7] (unknown [172.18.0.240])
 by postal.iol.unh.edu (Postfix) with ESMTP id 762A56052471;
 Wed, 27 Mar 2024 08:35:00 -0400 (EDT)
Subject: |SUCCESS| pw138851-138854 [PATCH] [4/4] net/virtio: fix shadow contr
From: dpdklab@iol.unh.edu
To: Test Report <test-report@dpdk.org>
Cc: dpdk-test-reports@iol.unh.edu
In-Reply-To: <20240327094032.2400951-5-maxime.coquelin@redhat.com>
References: <20240327094032.2400951-5-maxime.coquelin@redhat.com>
Content-Type: text/plain
X-BeenThere: test-report@dpdk.org
X-Mailman-Version: 2.1.29
Precedence: list
List-Id: automatic DPDK test reports <test-report.dpdk.org>
List-Unsubscribe: <https://mails.dpdk.org/options/test-report>,
 <mailto:test-report-request@dpdk.org?subject=unsubscribe>
List-Archive: <http://mails.dpdk.org/archives/test-report/>
List-Post: <mailto:test-report@dpdk.org>
List-Help: <mailto:test-report-request@dpdk.org?subject=help>
List-Subscribe: <https://mails.dpdk.org/listinfo/test-report>,
 <mailto:test-report-request@dpdk.org?subject=subscribe>
Errors-To: test-report-bounces@dpdk.org

Test-Label: iol-compile-amd64-testing
Test-Status: SUCCESS
http://dpdk.org/patch/138854

_Testing PASS_

Submitter: Maxime Coquelin <maxime.coquelin@redhat.com>
Date: Wednesday, March 27 2024 09:40:32 
DPDK git baseline: Repo:dpdk
  Branch: master
  CommitID:ded4d4765171b88470e59307f10625e942f22fca

138851-138854 --> testing pass

Test environment and result as below:

+---------------------+--------------------+----------------------+-------------------+
|     Environment     | dpdk_meson_compile | dpdk_mingw64_compile | dpdk_msvc_compile |
+=====================+====================+======================+===================+
| FreeBSD 13.2        | PASS               | SKIPPED              | SKIPPED           |
+---------------------+--------------------+----------------------+-------------------+
| Windows Server 2022 | PASS               | PASS                 | PASS              |
+---------------------+--------------------+----------------------+-------------------+
| Windows Server 2019 | PASS               | PASS                 | SKIPPED           |
+---------------------+--------------------+----------------------+-------------------+


FreeBSD 13.2
	Kernel: 13.2
	Compiler: clang 14.0.5

Windows Server 2022
	Kernel: 10.0.20348.2031
	Compiler: clang 15.0.7, gcc 8.1.0 (MinGW), and MSVC VS 17.9

Windows Server 2019
	Kernel: 10.0.17763
	Compiler: clang 14.0 and gcc 8.1.0 (MinGW)

To view detailed results, visit:
https://lab.dpdk.org/results/dashboard/patchsets/29664/

UNH-IOL DPDK Community Lab

To manage your email subscriptions, visit: 
https://lab.dpdk.org/results/dashboard/preferences/subscriptions/