From mboxrd@z Thu Jan  1 00:00:00 1970
Return-Path: <test-report-bounces@dpdk.org>
Received: from mails.dpdk.org (mails.dpdk.org [217.70.189.124])
	by inbox.dpdk.org (Postfix) with ESMTP id 4CCEC43D55
	for <public@inbox.dpdk.org>; Wed, 27 Mar 2024 13:37:24 +0100 (CET)
Received: from mails.dpdk.org (localhost [127.0.0.1])
	by mails.dpdk.org (Postfix) with ESMTP id 4872E40A84;
	Wed, 27 Mar 2024 13:37:24 +0100 (CET)
Received: from mail-vk1-f227.google.com (mail-vk1-f227.google.com
 [209.85.221.227])
 by mails.dpdk.org (Postfix) with ESMTP id 2B178402A3
 for <test-report@dpdk.org>; Wed, 27 Mar 2024 13:37:00 +0100 (CET)
Received: by mail-vk1-f227.google.com with SMTP id
 71dfb90a1353d-4d435a60217so1949649e0c.0
 for <test-report@dpdk.org>; Wed, 27 Mar 2024 05:37:00 -0700 (PDT)
DKIM-Signature: v=1; a=rsa-sha256; c=relaxed/relaxed;
 d=iol.unh.edu; s=unh-iol; t=1711543019; x=1712147819; darn=dpdk.org;
 h=references:in-reply-to:cc:to:from:subject:message-id:date:from:to
 :cc:subject:date:message-id:reply-to;
 bh=viYAikfBcq+kDysOMFnfNKtCuGuBe45tBAhXYn/4EJ4=;
 b=B9WOftJ4i+taPrbtJbBrM/95pXFNLpC4vcV4ORp5yxRMGECuuxVKHWQuMmGfRYnWAM
 fIc/4fR0zLPG0H4YCgprDKsQnyQmvJAx26NAxWC5A3aJRSyDRMmLRTMduKBTmAgYCGAm
 hJwY/5DG6Ge9IyrNKSw6KEtOgkNAL/EBHLtn4=
X-Google-DKIM-Signature: v=1; a=rsa-sha256; c=relaxed/relaxed;
 d=1e100.net; s=20230601; t=1711543019; x=1712147819;
 h=references:in-reply-to:cc:to:from:subject:message-id:date
 :x-gm-message-state:from:to:cc:subject:date:message-id:reply-to;
 bh=viYAikfBcq+kDysOMFnfNKtCuGuBe45tBAhXYn/4EJ4=;
 b=r0tgMKaeWy5nJRO87TUOeq5T1L+/8KhYCTfpLF5k98B02NXJQGjND2Jk/PbedUSTGr
 JMg2BN53TsEVQ2OLhhT46ND/A1Sj3no2uPO4fbL3bfeBunnO80divpa8jwS31x9sgTMT
 /HTNI0CD4xpiFrLqRlVTokvjB9OSIfO+0ImHqQaSXJ4TJBSi5BNBwB5HAGQJOuReEBGF
 IZG5Ugb6D4wjjCs4GB3TcwJjHsrsl43VXARwcBLxVqs8tkg0hLIuLTpgBdgRyRSTl/lN
 q2TWmGqKaMI0EmesCF2EP8aaYj3q1HKRRHARzYJMuZ7w+JGRirCS1X5VkHeQtVUxt+uY
 palw==
X-Gm-Message-State: AOJu0Yxx+IvYWkRY/P76n2VWBNR6NveRo5Ydj+Up/VPbpRMCxVrP4eZg
 bijdOgNG9ttW2crZ8zXTyOTPgardBLeHp+lN1h7mhcKAwwKvHBIVIrFqqqLfvW5Gq62mnNqiGp3
 6tUSz+0ugVRCvlyZfWD2WQbDwm6x+dqxvGLkYuNl3
X-Google-Smtp-Source: AGHT+IHsy2uRQ7MNXStQGyafRLGzc4++tcXMO7ePZiC2Mlh5QPnYgNmeLKo5ypoWfiO4Lr06vOyf8zo75Wvn
X-Received: by 2002:ac5:ccd4:0:b0:4d4:1ec7:76e5 with SMTP id
 j20-20020ac5ccd4000000b004d41ec776e5mr2231578vkn.16.1711543019627; 
 Wed, 27 Mar 2024 05:36:59 -0700 (PDT)
Received: from postal.iol.unh.edu (postal.iol.unh.edu. [132.177.123.84])
 by smtp-relay.gmail.com with ESMTPS id
 24-20020a056122169800b004d87ba5597bsm668434vkl.2.2024.03.27.05.36.59
 (version=TLS1_2 cipher=ECDHE-ECDSA-AES128-GCM-SHA256 bits=128/128);
 Wed, 27 Mar 2024 05:36:59 -0700 (PDT)
X-Relaying-Domain: iol.unh.edu
Date: Wed, 27 Mar 2024 05:36:59 -0700 (PDT)
Message-ID: <660412eb.050a0220.80ad6.1b47SMTPIN_ADDED_MISSING@mx.google.com>
Received: from [172.21.0.6] (unknown [172.18.0.240])
 by postal.iol.unh.edu (Postfix) with ESMTP id F0E806052471;
 Wed, 27 Mar 2024 08:36:58 -0400 (EDT)
Subject: |SUCCESS| pw138851-138854 [PATCH] [4/4] net/virtio: fix shadow contr
From: dpdklab@iol.unh.edu
To: Test Report <test-report@dpdk.org>
Cc: dpdk-test-reports@iol.unh.edu
In-Reply-To: <20240327094032.2400951-5-maxime.coquelin@redhat.com>
References: <20240327094032.2400951-5-maxime.coquelin@redhat.com>
Content-Type: text/plain
X-BeenThere: test-report@dpdk.org
X-Mailman-Version: 2.1.29
Precedence: list
List-Id: automatic DPDK test reports <test-report.dpdk.org>
List-Unsubscribe: <https://mails.dpdk.org/options/test-report>,
 <mailto:test-report-request@dpdk.org?subject=unsubscribe>
List-Archive: <http://mails.dpdk.org/archives/test-report/>
List-Post: <mailto:test-report@dpdk.org>
List-Help: <mailto:test-report-request@dpdk.org?subject=help>
List-Subscribe: <https://mails.dpdk.org/listinfo/test-report>,
 <mailto:test-report-request@dpdk.org?subject=subscribe>
Errors-To: test-report-bounces@dpdk.org

Test-Label: iol-unit-arm64-testing
Test-Status: SUCCESS
http://dpdk.org/patch/138854

_Testing PASS_

Submitter: Maxime Coquelin <maxime.coquelin@redhat.com>
Date: Wednesday, March 27 2024 09:40:32 
DPDK git baseline: Repo:dpdk
  Branch: master
  CommitID:ded4d4765171b88470e59307f10625e942f22fca

138851-138854 --> testing pass

Test environment and result as below:

+--------------------------+---------------------------+------------------------------+----------------+
|       Environment        | cryptodev_sw_zuc_autotest | cryptodev_sw_snow3g_autotest | dpdk_unit_test |
+==========================+===========================+==============================+================+
| Debian 12 (arm)          | PASS                      | PASS                         | SKIPPED        |
+--------------------------+---------------------------+------------------------------+----------------+
| Fedora 37 (ARM)          | SKIPPED                   | SKIPPED                      | PASS           |
+--------------------------+---------------------------+------------------------------+----------------+
| Debian 11 (Buster) (ARM) | SKIPPED                   | SKIPPED                      | PASS           |
+--------------------------+---------------------------+------------------------------+----------------+


Debian 12 (arm)
	Kernel: Container Host Kernel
	Compiler: gcc 12.2.0

Fedora 37 (ARM)
	Kernel: Depends on container host
	Compiler: gcc 12.3.1

Debian 11 (Buster) (ARM)
	Kernel: Container Host Kernel
	Compiler: gcc 10.2.1

To view detailed results, visit:
https://lab.dpdk.org/results/dashboard/patchsets/29664/

UNH-IOL DPDK Community Lab

To manage your email subscriptions, visit: 
https://lab.dpdk.org/results/dashboard/preferences/subscriptions/