From mboxrd@z Thu Jan  1 00:00:00 1970
Return-Path: <test-report-bounces@dpdk.org>
Received: from mails.dpdk.org (mails.dpdk.org [217.70.189.124])
	by inbox.dpdk.org (Postfix) with ESMTP id 6267343D57
	for <public@inbox.dpdk.org>; Wed, 27 Mar 2024 13:51:07 +0100 (CET)
Received: from mails.dpdk.org (localhost [127.0.0.1])
	by mails.dpdk.org (Postfix) with ESMTP id 5E98A402B2;
	Wed, 27 Mar 2024 13:51:07 +0100 (CET)
Received: from mail-ua1-f98.google.com (mail-ua1-f98.google.com
 [209.85.222.98]) by mails.dpdk.org (Postfix) with ESMTP id 5F751402A3
 for <test-report@dpdk.org>; Wed, 27 Mar 2024 13:51:05 +0100 (CET)
Received: by mail-ua1-f98.google.com with SMTP id
 a1e0cc1a2514c-7e06168551eso2000824241.2
 for <test-report@dpdk.org>; Wed, 27 Mar 2024 05:51:05 -0700 (PDT)
DKIM-Signature: v=1; a=rsa-sha256; c=relaxed/relaxed;
 d=iol.unh.edu; s=unh-iol; t=1711543864; x=1712148664; darn=dpdk.org;
 h=references:in-reply-to:cc:to:from:subject:message-id:date:from:to
 :cc:subject:date:message-id:reply-to;
 bh=7UxsZDqpt7vStkuoegqNTsXfn81bmCaOcj6kQuHbOm8=;
 b=eY/nUtv7cWk0Bd+qh7rX8TisCOqEZL6kszTei08VScA3hiIIowL9s5RzqWXISqUxFu
 526rKhp9sPHNC/s6YSWmiAwkSg5aapxhbFzPdxGrJua6UAuk2GblzZkap1BKl099NHZR
 I7YAn9Ie9Q1QlUglWHafj4zJmxT5Su2Q57gts=
X-Google-DKIM-Signature: v=1; a=rsa-sha256; c=relaxed/relaxed;
 d=1e100.net; s=20230601; t=1711543864; x=1712148664;
 h=references:in-reply-to:cc:to:from:subject:message-id:date
 :x-gm-message-state:from:to:cc:subject:date:message-id:reply-to;
 bh=7UxsZDqpt7vStkuoegqNTsXfn81bmCaOcj6kQuHbOm8=;
 b=xJ51Ui7A8asPgSxWb1ngKPOUjMsWi/8RqU5ab+wq37GXgyQLx74pEqLnT2JEfAHAIW
 mBRDakMCZWEQM31JyI/YZ5HooemsoUELriYLqzgyJLXIuOWfRlyXlaSm+M+MY9GlYNbz
 czmZZZgsNuiVxfrzLPyEmHulxX1y5QpMTYQZer9LWbUQsJ2L8G6lGxtqFwL+VFFT+lU/
 TGhywywQUrCdF9pmLBSKaYxCmTigaWFU/8FsoGLBtR2f8flwq51OmK8j7MVqKALXgwmM
 bZ3zezfJ1/mqfRKe+7rACs/PaPkt6/dm0HZ+pgq+aJ2NytzbWWFri28+MUMuNaJH5JUF
 8zoA==
X-Gm-Message-State: AOJu0YzqwCFsZctsTn2eubCCRH4dcaOw4XiAyv7gAl4u3B6X3Gj/+NDt
 HO8HRIy5P56SoLyIuNVi8owT2N9mCpNuST6TNp7Iok264R9BFsabbS7SuGQBCzIU/kR+c6Uspmb
 Mz3z6ekFb2KF8eBQ8oSJtd2OCAMqc6ixAbEPSBM6uBbWRwapHcQ2rk0/G
X-Google-Smtp-Source: AGHT+IG6rCemJL9P1VHDUkthXl3K/jrGlBJ4DrDq2goxlah6kX1OkcNc95ZFcEwi9R9lh2IYUaSs3rQVzKKB
X-Received: by 2002:a05:6122:169a:b0:4d4:1f41:472d with SMTP id
 26-20020a056122169a00b004d41f41472dmr2781051vkl.16.1711543863220; 
 Wed, 27 Mar 2024 05:51:03 -0700 (PDT)
Received: from postal.iol.unh.edu (postal.iol.unh.edu.
 [2606:4100:3880:1234::84]) by smtp-relay.gmail.com with ESMTPS id
 gc19-20020a0561221d1300b004d8a9542046sm211925vkb.12.2024.03.27.05.51.03
 (version=TLS1_2 cipher=ECDHE-ECDSA-AES128-GCM-SHA256 bits=128/128);
 Wed, 27 Mar 2024 05:51:03 -0700 (PDT)
X-Relaying-Domain: iol.unh.edu
Date: Wed, 27 Mar 2024 05:51:03 -0700 (PDT)
Message-ID: <66041637.050a0220.688ef.8b16SMTPIN_ADDED_MISSING@mx.google.com>
Received: from [172.21.0.8] (unknown [172.18.0.240])
 by postal.iol.unh.edu (Postfix) with ESMTP id D8E156052471;
 Wed, 27 Mar 2024 08:51:02 -0400 (EDT)
Subject: |SUCCESS| pw138851-138854 [PATCH] [4/4] net/virtio: fix shadow contr
From: dpdklab@iol.unh.edu
To: Test Report <test-report@dpdk.org>
Cc: dpdk-test-reports@iol.unh.edu
In-Reply-To: <20240327094032.2400951-5-maxime.coquelin@redhat.com>
References: <20240327094032.2400951-5-maxime.coquelin@redhat.com>
Content-Type: text/plain
X-BeenThere: test-report@dpdk.org
X-Mailman-Version: 2.1.29
Precedence: list
List-Id: automatic DPDK test reports <test-report.dpdk.org>
List-Unsubscribe: <https://mails.dpdk.org/options/test-report>,
 <mailto:test-report-request@dpdk.org?subject=unsubscribe>
List-Archive: <http://mails.dpdk.org/archives/test-report/>
List-Post: <mailto:test-report@dpdk.org>
List-Help: <mailto:test-report-request@dpdk.org?subject=help>
List-Subscribe: <https://mails.dpdk.org/listinfo/test-report>,
 <mailto:test-report-request@dpdk.org?subject=subscribe>
Errors-To: test-report-bounces@dpdk.org

Test-Label: iol-abi-testing
Test-Status: SUCCESS
http://dpdk.org/patch/138854

_Testing PASS_

Submitter: Maxime Coquelin <maxime.coquelin@redhat.com>
Date: Wednesday, March 27 2024 09:40:32 
DPDK git baseline: Repo:dpdk
  Branch: master
  CommitID:ded4d4765171b88470e59307f10625e942f22fca

138851-138854 --> testing pass

Test environment and result as below:

+------------------+----------+
|   Environment    | abi_test |
+==================+==========+
| Debian 11 (arm)  | PASS     |
+------------------+----------+
| openSUSE Leap 15 | PASS     |
+------------------+----------+
| Debian Bullseye  | PASS     |
+------------------+----------+
| CentOS Stream 8  | PASS     |
+------------------+----------+
| CentOS Stream 9  | PASS     |
+------------------+----------+
| Fedora 38        | PASS     |
+------------------+----------+
| Fedora 37        | PASS     |
+------------------+----------+
| Fedora 39        | PASS     |
+------------------+----------+


Debian 11 (arm)
	Kernel: Container Host Kernel
	Compiler: gcc 10.2.1

openSUSE Leap 15
	Kernel: 5.4.0-167-generic
	Compiler: gcc 7.5.0

Debian Bullseye
	Kernel: 5.4.0-167-generic
	Compiler: gcc 10.2.1-6

CentOS Stream 8
	Kernel: 5.4.0-167-generic
	Compiler: gcc 8.5.0 20210514

CentOS Stream 9
	Kernel: 5.4.0-167-generic
	Compiler: gcc 11.4.1 20230605

Fedora 38
	Kernel: Depends on container host
	Compiler: clang 16.0.6

Fedora 37
	Kernel: Depends on container host system
	Compiler: gcc 12.3.1

Fedora 39
	Kernel: Depends on container host
	Compiler: clang 17.0.6

To view detailed results, visit:
https://lab.dpdk.org/results/dashboard/patchsets/29664/

UNH-IOL DPDK Community Lab

To manage your email subscriptions, visit: 
https://lab.dpdk.org/results/dashboard/preferences/subscriptions/