From mboxrd@z Thu Jan  1 00:00:00 1970
Return-Path: <test-report-bounces@dpdk.org>
Received: from mails.dpdk.org (mails.dpdk.org [217.70.189.124])
	by inbox.dpdk.org (Postfix) with ESMTP id A614F43D5B
	for <public@inbox.dpdk.org>; Wed, 27 Mar 2024 14:02:19 +0100 (CET)
Received: from mails.dpdk.org (localhost [127.0.0.1])
	by mails.dpdk.org (Postfix) with ESMTP id A17A4402B2;
	Wed, 27 Mar 2024 14:02:19 +0100 (CET)
Received: from mail-io1-f97.google.com (mail-io1-f97.google.com
 [209.85.166.97]) by mails.dpdk.org (Postfix) with ESMTP id 7608C402A3
 for <test-report@dpdk.org>; Wed, 27 Mar 2024 14:02:13 +0100 (CET)
Received: by mail-io1-f97.google.com with SMTP id
 ca18e2360f4ac-7cc0e0dba0fso269449039f.3
 for <test-report@dpdk.org>; Wed, 27 Mar 2024 06:02:13 -0700 (PDT)
DKIM-Signature: v=1; a=rsa-sha256; c=relaxed/relaxed;
 d=iol.unh.edu; s=unh-iol; t=1711544533; x=1712149333; darn=dpdk.org;
 h=references:in-reply-to:cc:to:from:subject:message-id:date:from:to
 :cc:subject:date:message-id:reply-to;
 bh=///KgFgOM9tLcgzIIEApUSd9o4Yhorb7fjO6Z7N1uKI=;
 b=FuxPzICVmaxDxvEW2zj0o8CMB6Rs0JRsSx/p2IfmWwFsSxFU1q/25uQg4zpKh9TrOw
 /jncltp7bcLlwAPXY3yStf7G2I2JyNYpiXyxrAxxO2CSbjHY8YaaImvVB7oaW3wu6RWK
 hFqnEMf6uvoGxkDG+yEbXH1UwghLaiv5B4gpk=
X-Google-DKIM-Signature: v=1; a=rsa-sha256; c=relaxed/relaxed;
 d=1e100.net; s=20230601; t=1711544533; x=1712149333;
 h=references:in-reply-to:cc:to:from:subject:message-id:date
 :x-gm-message-state:from:to:cc:subject:date:message-id:reply-to;
 bh=///KgFgOM9tLcgzIIEApUSd9o4Yhorb7fjO6Z7N1uKI=;
 b=MIzuDpovRCxoSNE1sweeKAT23lXkihr2al7+6YnJghxewiEEvC7BNnmu2CJhvovBC7
 SSX7HYJxFznCqa9mOm9eN34dW1yijiAgyCforg4iZGDr5a93PYjaY7IWcPi1LywukE7h
 5BTH0o7TVyCBdeZG19X92x52LlUcmd+7IL8aAC3N/JjDpgthCTciBepSRe/Fr3F63Az5
 hv9aTHY+JOyJxE+83Ru2NBzqmngl9nVdfoJfVLPt/V8/jdTkiXsjOdMw2H1hLz7I7+un
 SGeBS3erxG7Gu8g/tgz/n76c0qL7hp9udWr8hBHqXlUWPGFGjblMm21FOUbrmC9twLBg
 rvFg==
X-Gm-Message-State: AOJu0YzplKTZbSC9j8OmPodsaCHrsxG5rUOQyjv1zhnp5a6rleTKAAb6
 yvPWLIs4ELTV/SsEYuBizM8Mzm7AwuwTqWauPQp+BYjp1sIDbgUtXpdSVOoo6NWQC3+qwhV1ZCJ
 mbHQKQy4lykQpSavCLBfHycS+gKDGd1YvTglQPmLu9WWr1zhTj8+4Hgg0
X-Google-Smtp-Source: AGHT+IGin4WT6r8oRtXyxGwZQyDzv28Lm0sH7snqUzGhGFn2UCeoKDiiAPb8RoAnlDMRxsF3yHwCGQZLBAk4
X-Received: by 2002:a05:6602:1237:b0:7d0:8487:e8d with SMTP id
 z23-20020a056602123700b007d084870e8dmr468804iot.2.1711544532510; 
 Wed, 27 Mar 2024 06:02:12 -0700 (PDT)
Received: from postal.iol.unh.edu (postal.iol.unh.edu.
 [2606:4100:3880:1234::84]) by smtp-relay.gmail.com with ESMTPS id
 t12-20020a02ccac000000b00476bc0b1326sm469334jap.76.2024.03.27.06.02.12
 (version=TLS1_2 cipher=ECDHE-ECDSA-AES128-GCM-SHA256 bits=128/128);
 Wed, 27 Mar 2024 06:02:12 -0700 (PDT)
X-Relaying-Domain: iol.unh.edu
Date: Wed, 27 Mar 2024 06:02:12 -0700 (PDT)
Message-ID: <660418d4.020a0220.27054.8401SMTPIN_ADDED_MISSING@mx.google.com>
Received: from [172.21.0.8] (unknown [172.18.0.240])
 by postal.iol.unh.edu (Postfix) with ESMTP id F26AD6052471;
 Wed, 27 Mar 2024 09:02:11 -0400 (EDT)
Subject: |SUCCESS| pw138851-138854 [PATCH] [4/4] net/virtio: fix shadow contr
From: dpdklab@iol.unh.edu
To: Test Report <test-report@dpdk.org>
Cc: dpdk-test-reports@iol.unh.edu
In-Reply-To: <20240327094032.2400951-5-maxime.coquelin@redhat.com>
References: <20240327094032.2400951-5-maxime.coquelin@redhat.com>
Content-Type: text/plain
X-BeenThere: test-report@dpdk.org
X-Mailman-Version: 2.1.29
Precedence: list
List-Id: automatic DPDK test reports <test-report.dpdk.org>
List-Unsubscribe: <https://mails.dpdk.org/options/test-report>,
 <mailto:test-report-request@dpdk.org?subject=unsubscribe>
List-Archive: <http://mails.dpdk.org/archives/test-report/>
List-Post: <mailto:test-report@dpdk.org>
List-Help: <mailto:test-report-request@dpdk.org?subject=help>
List-Subscribe: <https://mails.dpdk.org/listinfo/test-report>,
 <mailto:test-report-request@dpdk.org?subject=subscribe>
Errors-To: test-report-bounces@dpdk.org

Test-Label: iol-compile-amd64-testing
Test-Status: SUCCESS
http://dpdk.org/patch/138854

_Testing PASS_

Submitter: Maxime Coquelin <maxime.coquelin@redhat.com>
Date: Wednesday, March 27 2024 09:40:32 
DPDK git baseline: Repo:dpdk
  Branch: master
  CommitID:ded4d4765171b88470e59307f10625e942f22fca

138851-138854 --> testing pass

Test environment and result as below:

+---------------------+--------------------+----------------------+-------------------+
|     Environment     | dpdk_meson_compile | dpdk_mingw64_compile | dpdk_msvc_compile |
+=====================+====================+======================+===================+
| FreeBSD 13.2        | PASS               | SKIPPED              | SKIPPED           |
+---------------------+--------------------+----------------------+-------------------+
| Windows Server 2022 | PASS               | PASS                 | PASS              |
+---------------------+--------------------+----------------------+-------------------+
| Windows Server 2019 | PASS               | PASS                 | SKIPPED           |
+---------------------+--------------------+----------------------+-------------------+
| CentOS Stream 8     | PASS               | SKIPPED              | SKIPPED           |
+---------------------+--------------------+----------------------+-------------------+
| Debian Bullseye     | PASS               | SKIPPED              | SKIPPED           |
+---------------------+--------------------+----------------------+-------------------+
| CentOS Stream 9     | PASS               | SKIPPED              | SKIPPED           |
+---------------------+--------------------+----------------------+-------------------+
| Fedora 37           | PASS               | SKIPPED              | SKIPPED           |
+---------------------+--------------------+----------------------+-------------------+
| Debian 11 (arm)     | PASS               | SKIPPED              | SKIPPED           |
+---------------------+--------------------+----------------------+-------------------+


FreeBSD 13.2
	Kernel: 13.2
	Compiler: clang 14.0.5

Windows Server 2022
	Kernel: 10.0.20348.2031
	Compiler: clang 15.0.7, gcc 8.1.0 (MinGW), and MSVC VS 17.9

Windows Server 2019
	Kernel: 10.0.17763
	Compiler: clang 14.0 and gcc 8.1.0 (MinGW)

CentOS Stream 8
	Kernel: 5.4.0-167-generic
	Compiler: gcc 8.5.0 20210514

Debian Bullseye
	Kernel: 5.4.0-167-generic
	Compiler: gcc 10.2.1-6

CentOS Stream 9
	Kernel: 5.4.0-167-generic
	Compiler: gcc 11.4.1 20230605

Fedora 37
	Kernel: Depends on container host system
	Compiler: gcc 12.3.1

Debian 11 (arm)
	Kernel: Container Host Kernel
	Compiler: gcc 10.2.1

To view detailed results, visit:
https://lab.dpdk.org/results/dashboard/patchsets/29664/

UNH-IOL DPDK Community Lab

To manage your email subscriptions, visit: 
https://lab.dpdk.org/results/dashboard/preferences/subscriptions/