From mboxrd@z Thu Jan  1 00:00:00 1970
Return-Path: <test-report-bounces@dpdk.org>
Received: from mails.dpdk.org (mails.dpdk.org [217.70.189.124])
	by inbox.dpdk.org (Postfix) with ESMTP id 22E1643D5B
	for <public@inbox.dpdk.org>; Wed, 27 Mar 2024 14:05:57 +0100 (CET)
Received: from mails.dpdk.org (localhost [127.0.0.1])
	by mails.dpdk.org (Postfix) with ESMTP id 1EAB9402B2;
	Wed, 27 Mar 2024 14:05:57 +0100 (CET)
Received: from mail-il1-f226.google.com (mail-il1-f226.google.com
 [209.85.166.226])
 by mails.dpdk.org (Postfix) with ESMTP id 43306402A3
 for <test-report@dpdk.org>; Wed, 27 Mar 2024 14:05:49 +0100 (CET)
Received: by mail-il1-f226.google.com with SMTP id
 e9e14a558f8ab-3689ae5137bso9663895ab.3
 for <test-report@dpdk.org>; Wed, 27 Mar 2024 06:05:49 -0700 (PDT)
DKIM-Signature: v=1; a=rsa-sha256; c=relaxed/relaxed;
 d=iol.unh.edu; s=unh-iol; t=1711544748; x=1712149548; darn=dpdk.org;
 h=references:in-reply-to:cc:to:from:subject:message-id:date:from:to
 :cc:subject:date:message-id:reply-to;
 bh=ImA+6bTpRC2JwOJCJUdVc54vWPl7dfi6qjtv08un1wg=;
 b=RogwVx0JBnfXYkqgMRNAjZYtdupfC8O8J3QwmQK7xLDAoRBvNKhyfA46uQLREKgCbs
 vzLwPL6BphH7TOLi7+vxlzs2MXMzdF0oeZrpXA/RsPr4K5wVd3dLuvFB7XrpJkmn+xnI
 d0sQoyYhMpkfK3KyJSi5k4lA6D5Q/DNhvPxsQ=
X-Google-DKIM-Signature: v=1; a=rsa-sha256; c=relaxed/relaxed;
 d=1e100.net; s=20230601; t=1711544748; x=1712149548;
 h=references:in-reply-to:cc:to:from:subject:message-id:date
 :x-gm-message-state:from:to:cc:subject:date:message-id:reply-to;
 bh=ImA+6bTpRC2JwOJCJUdVc54vWPl7dfi6qjtv08un1wg=;
 b=KNgwC0chRSEYwaj72Ysm22PJDOj2PEAQZTkiCNlbRpsSvv3Ih4GsfPuJnE13fpAiQF
 TBCrQziSJHDfi4pkmKjiZHJXYONIEb1qIa5FspBSwZ98FGqtGESJCnkXjRIjdu0fG7q0
 JbuOruTXpz1yN2l1sQvB3e6sL0e+0FNKHNpH5OZolnuwxF2mrvU2AB3g1fARTlNS23RV
 SsBfG9/LQxdksHxlo3SPYSga1qxI9jDTm4gT+iJQkrNkTCFBJJdYZywnBaoyqcpaMGaw
 DOeHx3e6nZkGs+37/Umg56/mTNdMO/49uEmm6eZtVgDWoYsjxjdPx2RgsJ6ljuFy11fu
 70tw==
X-Gm-Message-State: AOJu0YyJrbrWg/bE2+isDITykbJ+wXFQwspnBvh5JZ8s+EQtvwJGD07E
 CUGreew1Ow0am/lcCP/kEIQ8JwLqaxFf9G5YZ0xMtFHFj0Ik5Xby1e2b/G29naCtqRoY0OGlLr8
 6mPFWjFenCgQBYqQH0BTTC5G3R+VssGqLQZ/a/Q2j
X-Google-Smtp-Source: AGHT+IE9brDrBLSO46AldXDgYzWvQ3h0Wunrf8NgtoS0z3N3E8N3bV9q/jozlph6HiHnb57xbBTJ3dSrxJ/8
X-Received: by 2002:a92:c8c9:0:b0:368:5080:535a with SMTP id
 c9-20020a92c8c9000000b003685080535amr5139586ilq.32.1711544748647; 
 Wed, 27 Mar 2024 06:05:48 -0700 (PDT)
Received: from postal.iol.unh.edu (postal.iol.unh.edu. [132.177.123.84])
 by smtp-relay.gmail.com with ESMTPS id
 q4-20020a056e0215c400b0036880efc6cesm510533ilu.54.2024.03.27.06.05.48
 (version=TLS1_2 cipher=ECDHE-ECDSA-AES128-GCM-SHA256 bits=128/128);
 Wed, 27 Mar 2024 06:05:48 -0700 (PDT)
X-Relaying-Domain: iol.unh.edu
Date: Wed, 27 Mar 2024 06:05:48 -0700 (PDT)
Message-ID: <660419ac.050a0220.8505b.db39SMTPIN_ADDED_MISSING@mx.google.com>
Received: from [172.21.0.7] (unknown [172.18.0.240])
 by postal.iol.unh.edu (Postfix) with ESMTP id 1F99F6052471;
 Wed, 27 Mar 2024 09:05:48 -0400 (EDT)
Subject: |SUCCESS| pw138851-138854 [PATCH] [4/4] net/virtio: fix shadow contr
From: dpdklab@iol.unh.edu
To: Test Report <test-report@dpdk.org>
Cc: dpdk-test-reports@iol.unh.edu
In-Reply-To: <20240327094032.2400951-5-maxime.coquelin@redhat.com>
References: <20240327094032.2400951-5-maxime.coquelin@redhat.com>
Content-Type: text/plain
X-BeenThere: test-report@dpdk.org
X-Mailman-Version: 2.1.29
Precedence: list
List-Id: automatic DPDK test reports <test-report.dpdk.org>
List-Unsubscribe: <https://mails.dpdk.org/options/test-report>,
 <mailto:test-report-request@dpdk.org?subject=unsubscribe>
List-Archive: <http://mails.dpdk.org/archives/test-report/>
List-Post: <mailto:test-report@dpdk.org>
List-Help: <mailto:test-report-request@dpdk.org?subject=help>
List-Subscribe: <https://mails.dpdk.org/listinfo/test-report>,
 <mailto:test-report-request@dpdk.org?subject=subscribe>
Errors-To: test-report-bounces@dpdk.org

Test-Label: iol-compile-amd64-testing
Test-Status: SUCCESS
http://dpdk.org/patch/138854

_Testing PASS_

Submitter: Maxime Coquelin <maxime.coquelin@redhat.com>
Date: Wednesday, March 27 2024 09:40:32 
DPDK git baseline: Repo:dpdk
  Branch: master
  CommitID:ded4d4765171b88470e59307f10625e942f22fca

138851-138854 --> testing pass

Test environment and result as below:

+---------------------+--------------------+----------------------+-------------------+
|     Environment     | dpdk_meson_compile | dpdk_mingw64_compile | dpdk_msvc_compile |
+=====================+====================+======================+===================+
| FreeBSD 13.2        | PASS               | SKIPPED              | SKIPPED           |
+---------------------+--------------------+----------------------+-------------------+
| Windows Server 2022 | PASS               | PASS                 | PASS              |
+---------------------+--------------------+----------------------+-------------------+
| Windows Server 2019 | PASS               | PASS                 | SKIPPED           |
+---------------------+--------------------+----------------------+-------------------+
| CentOS Stream 8     | PASS               | SKIPPED              | SKIPPED           |
+---------------------+--------------------+----------------------+-------------------+
| Debian Bullseye     | PASS               | SKIPPED              | SKIPPED           |
+---------------------+--------------------+----------------------+-------------------+
| CentOS Stream 9     | PASS               | SKIPPED              | SKIPPED           |
+---------------------+--------------------+----------------------+-------------------+
| Fedora 37           | PASS               | SKIPPED              | SKIPPED           |
+---------------------+--------------------+----------------------+-------------------+
| Debian 11 (arm)     | PASS               | SKIPPED              | SKIPPED           |
+---------------------+--------------------+----------------------+-------------------+
| RHEL8               | PASS               | SKIPPED              | SKIPPED           |
+---------------------+--------------------+----------------------+-------------------+
| openSUSE Leap 15    | PASS               | SKIPPED              | SKIPPED           |
+---------------------+--------------------+----------------------+-------------------+


FreeBSD 13.2
	Kernel: 13.2
	Compiler: clang 14.0.5

Windows Server 2022
	Kernel: 10.0.20348.2031
	Compiler: clang 15.0.7, gcc 8.1.0 (MinGW), and MSVC VS 17.9

Windows Server 2019
	Kernel: 10.0.17763
	Compiler: clang 14.0 and gcc 8.1.0 (MinGW)

CentOS Stream 8
	Kernel: 5.4.0-167-generic
	Compiler: gcc 8.5.0 20210514

Debian Bullseye
	Kernel: 5.4.0-167-generic
	Compiler: gcc 10.2.1-6

CentOS Stream 9
	Kernel: 5.4.0-167-generic
	Compiler: gcc 11.4.1 20230605

Fedora 37
	Kernel: Depends on container host system
	Compiler: gcc 12.3.1

Debian 11 (arm)
	Kernel: Container Host Kernel
	Compiler: gcc 10.2.1

RHEL8
	Kernel: 5.4.0-167-generic
	Compiler: gcc 8.5.0 20210514 (Red Hat 8.5.0-20)

openSUSE Leap 15
	Kernel: 5.4.0-167-generic
	Compiler: gcc 7.5.0

To view detailed results, visit:
https://lab.dpdk.org/results/dashboard/patchsets/29664/

UNH-IOL DPDK Community Lab

To manage your email subscriptions, visit: 
https://lab.dpdk.org/results/dashboard/preferences/subscriptions/