From mboxrd@z Thu Jan  1 00:00:00 1970
Return-Path: <test-report-bounces@dpdk.org>
Received: from mails.dpdk.org (mails.dpdk.org [217.70.189.124])
	by inbox.dpdk.org (Postfix) with ESMTP id B112343D5B
	for <public@inbox.dpdk.org>; Wed, 27 Mar 2024 14:09:03 +0100 (CET)
Received: from mails.dpdk.org (localhost [127.0.0.1])
	by mails.dpdk.org (Postfix) with ESMTP id A93B9402B2;
	Wed, 27 Mar 2024 14:09:03 +0100 (CET)
Received: from mail-oo1-f100.google.com (mail-oo1-f100.google.com
 [209.85.161.100])
 by mails.dpdk.org (Postfix) with ESMTP id 3A30E402A3
 for <test-report@dpdk.org>; Wed, 27 Mar 2024 14:09:02 +0100 (CET)
Received: by mail-oo1-f100.google.com with SMTP id
 006d021491bc7-5a4a2d99598so3074079eaf.2
 for <test-report@dpdk.org>; Wed, 27 Mar 2024 06:09:02 -0700 (PDT)
DKIM-Signature: v=1; a=rsa-sha256; c=relaxed/relaxed;
 d=iol.unh.edu; s=unh-iol; t=1711544941; x=1712149741; darn=dpdk.org;
 h=references:in-reply-to:cc:to:from:subject:message-id:date:from:to
 :cc:subject:date:message-id:reply-to;
 bh=ZtkLNzDuor0umkDEC3GOLUnHGY+9FrhuHwJ5PO6oVa4=;
 b=M1KVdIzVWAZNyG+xoseia/Q1wepP7d+0izxRpJIHu6Od9HJHlOycLm3Ka85r0TrIJL
 bGrnDCfHW2KZIxT79BNV3qDx/Gy3dDUfIlkWmV7RRrJQwF8yLmHFP2mfvYIEoUk4A31L
 zpEZjVhaC2LbUFT6/eWAsb+uQh9eVy4tSwLFY=
X-Google-DKIM-Signature: v=1; a=rsa-sha256; c=relaxed/relaxed;
 d=1e100.net; s=20230601; t=1711544941; x=1712149741;
 h=references:in-reply-to:cc:to:from:subject:message-id:date
 :x-gm-message-state:from:to:cc:subject:date:message-id:reply-to;
 bh=ZtkLNzDuor0umkDEC3GOLUnHGY+9FrhuHwJ5PO6oVa4=;
 b=r+WkvqJN3RDLHQ69tZc6QdUeqqY6edMYo1CvL6XuUgIihoCQt39p2/hE+aCRPWomZj
 9ROCdR0K6xL/KsjMgihxNPRq9wgJwnrje06/nERs5WvSAtSVZTv4fDswM7FDSzMO71qT
 j2eUt+vHeDnRxcel8LPeYtLHfB9Xr5HrI1r8zT1Vnk2Jc3IldQjHSMmjV1176cyLaVFT
 OoT+aW6B6aZFLwDc3G6gR7qFkyra2oi4X2+q1CRpIVwdhddtGmElWqZnmKaIiPP8t7EU
 0YULKAjghMxQhKoGPpm+GgdvTwnkEncR0iE4qL/G2X8kxgHhKNI9Z/jYDEUQ9ULjWX6B
 SLMQ==
X-Gm-Message-State: AOJu0YxS40mefB59czhXW8IWqqWJCo/Q6A9bGVavm67hdIFhwLmjVtvs
 UYofXwj3996SKzqs6ZiIx8yWIxR0B13mvIo2ybyOLFGiJmH2rcJCFgoxxkMMMmTVz8cd2zih5Gq
 E2GQTE8SnmTKyEnlFnmnVKxnGdP2IYvRIyeZRZqdS
X-Google-Smtp-Source: AGHT+IHLKeBw6iR+jY8yCkBIjDUdPcgNYZ4gmRTC61cd5lVYZmjCrjFfM1bBQRv7MvDeA9CRUBiKSUBtVwqX
X-Received: by 2002:a4a:ee98:0:b0:5a1:1081:260a with SMTP id
 dk24-20020a4aee98000000b005a11081260amr2870570oob.4.1711544941464; 
 Wed, 27 Mar 2024 06:09:01 -0700 (PDT)
Received: from postal.iol.unh.edu (postal.iol.unh.edu. [132.177.123.84])
 by smtp-relay.gmail.com with ESMTPS id
 129-20020a4a0687000000b005a4b177dc56sm763554ooj.11.2024.03.27.06.09.01
 (version=TLS1_2 cipher=ECDHE-ECDSA-AES128-GCM-SHA256 bits=128/128);
 Wed, 27 Mar 2024 06:09:01 -0700 (PDT)
X-Relaying-Domain: iol.unh.edu
Date: Wed, 27 Mar 2024 06:09:01 -0700 (PDT)
Message-ID: <66041a6d.4a0a0220.52d5a.a091SMTPIN_ADDED_MISSING@mx.google.com>
Received: from [172.21.0.6] (unknown [172.18.0.240])
 by postal.iol.unh.edu (Postfix) with ESMTP id B89E36052471;
 Wed, 27 Mar 2024 09:09:00 -0400 (EDT)
Subject: |SUCCESS| pw138851-138854 [PATCH] [4/4] net/virtio: fix shadow contr
From: dpdklab@iol.unh.edu
To: Test Report <test-report@dpdk.org>
Cc: dpdk-test-reports@iol.unh.edu
In-Reply-To: <20240327094032.2400951-5-maxime.coquelin@redhat.com>
References: <20240327094032.2400951-5-maxime.coquelin@redhat.com>
Content-Type: text/plain
X-BeenThere: test-report@dpdk.org
X-Mailman-Version: 2.1.29
Precedence: list
List-Id: automatic DPDK test reports <test-report.dpdk.org>
List-Unsubscribe: <https://mails.dpdk.org/options/test-report>,
 <mailto:test-report-request@dpdk.org?subject=unsubscribe>
List-Archive: <http://mails.dpdk.org/archives/test-report/>
List-Post: <mailto:test-report@dpdk.org>
List-Help: <mailto:test-report-request@dpdk.org?subject=help>
List-Subscribe: <https://mails.dpdk.org/listinfo/test-report>,
 <mailto:test-report-request@dpdk.org?subject=subscribe>
Errors-To: test-report-bounces@dpdk.org

Test-Label: iol-compile-amd64-testing
Test-Status: SUCCESS
http://dpdk.org/patch/138854

_Testing PASS_

Submitter: Maxime Coquelin <maxime.coquelin@redhat.com>
Date: Wednesday, March 27 2024 09:40:32 
DPDK git baseline: Repo:dpdk
  Branch: master
  CommitID:ded4d4765171b88470e59307f10625e942f22fca

138851-138854 --> testing pass

Test environment and result as below:

+---------------------+--------------------+----------------------+-------------------+
|     Environment     | dpdk_meson_compile | dpdk_mingw64_compile | dpdk_msvc_compile |
+=====================+====================+======================+===================+
| FreeBSD 13.2        | PASS               | SKIPPED              | SKIPPED           |
+---------------------+--------------------+----------------------+-------------------+
| Windows Server 2022 | PASS               | PASS                 | PASS              |
+---------------------+--------------------+----------------------+-------------------+
| Windows Server 2019 | PASS               | PASS                 | SKIPPED           |
+---------------------+--------------------+----------------------+-------------------+
| CentOS Stream 8     | PASS               | SKIPPED              | SKIPPED           |
+---------------------+--------------------+----------------------+-------------------+
| Debian Bullseye     | PASS               | SKIPPED              | SKIPPED           |
+---------------------+--------------------+----------------------+-------------------+
| CentOS Stream 9     | PASS               | SKIPPED              | SKIPPED           |
+---------------------+--------------------+----------------------+-------------------+
| Fedora 37           | PASS               | SKIPPED              | SKIPPED           |
+---------------------+--------------------+----------------------+-------------------+
| Debian 11 (arm)     | PASS               | SKIPPED              | SKIPPED           |
+---------------------+--------------------+----------------------+-------------------+
| RHEL8               | PASS               | SKIPPED              | SKIPPED           |
+---------------------+--------------------+----------------------+-------------------+
| openSUSE Leap 15    | PASS               | SKIPPED              | SKIPPED           |
+---------------------+--------------------+----------------------+-------------------+
| Ubuntu 20.04        | PASS               | SKIPPED              | SKIPPED           |
+---------------------+--------------------+----------------------+-------------------+
| Fedora 38           | PASS               | SKIPPED              | SKIPPED           |
+---------------------+--------------------+----------------------+-------------------+
| Ubuntu 22.04        | PASS               | SKIPPED              | SKIPPED           |
+---------------------+--------------------+----------------------+-------------------+


FreeBSD 13.2
	Kernel: 13.2
	Compiler: clang 14.0.5

Windows Server 2022
	Kernel: 10.0.20348.2031
	Compiler: clang 15.0.7, gcc 8.1.0 (MinGW), and MSVC VS 17.9

Windows Server 2019
	Kernel: 10.0.17763
	Compiler: clang 14.0 and gcc 8.1.0 (MinGW)

CentOS Stream 8
	Kernel: 5.4.0-167-generic
	Compiler: gcc 8.5.0 20210514

Debian Bullseye
	Kernel: 5.4.0-167-generic
	Compiler: gcc 10.2.1-6

CentOS Stream 9
	Kernel: 5.4.0-167-generic
	Compiler: gcc 11.4.1 20230605

Fedora 37
	Kernel: Depends on container host system
	Compiler: gcc 12.3.1

Debian 11 (arm)
	Kernel: Container Host Kernel
	Compiler: gcc 10.2.1

RHEL8
	Kernel: 5.4.0-167-generic
	Compiler: gcc 8.5.0 20210514 (Red Hat 8.5.0-20)

openSUSE Leap 15
	Kernel: 5.4.0-167-generic
	Compiler: gcc 7.5.0

Ubuntu 20.04
	Kernel: 5.4.0-167-generic
	Compiler: gcc 9.4.0-1ubuntu1~20.04.1

Fedora 38
	Kernel: Depends on container host
	Compiler: gcc 13.2.1

Ubuntu 22.04
	Kernel: 5.4.0-167-generic
	Compiler: gcc 11.4.0

To view detailed results, visit:
https://lab.dpdk.org/results/dashboard/patchsets/29664/

UNH-IOL DPDK Community Lab

To manage your email subscriptions, visit: 
https://lab.dpdk.org/results/dashboard/preferences/subscriptions/