From mboxrd@z Thu Jan  1 00:00:00 1970
Return-Path: <test-report-bounces@dpdk.org>
Received: from mails.dpdk.org (mails.dpdk.org [217.70.189.124])
	by inbox.dpdk.org (Postfix) with ESMTP id ECC9F43D5B
	for <public@inbox.dpdk.org>; Wed, 27 Mar 2024 14:22:20 +0100 (CET)
Received: from mails.dpdk.org (localhost [127.0.0.1])
	by mails.dpdk.org (Postfix) with ESMTP id E689C402B2;
	Wed, 27 Mar 2024 14:22:20 +0100 (CET)
Received: from mail-qt1-f225.google.com (mail-qt1-f225.google.com
 [209.85.160.225])
 by mails.dpdk.org (Postfix) with ESMTP id 83499402A3
 for <test-report@dpdk.org>; Wed, 27 Mar 2024 14:22:19 +0100 (CET)
Received: by mail-qt1-f225.google.com with SMTP id
 d75a77b69052e-42f2d02fbdeso28812931cf.1
 for <test-report@dpdk.org>; Wed, 27 Mar 2024 06:22:19 -0700 (PDT)
DKIM-Signature: v=1; a=rsa-sha256; c=relaxed/relaxed;
 d=iol.unh.edu; s=unh-iol; t=1711545739; x=1712150539; darn=dpdk.org;
 h=references:in-reply-to:cc:to:from:subject:message-id:date:from:to
 :cc:subject:date:message-id:reply-to;
 bh=4gc12XtqF0Wt5Dt4nRGFFpvGPi3EfSxR6In7KCIgYxk=;
 b=U0LQbt0nl4QoWivajwwzwaEJeidgfkMLBWUSNQq753JvWjBc8bWxRxoFCdyOKF8Kid
 snHny92YV1K9WNJBI0zpXeeXMKi8QPOH23Vr02M1mduSJrT0ojxrBkd75H/M8BkJYGf+
 ootNE/ZIA508VDuPHvsoMDkBNgEx4ou9Ya/og=
X-Google-DKIM-Signature: v=1; a=rsa-sha256; c=relaxed/relaxed;
 d=1e100.net; s=20230601; t=1711545739; x=1712150539;
 h=references:in-reply-to:cc:to:from:subject:message-id:date
 :x-gm-message-state:from:to:cc:subject:date:message-id:reply-to;
 bh=4gc12XtqF0Wt5Dt4nRGFFpvGPi3EfSxR6In7KCIgYxk=;
 b=MyF+dajVN1QiNRHXlaQmB3XCWhuCzL8tIycAtJlnA3hqUKLMdw0LR3poi+mEhLEtxs
 fuzCRGCs3+f2zfqQ+LfF/L+ZOt1Mq5VpSsgzPZrq43Q0iLvQoVwkwMnF9FV1KDRXL3GB
 8zAmV4A+Lw7LSOgeJR299FFG4R3pHHq5Ar7TAB4/PPR40ObhsnnPm0FIEpYDq3GZh631
 gQ7fuCwj3CLiCxAbQCzYtYQbW9ed9gpojEonFwUidyfXPoHsRoB0tX3094FhJEU4roIY
 AhyHMiTMDgZTKuXyapyhwuLCCE3xvu8ac7Fw57NNl/s7IYkb0GdR2Cy1Bg5/VDzSD5+z
 46fQ==
X-Gm-Message-State: AOJu0Yzkr2TxurCkHvunXTUA21ekdtKN39CKZKOG+ENgSHJyijMe/tCD
 XPfWx6W4SFNHLmSDq4cnN/XECcB60syUL8EH/yhgXuAg5S5bQXB19zodfHdj+F7+sU5BwIQuoBV
 YbnnIbWqa6nqjKk1flaRXK8giZjIvJ33S8hthELc6
X-Google-Smtp-Source: AGHT+IGvJClGZvNpDosbi4x6J5JkY6GjXtk9r3W98femXYe6ShQNX1Dj5kX6WbSSMg0BYiJT4PAw/Num2Ame
X-Received: by 2002:a05:6214:300e:b0:696:7134:fd8e with SMTP id
 ke14-20020a056214300e00b006967134fd8emr1198560qvb.63.1711545738937; 
 Wed, 27 Mar 2024 06:22:18 -0700 (PDT)
Received: from postal.iol.unh.edu (postal.iol.unh.edu. [132.177.123.84])
 by smtp-relay.gmail.com with ESMTPS id
 8-20020a0562140cc800b006967b1bc9dbsm810443qvx.24.2024.03.27.06.22.18
 (version=TLS1_2 cipher=ECDHE-ECDSA-AES128-GCM-SHA256 bits=128/128);
 Wed, 27 Mar 2024 06:22:18 -0700 (PDT)
X-Relaying-Domain: iol.unh.edu
Date: Wed, 27 Mar 2024 06:22:18 -0700 (PDT)
Message-ID: <66041d8a.050a0220.7865d.394fSMTPIN_ADDED_MISSING@mx.google.com>
Received: from [172.21.0.6] (unknown [172.18.0.240])
 by postal.iol.unh.edu (Postfix) with ESMTP id 94F0C6052471;
 Wed, 27 Mar 2024 09:22:18 -0400 (EDT)
Subject: |SUCCESS| pw138851-138854 [PATCH] [4/4] net/virtio: fix shadow contr
From: dpdklab@iol.unh.edu
To: Test Report <test-report@dpdk.org>
Cc: dpdk-test-reports@iol.unh.edu
In-Reply-To: <20240327094032.2400951-5-maxime.coquelin@redhat.com>
References: <20240327094032.2400951-5-maxime.coquelin@redhat.com>
Content-Type: text/plain
X-BeenThere: test-report@dpdk.org
X-Mailman-Version: 2.1.29
Precedence: list
List-Id: automatic DPDK test reports <test-report.dpdk.org>
List-Unsubscribe: <https://mails.dpdk.org/options/test-report>,
 <mailto:test-report-request@dpdk.org?subject=unsubscribe>
List-Archive: <http://mails.dpdk.org/archives/test-report/>
List-Post: <mailto:test-report@dpdk.org>
List-Help: <mailto:test-report-request@dpdk.org?subject=help>
List-Subscribe: <https://mails.dpdk.org/listinfo/test-report>,
 <mailto:test-report-request@dpdk.org?subject=subscribe>
Errors-To: test-report-bounces@dpdk.org

Test-Label: iol-unit-amd64-testing
Test-Status: SUCCESS
http://dpdk.org/patch/138854

_Testing PASS_

Submitter: Maxime Coquelin <maxime.coquelin@redhat.com>
Date: Wednesday, March 27 2024 09:40:32 
DPDK git baseline: Repo:dpdk
  Branch: master
  CommitID:ded4d4765171b88470e59307f10625e942f22fca

138851-138854 --> testing pass

Test environment and result as below:

+---------------------+----------------+
|     Environment     | dpdk_unit_test |
+=====================+================+
| Windows Server 2019 | PASS           |
+---------------------+----------------+
| Windows Server 2022 | PASS           |
+---------------------+----------------+
| CentOS Stream 9     | PASS           |
+---------------------+----------------+
| Debian 11 (arm)     | PASS           |
+---------------------+----------------+


Windows Server 2019
	Kernel: 10.0.17763
	Compiler: clang 14.0 and gcc 8.1.0 (MinGW)

Windows Server 2022
	Kernel: 10.0.20348.2031
	Compiler: clang 15.0.7, gcc 8.1.0 (MinGW), and MSVC VS 17.9

CentOS Stream 9
	Kernel: 5.4.0-167-generic
	Compiler: gcc 11.4.1 20230605

Debian 11 (arm)
	Kernel: Container Host Kernel
	Compiler: gcc 10.2.1

To view detailed results, visit:
https://lab.dpdk.org/results/dashboard/patchsets/29664/

UNH-IOL DPDK Community Lab

To manage your email subscriptions, visit: 
https://lab.dpdk.org/results/dashboard/preferences/subscriptions/