From mboxrd@z Thu Jan  1 00:00:00 1970
Return-Path: <test-report-bounces@dpdk.org>
Received: from mails.dpdk.org (mails.dpdk.org [217.70.189.124])
	by inbox.dpdk.org (Postfix) with ESMTP id 4763143D5B
	for <public@inbox.dpdk.org>; Wed, 27 Mar 2024 14:28:14 +0100 (CET)
Received: from mails.dpdk.org (localhost [127.0.0.1])
	by mails.dpdk.org (Postfix) with ESMTP id 3C515402B2;
	Wed, 27 Mar 2024 14:28:14 +0100 (CET)
Received: from mail-pl1-f227.google.com (mail-pl1-f227.google.com
 [209.85.214.227])
 by mails.dpdk.org (Postfix) with ESMTP id 16D71402A3
 for <test-report@dpdk.org>; Wed, 27 Mar 2024 14:28:13 +0100 (CET)
Received: by mail-pl1-f227.google.com with SMTP id
 d9443c01a7336-1def59b537cso45225215ad.2
 for <test-report@dpdk.org>; Wed, 27 Mar 2024 06:28:13 -0700 (PDT)
DKIM-Signature: v=1; a=rsa-sha256; c=relaxed/relaxed;
 d=iol.unh.edu; s=unh-iol; t=1711546092; x=1712150892; darn=dpdk.org;
 h=references:in-reply-to:cc:to:from:subject:message-id:date:from:to
 :cc:subject:date:message-id:reply-to;
 bh=aJ7RdN4/HCZNExZTowb01hIb7ZpW5rqRPeqsh0WxsBU=;
 b=jwPpPpsxcHl4HU22W4JXmH03KGNpT206saMShA6WnsaRq/nd4YjepKDq+P5IinD2jk
 8N+l02XjFI7Oej4GkqXGSnZZMlQLEFbHTW7ZTgiWbcUHxD9RIOUm5HSuyColWORfQkAT
 jb/LhkjbIAKbIZ8gv7XJm77Zl8549s3TW9/8c=
X-Google-DKIM-Signature: v=1; a=rsa-sha256; c=relaxed/relaxed;
 d=1e100.net; s=20230601; t=1711546092; x=1712150892;
 h=references:in-reply-to:cc:to:from:subject:message-id:date
 :x-gm-message-state:from:to:cc:subject:date:message-id:reply-to;
 bh=aJ7RdN4/HCZNExZTowb01hIb7ZpW5rqRPeqsh0WxsBU=;
 b=qSZSlS3ZNIu50osEITZjiKFVSsUFdKAB5Q23pcnUHD6wLKBDr+OVa22bwT9XXVfGZk
 +WQOrZyoKhw20seEC3jiEO5lZNiD/4P8hsHKONEZkmLc2U7M3httqJoHiCnTb0FmPhXA
 no4yCaLB+xLzVOQsKHdzvKpApi9OPLndwBQnEfZT5y5N1XpUwwZc6/vV1E83LUNVU0UY
 /sGhWxzjGAvHUcRa3fVaB1VIycO4RMyBqj+ni0h+LOhGf/hwXmqV+0C4SfK4uSBTNYEx
 NULPbguLiRQZ33JfIs5DQxULLK6byB2uJzwSFWo25AK/TS336J68PGlGhOqXYOkCAnRl
 3kTQ==
X-Gm-Message-State: AOJu0YyLosCI8tnw0V9SacXrA7+rmwEWvsSTRdzulJXw9/cG4x6owNKX
 eFxFtLYdQ8iiYZKpSO26L9dQtZdlyS24CSdFM4uACzRSFywq0L1w9CnTDTztKtFhj7EfrDLVXWl
 tuXNMjMTdaIJFFx+cOMQ0ZwP/m61AAOoo/91/K82nkMuV6WpVWwZV/wFy
X-Google-Smtp-Source: AGHT+IFQys0rj9eg6RFQGYnA+mBVQ+db5Ax9O1ZVbi7J+CRjvUskDqm77QgbPOhoWQwv7T6N2V2yJc8osWbz
X-Received: by 2002:a17:902:e804:b0:1e0:879:7059 with SMTP id
 u4-20020a170902e80400b001e008797059mr3018395plg.41.1711546092292; 
 Wed, 27 Mar 2024 06:28:12 -0700 (PDT)
Received: from postal.iol.unh.edu (postal.iol.unh.edu.
 [2606:4100:3880:1234::84]) by smtp-relay.gmail.com with ESMTPS id
 kz12-20020a170902f9cc00b001e0b7348564sm305182plb.117.2024.03.27.06.28.12
 (version=TLS1_2 cipher=ECDHE-ECDSA-AES128-GCM-SHA256 bits=128/128);
 Wed, 27 Mar 2024 06:28:12 -0700 (PDT)
X-Relaying-Domain: iol.unh.edu
Date: Wed, 27 Mar 2024 06:28:12 -0700 (PDT)
Message-ID: <66041eec.170a0220.acab7.4dd9SMTPIN_ADDED_MISSING@mx.google.com>
Received: from [172.21.0.6] (unknown [172.18.0.240])
 by postal.iol.unh.edu (Postfix) with ESMTP id AE66C6052471;
 Wed, 27 Mar 2024 09:28:11 -0400 (EDT)
Subject: |SUCCESS| pw138851-138854 [PATCH] [4/4] net/virtio: fix shadow contr
From: dpdklab@iol.unh.edu
To: Test Report <test-report@dpdk.org>
Cc: dpdk-test-reports@iol.unh.edu
In-Reply-To: <20240327094032.2400951-5-maxime.coquelin@redhat.com>
References: <20240327094032.2400951-5-maxime.coquelin@redhat.com>
Content-Type: text/plain
X-BeenThere: test-report@dpdk.org
X-Mailman-Version: 2.1.29
Precedence: list
List-Id: automatic DPDK test reports <test-report.dpdk.org>
List-Unsubscribe: <https://mails.dpdk.org/options/test-report>,
 <mailto:test-report-request@dpdk.org?subject=unsubscribe>
List-Archive: <http://mails.dpdk.org/archives/test-report/>
List-Post: <mailto:test-report@dpdk.org>
List-Help: <mailto:test-report-request@dpdk.org?subject=help>
List-Subscribe: <https://mails.dpdk.org/listinfo/test-report>,
 <mailto:test-report-request@dpdk.org?subject=subscribe>
Errors-To: test-report-bounces@dpdk.org

Test-Label: iol-unit-amd64-testing
Test-Status: SUCCESS
http://dpdk.org/patch/138854

_Testing PASS_

Submitter: Maxime Coquelin <maxime.coquelin@redhat.com>
Date: Wednesday, March 27 2024 09:40:32 
DPDK git baseline: Repo:dpdk
  Branch: master
  CommitID:ded4d4765171b88470e59307f10625e942f22fca

138851-138854 --> testing pass

Test environment and result as below:

+---------------------+----------------+
|     Environment     | dpdk_unit_test |
+=====================+================+
| Windows Server 2019 | PASS           |
+---------------------+----------------+
| Windows Server 2022 | PASS           |
+---------------------+----------------+
| CentOS Stream 9     | PASS           |
+---------------------+----------------+
| Debian 11 (arm)     | PASS           |
+---------------------+----------------+
| CentOS Stream 8     | PASS           |
+---------------------+----------------+
| Debian Bullseye     | PASS           |
+---------------------+----------------+
| Fedora 37           | PASS           |
+---------------------+----------------+


Windows Server 2019
	Kernel: 10.0.17763
	Compiler: clang 14.0 and gcc 8.1.0 (MinGW)

Windows Server 2022
	Kernel: 10.0.20348.2031
	Compiler: clang 15.0.7, gcc 8.1.0 (MinGW), and MSVC VS 17.9

CentOS Stream 9
	Kernel: 5.4.0-167-generic
	Compiler: gcc 11.4.1 20230605

Debian 11 (arm)
	Kernel: Container Host Kernel
	Compiler: gcc 10.2.1

CentOS Stream 8
	Kernel: 5.4.0-167-generic
	Compiler: gcc 8.5.0 20210514

Debian Bullseye
	Kernel: 5.4.0-167-generic
	Compiler: gcc 10.2.1-6

Fedora 37
	Kernel: Depends on container host system
	Compiler: gcc 12.3.1

To view detailed results, visit:
https://lab.dpdk.org/results/dashboard/patchsets/29664/

UNH-IOL DPDK Community Lab

To manage your email subscriptions, visit: 
https://lab.dpdk.org/results/dashboard/preferences/subscriptions/