From mboxrd@z Thu Jan  1 00:00:00 1970
Return-Path: <test-report-bounces@dpdk.org>
Received: from mails.dpdk.org (mails.dpdk.org [217.70.189.124])
	by inbox.dpdk.org (Postfix) with ESMTP id ED38643CAA
	for <public@inbox.dpdk.org>; Wed, 27 Mar 2024 14:32:43 +0100 (CET)
Received: from mails.dpdk.org (localhost [127.0.0.1])
	by mails.dpdk.org (Postfix) with ESMTP id E6E7D402B2;
	Wed, 27 Mar 2024 14:32:43 +0100 (CET)
Received: from mail-pl1-f227.google.com (mail-pl1-f227.google.com
 [209.85.214.227])
 by mails.dpdk.org (Postfix) with ESMTP id A6B60402A3
 for <test-report@dpdk.org>; Wed, 27 Mar 2024 14:32:40 +0100 (CET)
Received: by mail-pl1-f227.google.com with SMTP id
 d9443c01a7336-1e0025ef1efso44683565ad.1
 for <test-report@dpdk.org>; Wed, 27 Mar 2024 06:32:40 -0700 (PDT)
DKIM-Signature: v=1; a=rsa-sha256; c=relaxed/relaxed;
 d=iol.unh.edu; s=unh-iol; t=1711546360; x=1712151160; darn=dpdk.org;
 h=references:in-reply-to:cc:to:from:subject:message-id:date:from:to
 :cc:subject:date:message-id:reply-to;
 bh=FeaCSTdG1jqAcp292AFnzA+mk3u12Rfw1nUjUCO+O54=;
 b=Ew2i9X0p/Guot3phx7oi3zH0d03BkUq0Q5xrXaXF94zoXGiMtpgn7BAOXb026m1tOC
 06vQsY+lHdZoHT+X+9kHgcXR5xj03B4vq40I53X1EeRmi9vE7sj1w3rNwF5Q1wZ694fl
 VaOuZ9yvCQcaguDI179xbrnDIKx9ceBavuYvU=
X-Google-DKIM-Signature: v=1; a=rsa-sha256; c=relaxed/relaxed;
 d=1e100.net; s=20230601; t=1711546360; x=1712151160;
 h=references:in-reply-to:cc:to:from:subject:message-id:date
 :x-gm-message-state:from:to:cc:subject:date:message-id:reply-to;
 bh=FeaCSTdG1jqAcp292AFnzA+mk3u12Rfw1nUjUCO+O54=;
 b=fL/B+U9gmhZJZ1Z8sEAOl7zYeYzb0disVnKZUt2d4aF7f7OEWuEwZVsMGDSuV89KL3
 Qlnhx3mw38sTlwW9TlP+3Tv6RMQL/xHRlc4lk2rDubecW6shrDI+k2kxEH+doSf1dc+t
 iHwLlAkxn0hE9RANUlAnCZU37ZH9QT06u1JSqyopykSLxZmrphufFC5CoQuzu4qpdozl
 QBMYYCdbJwQNMpHJ2IzuqEzZEAQCsUJRzWTJxwUf4IU9J4X6TDbCAkrYxwSXWtm5cL5Z
 PBZnU8iCL6n6JlcQKU7cOjm+7rx199Zsbs7W6bLhtsEvDsITOWbeVqnh3UZ/7FQ7nTI6
 w6Yg==
X-Gm-Message-State: AOJu0YxtuKxmzXJkqNwVcvdEmQ7N0LVxaClY6zybPwqfxrA3KVyMvJth
 03JI6A3G9+O67Yc5lw7z5npDgLmzo2VI3C4TcFNdJFPRt9Ub4E3fJ9R76OIUyM2ne0pCWdrwfGD
 I69RKPui64l05wlEMjeS+id6a1stcJo5v/hs8dVGJTHa8X8qXiZbog72U
X-Google-Smtp-Source: AGHT+IEd1P5hxGJ7H7Jq91eslT8NEyUUwV0SoHjg0senYFN8ikHrNhlQO+ldlpxgRXxladDiveMYvrDjftaO
X-Received: by 2002:a17:903:1207:b0:1dd:df6a:5e5f with SMTP id
 l7-20020a170903120700b001dddf6a5e5fmr4948323plh.10.1711546359830; 
 Wed, 27 Mar 2024 06:32:39 -0700 (PDT)
Received: from postal.iol.unh.edu (postal.iol.unh.edu.
 [2606:4100:3880:1234::84]) by smtp-relay.gmail.com with ESMTPS id
 mn4-20020a1709030a4400b001e0222ff26csm370509plb.63.2024.03.27.06.32.39
 (version=TLS1_2 cipher=ECDHE-ECDSA-AES128-GCM-SHA256 bits=128/128);
 Wed, 27 Mar 2024 06:32:39 -0700 (PDT)
X-Relaying-Domain: iol.unh.edu
Date: Wed, 27 Mar 2024 06:32:39 -0700 (PDT)
Message-ID: <66041ff7.170a0220.926dc.8c65SMTPIN_ADDED_MISSING@mx.google.com>
Received: from [172.21.0.6] (unknown [172.18.0.240])
 by postal.iol.unh.edu (Postfix) with ESMTP id EA23D6052471;
 Wed, 27 Mar 2024 09:32:38 -0400 (EDT)
Subject: |SUCCESS| pw138855 [PATCH] igc/ixgbe: add get/set link settings inte
From: dpdklab@iol.unh.edu
To: Test Report <test-report@dpdk.org>
Cc: dpdk-test-reports@iol.unh.edu
In-Reply-To: <20240326235909.25276-1-mpazdan@arista.com>
References: <20240326235909.25276-1-mpazdan@arista.com>
Content-Type: text/plain
X-BeenThere: test-report@dpdk.org
X-Mailman-Version: 2.1.29
Precedence: list
List-Id: automatic DPDK test reports <test-report.dpdk.org>
List-Unsubscribe: <https://mails.dpdk.org/options/test-report>,
 <mailto:test-report-request@dpdk.org?subject=unsubscribe>
List-Archive: <http://mails.dpdk.org/archives/test-report/>
List-Post: <mailto:test-report@dpdk.org>
List-Help: <mailto:test-report-request@dpdk.org?subject=help>
List-Subscribe: <https://mails.dpdk.org/listinfo/test-report>,
 <mailto:test-report-request@dpdk.org?subject=subscribe>
Errors-To: test-report-bounces@dpdk.org

Test-Label: iol-unit-arm64-testing
Test-Status: SUCCESS
http://dpdk.org/patch/138855

_Testing PASS_

Submitter: Marek Pazdan <mpazdan@arista.com>
Date: Tuesday, March 26 2024 23:59:07 
DPDK git baseline: Repo:dpdk
  Branch: master
  CommitID:ded4d4765171b88470e59307f10625e942f22fca

138855 --> testing pass

Test environment and result as below:

+-----------------------------+---------------------------+----------------+------------------------------+
|         Environment         | cryptodev_sw_zuc_autotest | dpdk_unit_test | cryptodev_sw_snow3g_autotest |
+=============================+===========================+================+==============================+
| Debian 12 (arm)             | PASS                      | SKIPPED        | PASS                         |
+-----------------------------+---------------------------+----------------+------------------------------+
| 32-bit Ubuntu 20.04.4 (ARM) | SKIPPED                   | PASS           | SKIPPED                      |
+-----------------------------+---------------------------+----------------+------------------------------+
| Debian 11 (Buster) (ARM)    | SKIPPED                   | PASS           | SKIPPED                      |
+-----------------------------+---------------------------+----------------+------------------------------+
| CentOS Stream 9 (ARM)       | SKIPPED                   | PASS           | SKIPPED                      |
+-----------------------------+---------------------------+----------------+------------------------------+


Debian 12 (arm)
	Kernel: Container Host Kernel
	Compiler: gcc 12.2.0

32-bit Ubuntu 20.04.4 (ARM)
	Kernel: 5.4.0-155-generic aarch64
	Compiler: gcc 9.4

Debian 11 (Buster) (ARM)
	Kernel: Container Host Kernel
	Compiler: gcc 10.2.1

CentOS Stream 9 (ARM)
	Kernel: Container Host Kernel
	Compiler: gcc 11.4.1

To view detailed results, visit:
https://lab.dpdk.org/results/dashboard/patchsets/29665/

UNH-IOL DPDK Community Lab

To manage your email subscriptions, visit: 
https://lab.dpdk.org/results/dashboard/preferences/subscriptions/