From mboxrd@z Thu Jan  1 00:00:00 1970
Return-Path: <test-report-bounces@dpdk.org>
Received: from mails.dpdk.org (mails.dpdk.org [217.70.189.124])
	by inbox.dpdk.org (Postfix) with ESMTP id 8DD5643CF0
	for <public@inbox.dpdk.org>; Wed, 27 Mar 2024 14:49:44 +0100 (CET)
Received: from mails.dpdk.org (localhost [127.0.0.1])
	by mails.dpdk.org (Postfix) with ESMTP id 89E29402B2;
	Wed, 27 Mar 2024 14:49:44 +0100 (CET)
Received: from mail-qv1-f98.google.com (mail-qv1-f98.google.com
 [209.85.219.98]) by mails.dpdk.org (Postfix) with ESMTP id 02383402B2
 for <test-report@dpdk.org>; Wed, 27 Mar 2024 14:49:43 +0100 (CET)
Received: by mail-qv1-f98.google.com with SMTP id
 6a1803df08f44-690d7a8f904so7462036d6.1
 for <test-report@dpdk.org>; Wed, 27 Mar 2024 06:49:42 -0700 (PDT)
DKIM-Signature: v=1; a=rsa-sha256; c=relaxed/relaxed;
 d=iol.unh.edu; s=unh-iol; t=1711547382; x=1712152182; darn=dpdk.org;
 h=references:in-reply-to:cc:to:from:subject:message-id:date:from:to
 :cc:subject:date:message-id:reply-to;
 bh=FSQL9d8vn8XVQ7lK2mcpWTF1pYNpi/HGPbhzjl4FW6c=;
 b=bBLIwiONghQq1vK870yOGtR2nMm+EYWbWrZWLLj0ZC7FkwS4CdmtnSKmXF/R0M34cv
 8H+Pl4LnsdkI6xQwmbcPja/W1cAQsLapqqqNRY/E08X/ZB/EMplNUZyaMZ0OGmn/RkZO
 /zFGdEWwg5OuzKgkxwiewyHOeKVtsi29nDn04=
X-Google-DKIM-Signature: v=1; a=rsa-sha256; c=relaxed/relaxed;
 d=1e100.net; s=20230601; t=1711547382; x=1712152182;
 h=references:in-reply-to:cc:to:from:subject:message-id:date
 :x-gm-message-state:from:to:cc:subject:date:message-id:reply-to;
 bh=FSQL9d8vn8XVQ7lK2mcpWTF1pYNpi/HGPbhzjl4FW6c=;
 b=HbojawbQkkBOiv8/+W6BVYLiXcdzz3o1J3gJ/l1yHU0HWtDpkBs4JDZiD637/HFkVC
 /tVfdSlgtJcClKYwTowmyg8GrS7UfizqbPgQHLE6hl+QMHEHLzL9R98T2Ugo9uThtfEd
 E+APXmc6N7GMhBbtInBhVO4v8XmumzaU7X7DYaVfmCbXHHRL5a+NB3e6FKxnzSz24/i3
 7CXOnfaJRGleHr//8+jruAXgSFv0X9yBb2Lzl3wO8ECFSWS+94huikyyNaW7uYAPFyU9
 OO/1E8ZMvfXZInfk7kIFBhfxNP8QC9gRymUAc74bdwLKknDFMqiseaNvwKzG0nb6udsA
 b6gg==
X-Gm-Message-State: AOJu0YyhbfPgXs05wSUmtcYDvmd5mRjPNZzdgxfiy/5NFZKhDXllHY5Q
 m9iaK8VEDr9rQSG7Y4fhB5J3SKBJaQbs6lZZQ4KRwG4taV16cSbFobSB9rsUx8XEhbhK0S7KqV+
 KRyKSxTKRxM3VCLNsZbbLVfQ3bwq0bvcJSMFvVDqt
X-Google-Smtp-Source: AGHT+IEI1KlxixzpNQ5zMrr+/ng7qtV8IswdNSmKevoLEHZV53LTM23/6na0ALQ7uqs59w9fnpAmQNbxuymT
X-Received: by 2002:a05:6214:e49:b0:696:a330:ce5 with SMTP id
 o9-20020a0562140e4900b00696a3300ce5mr7472978qvc.20.1711547382393; 
 Wed, 27 Mar 2024 06:49:42 -0700 (PDT)
Received: from postal.iol.unh.edu (postal.iol.unh.edu. [132.177.123.84])
 by smtp-relay.gmail.com with ESMTPS id
 q3-20020ad45ca3000000b00696147263c0sm419225qvh.4.2024.03.27.06.49.42
 (version=TLS1_2 cipher=ECDHE-ECDSA-AES128-GCM-SHA256 bits=128/128);
 Wed, 27 Mar 2024 06:49:42 -0700 (PDT)
X-Relaying-Domain: iol.unh.edu
Date: Wed, 27 Mar 2024 06:49:42 -0700 (PDT)
Message-ID: <660423f6.d40a0220.cdf6f.5687SMTPIN_ADDED_MISSING@mx.google.com>
Received: from [172.21.0.6] (unknown [172.18.0.240])
 by postal.iol.unh.edu (Postfix) with ESMTP id 193FD6052471;
 Wed, 27 Mar 2024 09:49:42 -0400 (EDT)
Subject: |SUCCESS| pw138851-138854 [PATCH] [4/4] net/virtio: fix shadow contr
From: dpdklab@iol.unh.edu
To: Test Report <test-report@dpdk.org>
Cc: dpdk-test-reports@iol.unh.edu
In-Reply-To: <20240327094032.2400951-5-maxime.coquelin@redhat.com>
References: <20240327094032.2400951-5-maxime.coquelin@redhat.com>
Content-Type: text/plain
X-BeenThere: test-report@dpdk.org
X-Mailman-Version: 2.1.29
Precedence: list
List-Id: automatic DPDK test reports <test-report.dpdk.org>
List-Unsubscribe: <https://mails.dpdk.org/options/test-report>,
 <mailto:test-report-request@dpdk.org?subject=unsubscribe>
List-Archive: <http://mails.dpdk.org/archives/test-report/>
List-Post: <mailto:test-report@dpdk.org>
List-Help: <mailto:test-report-request@dpdk.org?subject=help>
List-Subscribe: <https://mails.dpdk.org/listinfo/test-report>,
 <mailto:test-report-request@dpdk.org?subject=subscribe>
Errors-To: test-report-bounces@dpdk.org

Test-Label: iol-unit-amd64-testing
Test-Status: SUCCESS
http://dpdk.org/patch/138854

_Testing PASS_

Submitter: Maxime Coquelin <maxime.coquelin@redhat.com>
Date: Wednesday, March 27 2024 09:40:32 
DPDK git baseline: Repo:dpdk
  Branch: master
  CommitID:ded4d4765171b88470e59307f10625e942f22fca

138851-138854 --> testing pass

Test environment and result as below:

+---------------------+----------------+
|     Environment     | dpdk_unit_test |
+=====================+================+
| Windows Server 2019 | PASS           |
+---------------------+----------------+
| Windows Server 2022 | PASS           |
+---------------------+----------------+
| CentOS Stream 9     | PASS           |
+---------------------+----------------+
| Debian 11 (arm)     | PASS           |
+---------------------+----------------+
| CentOS Stream 8     | PASS           |
+---------------------+----------------+
| Debian Bullseye     | PASS           |
+---------------------+----------------+
| Fedora 37           | PASS           |
+---------------------+----------------+
| Fedora 38           | PASS           |
+---------------------+----------------+
| Fedora 39           | PASS           |
+---------------------+----------------+
| openSUSE Leap 15    | PASS           |
+---------------------+----------------+
| Ubuntu 20.04        | PASS           |
+---------------------+----------------+
| RHEL8               | PASS           |
+---------------------+----------------+


Windows Server 2019
	Kernel: 10.0.17763
	Compiler: clang 14.0 and gcc 8.1.0 (MinGW)

Windows Server 2022
	Kernel: 10.0.20348.2031
	Compiler: clang 15.0.7, gcc 8.1.0 (MinGW), and MSVC VS 17.9

CentOS Stream 9
	Kernel: 5.4.0-167-generic
	Compiler: gcc 11.4.1 20230605

Debian 11 (arm)
	Kernel: Container Host Kernel
	Compiler: gcc 10.2.1

CentOS Stream 8
	Kernel: 5.4.0-167-generic
	Compiler: gcc 8.5.0 20210514

Debian Bullseye
	Kernel: 5.4.0-167-generic
	Compiler: gcc 10.2.1-6

Fedora 37
	Kernel: Depends on container host system
	Compiler: gcc 12.3.1

Fedora 38
	Kernel: Depends on container host
	Compiler: gcc 13.2.1

Fedora 39
	Kernel: Depends on container host
	Compiler: gcc 13.2.1

openSUSE Leap 15
	Kernel: 5.4.0-167-generic
	Compiler: gcc 7.5.0

Ubuntu 20.04
	Kernel: 5.4.0-167-generic
	Compiler: gcc 9.4.0-1ubuntu1~20.04.1

RHEL8
	Kernel: 5.4.0-167-generic
	Compiler: gcc 8.5.0 20210514 (Red Hat 8.5.0-20)

To view detailed results, visit:
https://lab.dpdk.org/results/dashboard/patchsets/29664/

UNH-IOL DPDK Community Lab

To manage your email subscriptions, visit: 
https://lab.dpdk.org/results/dashboard/preferences/subscriptions/