From mboxrd@z Thu Jan  1 00:00:00 1970
Return-Path: <test-report-bounces@dpdk.org>
Received: from mails.dpdk.org (mails.dpdk.org [217.70.189.124])
	by inbox.dpdk.org (Postfix) with ESMTP id 3CBA043D5B
	for <public@inbox.dpdk.org>; Wed, 27 Mar 2024 15:03:17 +0100 (CET)
Received: from mails.dpdk.org (localhost [127.0.0.1])
	by mails.dpdk.org (Postfix) with ESMTP id 37C0B402CE;
	Wed, 27 Mar 2024 15:03:17 +0100 (CET)
Received: from mail-qv1-f98.google.com (mail-qv1-f98.google.com
 [209.85.219.98]) by mails.dpdk.org (Postfix) with ESMTP id 2E4FF402C0
 for <test-report@dpdk.org>; Wed, 27 Mar 2024 15:03:16 +0100 (CET)
Received: by mail-qv1-f98.google.com with SMTP id
 6a1803df08f44-690fed6816fso41977036d6.1
 for <test-report@dpdk.org>; Wed, 27 Mar 2024 07:03:16 -0700 (PDT)
DKIM-Signature: v=1; a=rsa-sha256; c=relaxed/relaxed;
 d=iol.unh.edu; s=unh-iol; t=1711548195; x=1712152995; darn=dpdk.org;
 h=references:in-reply-to:cc:to:from:subject:message-id:date:from:to
 :cc:subject:date:message-id:reply-to;
 bh=b2shZXfpGdS8FnOtUB6HpAuKxkKO5RbkKNbdjuCmKWg=;
 b=Its+rYEhZM7ytxR0JCBOHfsVWE3/RPH/+WJCEzS41eaNp0QpfU7ACqwUN1zTJ4za7g
 xSwigBOIzlgWm0p/23yW48XtTY3m0DwxhgIeYHmWWwB9dcU+oV4i67CSMrjmfNxVywHO
 MAvP/NHMhx8LQVRVKKuuWBC8d8e1fIS6iMg5M=
X-Google-DKIM-Signature: v=1; a=rsa-sha256; c=relaxed/relaxed;
 d=1e100.net; s=20230601; t=1711548195; x=1712152995;
 h=references:in-reply-to:cc:to:from:subject:message-id:date
 :x-gm-message-state:from:to:cc:subject:date:message-id:reply-to;
 bh=b2shZXfpGdS8FnOtUB6HpAuKxkKO5RbkKNbdjuCmKWg=;
 b=P1ud6kGMgAZipuN5s60DATeAbSZrkRY2ZUMJJxCRuIogabNKFtETQXsuX7C17Vw8oz
 V8UD1TDqQeOQyDTQpAQlE/VQdM5ulpr6aalyaZHiNqSvWi5vHda/OMiDOgK/rZo9TDxI
 yRYQ9gTgGBPbn/1EJFcnwft1EftH1l2oRycSlRJ1R069H4LX0auNjgAPsj0QtTU8pS66
 SM/RRwEo4CVA1rNsb01XGVN+6Z51jMTuNUgLMAOJnH5mBvueDOrnKKsrDxR7v/gFbMWS
 snPPJyIq1ZDBuEKDguKJKKoahavr0Ijsg53Ke1uN9YW6De8M70KLSEz7SFOxDeZoVxyQ
 sQbQ==
X-Gm-Message-State: AOJu0Yw0T3w+y60G+K5mmuy947iWXMAwAXopHUjV/ZVu9UTEVFGnp36g
 QU/qJbSgSnn0hVvIY7tqhTyRDZGa1q7GspzrEBS/Hjp8JqLLl/25I6RD/SwcKHojQtpIFJ+K9Gl
 nVTiDjcpa5VTVK7FdQm/Unb9wEbnaTP0NZr4ndDkNOICL8GySwLZl/biU
X-Google-Smtp-Source: AGHT+IEtkMJVv9HayGGs7er+q7Qw6sToG3WHv/3mKBcKu8UvAcU1TDg/4E2VGp5I4IpgRq9SrI85c2BlHsah
X-Received: by 2002:a05:6214:212f:b0:696:7978:d308 with SMTP id
 r15-20020a056214212f00b006967978d308mr7811415qvc.13.1711548195554; 
 Wed, 27 Mar 2024 07:03:15 -0700 (PDT)
Received: from postal.iol.unh.edu (postal.iol.unh.edu.
 [2606:4100:3880:1234::84]) by smtp-relay.gmail.com with ESMTPS id
 h16-20020a0cf8d0000000b00696964371f6sm453184qvo.51.2024.03.27.07.03.15
 (version=TLS1_2 cipher=ECDHE-ECDSA-AES128-GCM-SHA256 bits=128/128);
 Wed, 27 Mar 2024 07:03:15 -0700 (PDT)
X-Relaying-Domain: iol.unh.edu
Date: Wed, 27 Mar 2024 07:03:15 -0700 (PDT)
Message-ID: <66042723.0c0a0220.3c33c.7825SMTPIN_ADDED_MISSING@mx.google.com>
Received: from [172.21.0.6] (unknown [172.18.0.240])
 by postal.iol.unh.edu (Postfix) with ESMTP id 4338C6052471;
 Wed, 27 Mar 2024 10:03:15 -0400 (EDT)
Subject: |SUCCESS| pw138855 [PATCH] igc/ixgbe: add get/set link settings inte
From: dpdklab@iol.unh.edu
To: Test Report <test-report@dpdk.org>
Cc: dpdk-test-reports@iol.unh.edu
In-Reply-To: <20240326235909.25276-1-mpazdan@arista.com>
References: <20240326235909.25276-1-mpazdan@arista.com>
Content-Type: text/plain
X-BeenThere: test-report@dpdk.org
X-Mailman-Version: 2.1.29
Precedence: list
List-Id: automatic DPDK test reports <test-report.dpdk.org>
List-Unsubscribe: <https://mails.dpdk.org/options/test-report>,
 <mailto:test-report-request@dpdk.org?subject=unsubscribe>
List-Archive: <http://mails.dpdk.org/archives/test-report/>
List-Post: <mailto:test-report@dpdk.org>
List-Help: <mailto:test-report-request@dpdk.org?subject=help>
List-Subscribe: <https://mails.dpdk.org/listinfo/test-report>,
 <mailto:test-report-request@dpdk.org?subject=subscribe>
Errors-To: test-report-bounces@dpdk.org

Test-Label: iol-compile-amd64-testing
Test-Status: SUCCESS
http://dpdk.org/patch/138855

_Testing PASS_

Submitter: Marek Pazdan <mpazdan@arista.com>
Date: Tuesday, March 26 2024 23:59:07 
DPDK git baseline: Repo:dpdk
  Branch: master
  CommitID:ded4d4765171b88470e59307f10625e942f22fca

138855 --> testing pass

Test environment and result as below:

+---------------------+--------------------+-------------------+----------------------+
|     Environment     | dpdk_meson_compile | dpdk_msvc_compile | dpdk_mingw64_compile |
+=====================+====================+===================+======================+
| FreeBSD 13.2        | PASS               | SKIPPED           | SKIPPED              |
+---------------------+--------------------+-------------------+----------------------+
| Windows Server 2019 | PASS               | SKIPPED           | PASS                 |
+---------------------+--------------------+-------------------+----------------------+
| Windows Server 2022 | PASS               | PASS              | PASS                 |
+---------------------+--------------------+-------------------+----------------------+
| CentOS Stream 9     | PASS               | SKIPPED           | SKIPPED              |
+---------------------+--------------------+-------------------+----------------------+
| Debian Bullseye     | PASS               | SKIPPED           | SKIPPED              |
+---------------------+--------------------+-------------------+----------------------+
| Fedora 37           | PASS               | SKIPPED           | SKIPPED              |
+---------------------+--------------------+-------------------+----------------------+
| Fedora 38           | PASS               | SKIPPED           | SKIPPED              |
+---------------------+--------------------+-------------------+----------------------+
| CentOS Stream 8     | PASS               | SKIPPED           | SKIPPED              |
+---------------------+--------------------+-------------------+----------------------+
| Debian 11 (arm)     | PASS               | SKIPPED           | SKIPPED              |
+---------------------+--------------------+-------------------+----------------------+
| Fedora 39           | PASS               | SKIPPED           | SKIPPED              |
+---------------------+--------------------+-------------------+----------------------+
| Ubuntu 20.04        | PASS               | SKIPPED           | SKIPPED              |
+---------------------+--------------------+-------------------+----------------------+
| openSUSE Leap 15    | PASS               | SKIPPED           | SKIPPED              |
+---------------------+--------------------+-------------------+----------------------+
| RHEL8               | PASS               | SKIPPED           | SKIPPED              |
+---------------------+--------------------+-------------------+----------------------+


FreeBSD 13.2
	Kernel: 13.2
	Compiler: clang 14.0.5

Windows Server 2019
	Kernel: 10.0.17763
	Compiler: clang 14.0 and gcc 8.1.0 (MinGW)

Windows Server 2022
	Kernel: 10.0.20348.2031
	Compiler: clang 15.0.7, gcc 8.1.0 (MinGW), and MSVC VS 17.9

CentOS Stream 9
	Kernel: 5.4.0-167-generic
	Compiler: gcc 11.4.1 20230605

Debian Bullseye
	Kernel: 5.4.0-167-generic
	Compiler: gcc 10.2.1-6

Fedora 37
	Kernel: Depends on container host system
	Compiler: gcc 12.3.1

Fedora 38
	Kernel: Depends on container host
	Compiler: gcc 13.2.1

CentOS Stream 8
	Kernel: 5.4.0-167-generic
	Compiler: gcc 8.5.0 20210514

Debian 11 (arm)
	Kernel: Container Host Kernel
	Compiler: gcc 10.2.1

Fedora 39
	Kernel: Depends on container host
	Compiler: clang 17.0.6

Ubuntu 20.04
	Kernel: 5.4.0-167-generic
	Compiler: gcc 9.4.0-1ubuntu1~20.04.1

openSUSE Leap 15
	Kernel: 5.4.0-167-generic
	Compiler: gcc 7.5.0

RHEL8
	Kernel: 5.4.0-167-generic
	Compiler: gcc 8.5.0 20210514 (Red Hat 8.5.0-20)

To view detailed results, visit:
https://lab.dpdk.org/results/dashboard/patchsets/29665/

UNH-IOL DPDK Community Lab

To manage your email subscriptions, visit: 
https://lab.dpdk.org/results/dashboard/preferences/subscriptions/