From mboxrd@z Thu Jan  1 00:00:00 1970
Return-Path: <test-report-bounces@dpdk.org>
Received: from mails.dpdk.org (mails.dpdk.org [217.70.189.124])
	by inbox.dpdk.org (Postfix) with ESMTP id 8463043D55
	for <public@inbox.dpdk.org>; Wed, 27 Mar 2024 15:11:05 +0100 (CET)
Received: from mails.dpdk.org (localhost [127.0.0.1])
	by mails.dpdk.org (Postfix) with ESMTP id 7BE00402CE;
	Wed, 27 Mar 2024 15:11:05 +0100 (CET)
Received: from mail-io1-f99.google.com (mail-io1-f99.google.com
 [209.85.166.99]) by mails.dpdk.org (Postfix) with ESMTP id 3B6E0402C0
 for <test-report@dpdk.org>; Wed, 27 Mar 2024 15:11:04 +0100 (CET)
Received: by mail-io1-f99.google.com with SMTP id
 ca18e2360f4ac-7c8dd755793so129585639f.0
 for <test-report@dpdk.org>; Wed, 27 Mar 2024 07:11:04 -0700 (PDT)
DKIM-Signature: v=1; a=rsa-sha256; c=relaxed/relaxed;
 d=iol.unh.edu; s=unh-iol; t=1711548663; x=1712153463; darn=dpdk.org;
 h=references:in-reply-to:cc:to:from:subject:message-id:date:from:to
 :cc:subject:date:message-id:reply-to;
 bh=ar6uzKd02SWCw8dga7Nq51i5oZ2vMr3pTWoOQfuuJUc=;
 b=NcDebyCKpvOSsUzhWVOSoOEgQSZa6RFT3YPAWpH32B0XWfipF/aKWjQaiYflCOgcoD
 ez6U6jGj/VHhM6C8Q8Msa9OCS8hu2lSqe775W+lIzbnR3/MJ3wLJhqRGY+RXXdWy5/hd
 hU2YTYtb0TLkeEiM2jikFSyVKtcIfmc/2ZmXI=
X-Google-DKIM-Signature: v=1; a=rsa-sha256; c=relaxed/relaxed;
 d=1e100.net; s=20230601; t=1711548663; x=1712153463;
 h=references:in-reply-to:cc:to:from:subject:message-id:date
 :x-gm-message-state:from:to:cc:subject:date:message-id:reply-to;
 bh=ar6uzKd02SWCw8dga7Nq51i5oZ2vMr3pTWoOQfuuJUc=;
 b=j475HeTl1n8ZnAOgEXVMV8oMMjXzJfHE4evOHOaUgnaprEiKkl05Sfmnr44HBCK5th
 5u8Otxt51lqxhLcNAQWXBtneYLiCb7t5+57xrtfcrXLz4QyZ1tT6FUWodETO9UWWFVL3
 4Ck9RsRAs0lUfQ6n8YNThco0Gbmo6iBYXRi//eV8LOpkXGdzIXQ4LNbp3cl4oQEKhFN8
 zvp/M3GmecJRpHT5JNylSlsKmJyY7s9vnXoNUj7+Ye2gMYR+B1Ii/S/gxbrctRH00eDy
 pJSH9gsQtxDc5eWvxEtsNJivrMes1oPFWFsiDvhMwmBgEFrtcQYEZxRlJhe4mmxLOWhS
 Bl/g==
X-Gm-Message-State: AOJu0Ywqll/NtpIPnrcIAu39ow1qgq/yDo+1GzypmYvB8XYafQGMz6P6
 3emOJdDjeIw8MA6VdLT7glXjccLtDAOgde8uCrhsIqC9Vu/1NgSd3KO5yIHbsm/bvn4MXKhiNGD
 5RoLGycBorGbbOkGFhXwmLTs4JOKtLFcTcjsxYz4599/5I1wx/iMb9Erc
X-Google-Smtp-Source: AGHT+IGyFXiACd8UXXimp9QGD+zUZeC229lTIAAOqgq/MizLrHx8zxIH0Pc5inm0g2Sreg7aVV70CiAabLte
X-Received: by 2002:a5e:8c15:0:b0:7d0:5347:1584 with SMTP id
 n21-20020a5e8c15000000b007d053471584mr172328ioj.3.1711548662944; 
 Wed, 27 Mar 2024 07:11:02 -0700 (PDT)
Received: from postal.iol.unh.edu (postal.iol.unh.edu.
 [2606:4100:3880:1234::84]) by smtp-relay.gmail.com with ESMTPS id
 hj8-20020a0566021d8800b007c8d3d2d134sm524289iob.27.2024.03.27.07.11.02
 (version=TLS1_2 cipher=ECDHE-ECDSA-AES128-GCM-SHA256 bits=128/128);
 Wed, 27 Mar 2024 07:11:02 -0700 (PDT)
X-Relaying-Domain: iol.unh.edu
Date: Wed, 27 Mar 2024 07:11:02 -0700 (PDT)
Message-ID: <660428f6.050a0220.35ea9.b055SMTPIN_ADDED_MISSING@mx.google.com>
Received: from [172.17.0.7] (unknown [172.18.0.217])
 by postal.iol.unh.edu (Postfix) with ESMTP id 57DA76052471;
 Wed, 27 Mar 2024 10:11:02 -0400 (EDT)
Subject: |SUCCESS| pw138855 [PATCH] igc/ixgbe: add get/set link settings inte
From: dpdklab@iol.unh.edu
To: Test Report <test-report@dpdk.org>
Cc: dpdk-test-reports@iol.unh.edu
In-Reply-To: <20240326235909.25276-1-mpazdan@arista.com>
References: <20240326235909.25276-1-mpazdan@arista.com>
Content-Type: text/plain
X-BeenThere: test-report@dpdk.org
X-Mailman-Version: 2.1.29
Precedence: list
List-Id: automatic DPDK test reports <test-report.dpdk.org>
List-Unsubscribe: <https://mails.dpdk.org/options/test-report>,
 <mailto:test-report-request@dpdk.org?subject=unsubscribe>
List-Archive: <http://mails.dpdk.org/archives/test-report/>
List-Post: <mailto:test-report@dpdk.org>
List-Help: <mailto:test-report-request@dpdk.org?subject=help>
List-Subscribe: <https://mails.dpdk.org/listinfo/test-report>,
 <mailto:test-report-request@dpdk.org?subject=subscribe>
Errors-To: test-report-bounces@dpdk.org

Test-Label: iol-compile-arm64-testing
Test-Status: SUCCESS
http://dpdk.org/patch/138855

_Testing PASS_

Submitter: Marek Pazdan <mpazdan@arista.com>
Date: Tuesday, March 26 2024 23:59:07 
DPDK git baseline: Repo:dpdk
  Branch: master
  CommitID:ded4d4765171b88470e59307f10625e942f22fca

138855 --> testing pass

Test environment and result as below:

+----------------------------------------+--------------------+
|              Environment               | dpdk_meson_compile |
+========================================+====================+
| Ubuntu 20.04 ARM SVE                   | PASS               |
+----------------------------------------+--------------------+
| Debian 12 with MUSDK                   | PASS               |
+----------------------------------------+--------------------+
| Fedora 37 (ARM)                        | PASS               |
+----------------------------------------+--------------------+
| Ubuntu 20.04 ARM GCC Cross Compile     | PASS               |
+----------------------------------------+--------------------+
| Debian 11 (Buster) (ARM)               | PASS               |
+----------------------------------------+--------------------+
| Debian 12 (arm)                        | PASS               |
+----------------------------------------+--------------------+
| Ubuntu 20.04 aarch32 GCC Cross Compile | PASS               |
+----------------------------------------+--------------------+


Ubuntu 20.04 ARM SVE
	Kernel: 5.4.0-167-generic
	Compiler: gcc (Ubuntu 10.5.0-1ubuntu1~20.04) 10.5.0

Debian 12 with MUSDK
	Kernel: Container Host Kernel
	Compiler: gcc 12.2.0

Fedora 37 (ARM)
	Kernel: Depends on container host
	Compiler: gcc 12.3.1

Ubuntu 20.04 ARM GCC Cross Compile
	Kernel: 5.4.0-167-generic
	Compiler: aarch64-linux-gnu-gcc (Ubuntu 9.4.0-1ubuntu1~20.04.2) 9.4.0

Debian 11 (Buster) (ARM)
	Kernel: Container Host Kernel
	Compiler: gcc 10.2.1

Debian 12 (arm)
	Kernel: Container Host Kernel
	Compiler: gcc 12.2.0

Ubuntu 20.04 aarch32 GCC Cross Compile
	Kernel: 5.4.0-167-generic
	Compiler: gcc 9.4.0

To view detailed results, visit:
https://lab.dpdk.org/results/dashboard/patchsets/29665/

UNH-IOL DPDK Community Lab

To manage your email subscriptions, visit: 
https://lab.dpdk.org/results/dashboard/preferences/subscriptions/