From mboxrd@z Thu Jan  1 00:00:00 1970
Return-Path: <test-report-bounces@dpdk.org>
Received: from mails.dpdk.org (mails.dpdk.org [217.70.189.124])
	by inbox.dpdk.org (Postfix) with ESMTP id 0813A43D55
	for <public@inbox.dpdk.org>; Wed, 27 Mar 2024 15:13:32 +0100 (CET)
Received: from mails.dpdk.org (localhost [127.0.0.1])
	by mails.dpdk.org (Postfix) with ESMTP id F241E402C0;
	Wed, 27 Mar 2024 15:13:31 +0100 (CET)
Received: from mail-pj1-f97.google.com (mail-pj1-f97.google.com
 [209.85.216.97]) by mails.dpdk.org (Postfix) with ESMTP id 80D65402A3
 for <test-report@dpdk.org>; Wed, 27 Mar 2024 15:13:30 +0100 (CET)
Received: by mail-pj1-f97.google.com with SMTP id
 98e67ed59e1d1-2a02c4dffd2so5012609a91.0
 for <test-report@dpdk.org>; Wed, 27 Mar 2024 07:13:30 -0700 (PDT)
DKIM-Signature: v=1; a=rsa-sha256; c=relaxed/relaxed;
 d=iol.unh.edu; s=unh-iol; t=1711548809; x=1712153609; darn=dpdk.org;
 h=references:in-reply-to:cc:to:from:subject:message-id:date:from:to
 :cc:subject:date:message-id:reply-to;
 bh=CGwQilABDr3rjJGxBle2oIcCthMfCR3BbZM0EWdvmzw=;
 b=dEsDeQJ6K9xHI5Odzzd7zYV7fZj8Zd2VMKyFj575khytJ3OeMefxfc+Zes4IyQaugr
 Eia93PKedqt62+Xwo7reC24fpvSoCjdmFnyDudrOg2hPiLHwOPnGTpo4o19/Rj2RHAfk
 9kVMKDOljK5xrDGd/RQIlARX1jOC1QdGilVLM=
X-Google-DKIM-Signature: v=1; a=rsa-sha256; c=relaxed/relaxed;
 d=1e100.net; s=20230601; t=1711548809; x=1712153609;
 h=references:in-reply-to:cc:to:from:subject:message-id:date
 :x-gm-message-state:from:to:cc:subject:date:message-id:reply-to;
 bh=CGwQilABDr3rjJGxBle2oIcCthMfCR3BbZM0EWdvmzw=;
 b=Oj7vsSUMl7BmkkFwMZvhCONUbkHEtBJ6aY/G8jbYckqKr+9YDei7Vd6vkLbCFCUnm4
 bnCndriKBXCsEpslSYh2/GSX/tBEISD76c5lJEIJgjFMYZOfrAo2aUMlS2i5KBy8e3b3
 wSdeQyg4V3Jl3Nbedyqo9VVrFc3mQP1zUgrrsRwLruGUCGS+k8mWi+/AQl4XRFxHD8GB
 u63shR+NiA4rpMDBEFrIpPhdCqztQY90eQaiYiM3Ca5DVZXbKxAShAEXZNhEsDxv4bbV
 xfzP1UFmYicCiSKq0rJOOtPWUSskf8jxXcgAsBzo6s7G+uw4yiTIx+uhV0IetV2rL48m
 bUaA==
X-Gm-Message-State: AOJu0YwRt6MEbAE9pWcz0d4ktSgNDKPCrFXdzTMxHFk1xD5FcaADgTqm
 IqYoB9OcpsVg/TUwP29wcfLnPiYVG7eVP4Ro4P7nkrhQT6WPxvPoug9HNp1ht6msKDdBcIpa9V2
 FWvV3uC12Zj3YWsG5dwqabAmDK1TaeiT1qVIc8Ybn
X-Google-Smtp-Source: AGHT+IH16xyd0N5SaEi++4vBOx42lokGqWiFesrMrQsCgDB0/aRYtX7CIwzDC+5JAayDyYv0hnKzp2O3wB/9
X-Received: by 2002:a17:90b:33c3:b0:2a0:3feb:9b0d with SMTP id
 lk3-20020a17090b33c300b002a03feb9b0dmr2860186pjb.41.1711548809689; 
 Wed, 27 Mar 2024 07:13:29 -0700 (PDT)
Received: from postal.iol.unh.edu (postal.iol.unh.edu. [132.177.123.84])
 by smtp-relay.gmail.com with ESMTPS id
 n9-20020a17090a928900b002a08f31c204sm163691pjo.6.2024.03.27.07.13.29
 (version=TLS1_2 cipher=ECDHE-ECDSA-AES128-GCM-SHA256 bits=128/128);
 Wed, 27 Mar 2024 07:13:29 -0700 (PDT)
X-Relaying-Domain: iol.unh.edu
Date: Wed, 27 Mar 2024 07:13:29 -0700 (PDT)
Message-ID: <66042989.170a0220.ab1c5.70abSMTPIN_ADDED_MISSING@mx.google.com>
Received: from [172.17.0.7] (unknown [172.18.0.217])
 by postal.iol.unh.edu (Postfix) with ESMTP id 276AB6052471;
 Wed, 27 Mar 2024 10:13:29 -0400 (EDT)
Subject: |SUCCESS| pw138855 [PATCH] igc/ixgbe: add get/set link settings inte
From: dpdklab@iol.unh.edu
To: Test Report <test-report@dpdk.org>
Cc: dpdk-test-reports@iol.unh.edu
In-Reply-To: <20240326235909.25276-1-mpazdan@arista.com>
References: <20240326235909.25276-1-mpazdan@arista.com>
Content-Type: text/plain
X-BeenThere: test-report@dpdk.org
X-Mailman-Version: 2.1.29
Precedence: list
List-Id: automatic DPDK test reports <test-report.dpdk.org>
List-Unsubscribe: <https://mails.dpdk.org/options/test-report>,
 <mailto:test-report-request@dpdk.org?subject=unsubscribe>
List-Archive: <http://mails.dpdk.org/archives/test-report/>
List-Post: <mailto:test-report@dpdk.org>
List-Help: <mailto:test-report-request@dpdk.org?subject=help>
List-Subscribe: <https://mails.dpdk.org/listinfo/test-report>,
 <mailto:test-report-request@dpdk.org?subject=subscribe>
Errors-To: test-report-bounces@dpdk.org

Test-Label: iol-unit-amd64-testing
Test-Status: SUCCESS
http://dpdk.org/patch/138855

_Testing PASS_

Submitter: Marek Pazdan <mpazdan@arista.com>
Date: Tuesday, March 26 2024 23:59:07 
DPDK git baseline: Repo:dpdk
  Branch: master
  CommitID:ded4d4765171b88470e59307f10625e942f22fca

138855 --> testing pass

Test environment and result as below:

+---------------------+----------------+
|     Environment     | dpdk_unit_test |
+=====================+================+
| Windows Server 2019 | PASS           |
+---------------------+----------------+
| Windows Server 2022 | PASS           |
+---------------------+----------------+
| CentOS Stream 8     | PASS           |
+---------------------+----------------+
| Debian 11 (arm)     | PASS           |
+---------------------+----------------+
| Debian Bullseye     | PASS           |
+---------------------+----------------+
| Fedora 37           | PASS           |
+---------------------+----------------+
| CentOS Stream 9     | PASS           |
+---------------------+----------------+
| Fedora 39           | PASS           |
+---------------------+----------------+
| Fedora 38           | PASS           |
+---------------------+----------------+


Windows Server 2019
	Kernel: 10.0.17763
	Compiler: clang 14.0 and gcc 8.1.0 (MinGW)

Windows Server 2022
	Kernel: 10.0.20348.2031
	Compiler: clang 15.0.7, gcc 8.1.0 (MinGW), and MSVC VS 17.9

CentOS Stream 8
	Kernel: 5.4.0-167-generic
	Compiler: gcc 8.5.0 20210514

Debian 11 (arm)
	Kernel: Container Host Kernel
	Compiler: gcc 10.2.1

Debian Bullseye
	Kernel: 5.4.0-167-generic
	Compiler: gcc 10.2.1-6

Fedora 37
	Kernel: Depends on container host system
	Compiler: gcc 12.3.1

CentOS Stream 9
	Kernel: 5.4.0-167-generic
	Compiler: gcc 11.4.1 20230605

Fedora 39
	Kernel: Depends on container host
	Compiler: gcc 13.2.1

Fedora 38
	Kernel: Depends on container host
	Compiler: gcc 13.2.1

To view detailed results, visit:
https://lab.dpdk.org/results/dashboard/patchsets/29665/

UNH-IOL DPDK Community Lab

To manage your email subscriptions, visit: 
https://lab.dpdk.org/results/dashboard/preferences/subscriptions/