From mboxrd@z Thu Jan  1 00:00:00 1970
Return-Path: <test-report-bounces@dpdk.org>
Received: from mails.dpdk.org (mails.dpdk.org [217.70.189.124])
	by inbox.dpdk.org (Postfix) with ESMTP id 91F3843CF0
	for <public@inbox.dpdk.org>; Wed, 27 Mar 2024 18:41:16 +0100 (CET)
Received: from mails.dpdk.org (localhost [127.0.0.1])
	by mails.dpdk.org (Postfix) with ESMTP id 8B5D2410E6;
	Wed, 27 Mar 2024 18:41:16 +0100 (CET)
Received: from mail-il1-f225.google.com (mail-il1-f225.google.com
 [209.85.166.225])
 by mails.dpdk.org (Postfix) with ESMTP id A0EA4402A3
 for <test-report@dpdk.org>; Wed, 27 Mar 2024 18:41:04 +0100 (CET)
Received: by mail-il1-f225.google.com with SMTP id
 e9e14a558f8ab-368964be001so93375ab.0
 for <test-report@dpdk.org>; Wed, 27 Mar 2024 10:41:04 -0700 (PDT)
DKIM-Signature: v=1; a=rsa-sha256; c=relaxed/relaxed;
 d=iol.unh.edu; s=unh-iol; t=1711561264; x=1712166064; darn=dpdk.org;
 h=references:in-reply-to:cc:to:from:subject:message-id:date:from:to
 :cc:subject:date:message-id:reply-to;
 bh=PayWbU5xFr/9x0umRA66znQQwXHaVqS6bQcuxc7jiRY=;
 b=eKh9XIricYaQYyxqkd9hOY7HirBgQvb5DN9zoj0gAh1mEcOhLFJWRz45HhLIffvmkO
 Gc6R6rZwcOeY1UBwHRbx8hvGVVmg6USMA4qbsBR2Es4OR/RJX3ikbcSeZbFbYnqHYD6T
 NSHFUrcsqitg2ZKpiVb+J/Ls7VwaPJUIIo760=
X-Google-DKIM-Signature: v=1; a=rsa-sha256; c=relaxed/relaxed;
 d=1e100.net; s=20230601; t=1711561264; x=1712166064;
 h=references:in-reply-to:cc:to:from:subject:message-id:date
 :x-gm-message-state:from:to:cc:subject:date:message-id:reply-to;
 bh=PayWbU5xFr/9x0umRA66znQQwXHaVqS6bQcuxc7jiRY=;
 b=HFhj6+UDKsCY4kz7kk9o+zLpRhW0uHpaoS6AsCZK8VfdvDPUCx/d4JE+WJbkQNEKLf
 ZEMt0fEsKsr0dX0xIaD39GPJVX+UeeDab1EIVKi8iLT7OCuXRf8+J4buyg70Ow8wzPFX
 8YgYjsdiXQ8Btz/8RYADC0/DZXSHdK6UccHgtVTyBMXQjwqmWM3pCNQNIBUlM+PfbXoZ
 66ur7Jk8X7qSDKrjyyrgskqFHYA9DFmEMTUNtcVnmfbIHmQ9IW99z3ZU1qOZE0WEaj+J
 JCv64SoAWvfMEMln5KiBMiA0TXpgiO/LL94b/YHfKi0ylYNJKQcozaIhY7YWdK7fIyTH
 6sEQ==
X-Gm-Message-State: AOJu0YzZZc6pMqLlaKGcg65ZQ4976qa67oeN+SRHDtPe4mcZqBuXTdq/
 fI7E2lfgLelG0jPgrKZptv6j2MdObUAEwGNryEzt/9okBbeNbzLEcM426IuZX/tIAGZ6zJPlhmL
 LONOuYTIkdEnS8qDiA6RyYGb3GUFmsMFtPdO1sM8q
X-Google-Smtp-Source: AGHT+IFbnwn/YHYOPaIH6Ghqiv7qJJSaN8ejTuUoWOZJ+yz0heM61G9KSoUjKUlefr80eLEnhh78Ws41O1Ju
X-Received: by 2002:a05:6e02:1088:b0:368:5172:17a6 with SMTP id
 r8-20020a056e02108800b00368517217a6mr97373ilj.8.1711561264064; 
 Wed, 27 Mar 2024 10:41:04 -0700 (PDT)
Received: from postal.iol.unh.edu (postal.iol.unh.edu. [132.177.123.84])
 by smtp-relay.gmail.com with ESMTPS id
 g8-20020a056e021e0800b003657b719be4sm347715ila.26.2024.03.27.10.41.03
 (version=TLS1_2 cipher=ECDHE-ECDSA-AES128-GCM-SHA256 bits=128/128);
 Wed, 27 Mar 2024 10:41:04 -0700 (PDT)
X-Relaying-Domain: iol.unh.edu
Date: Wed, 27 Mar 2024 10:41:04 -0700 (PDT)
Message-ID: <66045a30.050a0220.462d8.0c1fSMTPIN_ADDED_MISSING@mx.google.com>
Received: from [172.21.0.8] (unknown [172.18.0.240])
 by postal.iol.unh.edu (Postfix) with ESMTP id 8AF9F6052471;
 Wed, 27 Mar 2024 13:41:03 -0400 (EDT)
Subject: |SUCCESS| pw138857-138871 [PATCH] [v16,15/15] log: colorize log outp
From: dpdklab@iol.unh.edu
To: Test Report <test-report@dpdk.org>
Cc: dpdk-test-reports@iol.unh.edu
In-Reply-To: <20240327164726.68732-16-stephen@networkplumber.org>
References: <20240327164726.68732-16-stephen@networkplumber.org>
Content-Type: text/plain
X-BeenThere: test-report@dpdk.org
X-Mailman-Version: 2.1.29
Precedence: list
List-Id: automatic DPDK test reports <test-report.dpdk.org>
List-Unsubscribe: <https://mails.dpdk.org/options/test-report>,
 <mailto:test-report-request@dpdk.org?subject=unsubscribe>
List-Archive: <http://mails.dpdk.org/archives/test-report/>
List-Post: <mailto:test-report@dpdk.org>
List-Help: <mailto:test-report-request@dpdk.org?subject=help>
List-Subscribe: <https://mails.dpdk.org/listinfo/test-report>,
 <mailto:test-report-request@dpdk.org?subject=subscribe>
Errors-To: test-report-bounces@dpdk.org

Test-Label: iol-abi-testing
Test-Status: SUCCESS
http://dpdk.org/patch/138871

_Testing PASS_

Submitter: Stephen Hemminger <stephen@networkplumber.org>
Date: Wednesday, March 27 2024 16:45:33 
DPDK git baseline: Repo:dpdk
  Branch: master
  CommitID:ded4d4765171b88470e59307f10625e942f22fca

138857-138871 --> testing pass

Test environment and result as below:

+------------------+----------+
|   Environment    | abi_test |
+==================+==========+
| Fedora 38        | PASS     |
+------------------+----------+
| Fedora 39        | PASS     |
+------------------+----------+
| openSUSE Leap 15 | PASS     |
+------------------+----------+
| Ubuntu 22.04     | PASS     |
+------------------+----------+
| CentOS Stream 8  | PASS     |
+------------------+----------+
| Debian Bullseye  | PASS     |
+------------------+----------+
| CentOS Stream 9  | PASS     |
+------------------+----------+
| Debian 11 (arm)  | PASS     |
+------------------+----------+


Fedora 38
	Kernel: Depends on container host
	Compiler: gcc 13.2.1

Fedora 39
	Kernel: Depends on container host
	Compiler: gcc 13.2.1

openSUSE Leap 15
	Kernel: 5.4.0-167-generic
	Compiler: gcc 7.5.0

Ubuntu 22.04
	Kernel: 5.4.0-167-generic
	Compiler: gcc 11.4.0

CentOS Stream 8
	Kernel: 5.4.0-167-generic
	Compiler: gcc 8.5.0 20210514

Debian Bullseye
	Kernel: 5.4.0-167-generic
	Compiler: gcc 10.2.1-6

CentOS Stream 9
	Kernel: 5.4.0-167-generic
	Compiler: gcc 11.4.1 20230605

Debian 11 (arm)
	Kernel: Container Host Kernel
	Compiler: gcc 10.2.1

To view detailed results, visit:
https://lab.dpdk.org/results/dashboard/patchsets/29667/

UNH-IOL DPDK Community Lab

To manage your email subscriptions, visit: 
https://lab.dpdk.org/results/dashboard/preferences/subscriptions/